BEGIN:VCALENDAR
VERSION:2.0
PRODID:-//Enneagramm der mündlichen Tradition  EMT e.V. - ECPv6.15.20//NONSGML v1.0//EN
CALSCALE:GREGORIAN
METHOD:PUBLISH
X-ORIGINAL-URL:https://enneagramm-lehrer.de
X-WR-CALDESC:Veranstaltungen für Enneagramm der mündlichen Tradition  EMT e.V.
REFRESH-INTERVAL;VALUE=DURATION:PT1H
X-Robots-Tag:noindex
X-PUBLISHED-TTL:PT1H
BEGIN:VTIMEZONE
TZID:Europe/Berlin
BEGIN:DAYLIGHT
TZOFFSETFROM:+0100
TZOFFSETTO:+0200
TZNAME:CEST
DTSTART:20240331T010000
END:DAYLIGHT
BEGIN:STANDARD
TZOFFSETFROM:+0200
TZOFFSETTO:+0100
TZNAME:CET
DTSTART:20241027T010000
END:STANDARD
BEGIN:DAYLIGHT
TZOFFSETFROM:+0100
TZOFFSETTO:+0200
TZNAME:CEST
DTSTART:20250330T010000
END:DAYLIGHT
BEGIN:STANDARD
TZOFFSETFROM:+0200
TZOFFSETTO:+0100
TZNAME:CET
DTSTART:20251026T010000
END:STANDARD
BEGIN:DAYLIGHT
TZOFFSETFROM:+0100
TZOFFSETTO:+0200
TZNAME:CEST
DTSTART:20260329T010000
END:DAYLIGHT
BEGIN:STANDARD
TZOFFSETFROM:+0200
TZOFFSETTO:+0100
TZNAME:CET
DTSTART:20261025T010000
END:STANDARD
END:VTIMEZONE
BEGIN:VEVENT
DTSTART;TZID=Europe/Berlin:20251001T180000
DTEND;TZID=Europe/Berlin:20251005T130000
DTSTAMP:20260421T133109
CREATED:20250628T080032Z
LAST-MODIFIED:20250628T080032Z
UID:10000230-1759341600-1759669200@enneagramm-lehrer.de
SUMMARY:Das Enneagramm weitergeben (Trainer-Fortbildung ÖAE)
DESCRIPTION:Das Seminar richtet sich an ausgebildete Enneagramm-TrainerInnen\, die ihre Kenntnisse vertiefen oder auffrischen wollen und an einem Erfahrungsaustausch mit KollegInnen interessiert sind.\nSeminarinhalte sind u.a.:\n– Verschiedene Vorgehensweisen bei der Gestaltung von Einführungs- und Vertiefungskursen\, z. B. nach der klassischen und der mündlichen Tradition\n– „Perlen teilen“ (Bewährte Übungen\, Geschichten und sonstige Elemente für die Seminargestaltung)\n– Erfahrungsaustausch in der Weitergabe des Enneagramms (eigene Erfahrungen der Teilnehmer\, Möglichkeiten und Grenzen der Zielerreichung\, Umgang mit verschiedenen\, auch herausfordernden Situationen\, u.a.)\n– Reflexion der Rolle als Trainer/in (Motivation\, innere Haltung\, eigenes Profil\, Wirkung u.a.)
URL:https://enneagramm-lehrer.de/event/das-enneagramm-weitergeben-trainer-fortbildung-oeae/
LOCATION:Begegnungsstätte Schloss Craheim\, Craheim 1\, Stadtlauringen\, Bayern\, 97488
CATEGORIES:::: sonstige Veranstaltungen :::
ATTACH;FMTTYPE=image/jpeg:https://enneagramm-lehrer.de/wp-content/uploads/Schloss-Craheim-Frontseite-mit-Schlossgarten-400x284-1.jpg
END:VEVENT
END:VCALENDAR