BEGIN:VCALENDAR
VERSION:2.0
PRODID:-//Enneagramm der mündlichen Tradition  EMT e.V. - ECPv6.15.20//NONSGML v1.0//EN
CALSCALE:GREGORIAN
METHOD:PUBLISH
X-WR-CALNAME:Enneagramm der mündlichen Tradition  EMT e.V.
X-ORIGINAL-URL:https://enneagramm-lehrer.de
X-WR-CALDESC:Veranstaltungen für Enneagramm der mündlichen Tradition  EMT e.V.
REFRESH-INTERVAL;VALUE=DURATION:PT1H
X-Robots-Tag:noindex
X-PUBLISHED-TTL:PT1H
BEGIN:VTIMEZONE
TZID:Europe/Berlin
BEGIN:DAYLIGHT
TZOFFSETFROM:+0100
TZOFFSETTO:+0200
TZNAME:CEST
DTSTART:20220327T010000
END:DAYLIGHT
BEGIN:STANDARD
TZOFFSETFROM:+0200
TZOFFSETTO:+0100
TZNAME:CET
DTSTART:20221030T010000
END:STANDARD
BEGIN:DAYLIGHT
TZOFFSETFROM:+0100
TZOFFSETTO:+0200
TZNAME:CEST
DTSTART:20230326T010000
END:DAYLIGHT
BEGIN:STANDARD
TZOFFSETFROM:+0200
TZOFFSETTO:+0100
TZNAME:CET
DTSTART:20231029T010000
END:STANDARD
BEGIN:DAYLIGHT
TZOFFSETFROM:+0100
TZOFFSETTO:+0200
TZNAME:CEST
DTSTART:20240331T010000
END:DAYLIGHT
BEGIN:STANDARD
TZOFFSETFROM:+0200
TZOFFSETTO:+0100
TZNAME:CET
DTSTART:20241027T010000
END:STANDARD
END:VTIMEZONE
BEGIN:VEVENT
DTSTART;TZID=Europe/Berlin:20231125T100000
DTEND;TZID=Europe/Berlin:20231125T183000
DTSTAMP:20260421T131508
CREATED:20231101T164637Z
LAST-MODIFIED:20231101T165542Z
UID:10000116-1700906400-1700937000@enneagramm-lehrer.de
SUMMARY:Wie tickt Enneagramm Typ 9? Wie ticke ich?
DESCRIPTION:Das Enneagrammseminar „Wie tickt Typ 9? – Wie ticke ich?“ gewährt einen tiefen Einblick in die Welt der Menschen von Enneagrammtyp 9 mit deren Motiven\, Bedürfnissen sowie ihrer Art\, zu denken\, zu fühlen und zu handeln. Idealerweise verhilft die Teilnahme zu einem tieferen Verständnis und mehr Wertschätzung für die Unterschiedlichkeit menschlichen Seins. \nMehr Infos und weitere Veranstaltungen
URL:https://enneagramm-lehrer.de/event/wie-tickt-enneagramm-typ-9-wie-ticke-ich/
LOCATION:Restaurant Café Am Bottloch – Wiesloch-Frauenweiler\, Zeisigweg 3\, 68168
CATEGORIES:::: sonstige Veranstaltungen :::
ATTACH;FMTTYPE=image/jpeg:https://enneagramm-lehrer.de/wp-content/uploads/wie-tickt-enneagramm-typ-9.jpeg
END:VEVENT
BEGIN:VEVENT
DTSTART;VALUE=DATE:20231112
DTEND;VALUE=DATE:20231116
DTSTAMP:20260421T131508
CREATED:20230628T135259Z
LAST-MODIFIED:20231031T102533Z
UID:10000096-1699747200-1700092799@enneagramm-lehrer.de
SUMMARY:Persönlichkeit als Sprungbrett spiritueller Entwicklung – Enneagramm Vertiefung am Benediktushof – 2023
DESCRIPTION:In der Enneagramm Vertiefung am Benediktushof geht es um die spirituelle Dimension des Enneagramms. \nDas Enneagramm ist eines der tiefgründigsten Modelle\, mit dem man Persönlichkeit verstehen kann. Als psychologisches Modell beschreibt es unterschiedliche Persönlichkeitsstile und deren Strukturen und macht so Unterschiede erklärbar und psychologisches Wachstum möglich. Als spirituelles Modell gibt es\, mit den so genannten „Heiligen Ideen“\, Hinweise auf objektive Sichtweisen der Realität. Ein mögliches Ziel der spirituellen Arbeit mit dem Enneagramm ist es\, Zugänge zu diesen Sichtweisen zu schaffen und mit dem in Kontakt zu treten\, was jenseits der Typstruktur liegt. Je öfter wir dort verweilen\, umso mehr kann sich die Identität vom Persönlichen hin zum Universalen verschieben. Der Benediktushof bietet einen wunderbaren Rahmen für solche inneren Prozesse und für die Reise zu sich selbst. \nMehr Infos und weitere Veranstaltungen
URL:https://enneagramm-lehrer.de/event/enneagramm-intensiv-einfuehrung-am-benediktushof/
LOCATION:Benediktushof\, Klosterstr. 10\, Holzkirchen\, 97292
CATEGORIES:::: sonstige Veranstaltungen :::
ATTACH;FMTTYPE=image/jpeg:https://enneagramm-lehrer.de/wp-content/uploads/enneagramm-vertiefung-am-benediktushof.jpeg
END:VEVENT
BEGIN:VEVENT
DTSTART;TZID=Europe/Berlin:20230715T100000
DTEND;TZID=Europe/Berlin:20230715T183000
DTSTAMP:20260421T131508
CREATED:20230628T132106Z
LAST-MODIFIED:20230705T072822Z
UID:10000095-1689415200-1689445800@enneagramm-lehrer.de
SUMMARY:Wie tickt Enneagramm Typ 7? Wie ticke ich?
DESCRIPTION:Das Enneagrammseminar „Wie tickt Typ 7? – Wie ticke ich?“ gewährt einen tiefen Einblick in die Welt der Menschen von Enneagrammtyp 7 mit deren Motiven\, Bedürfnissen sowie ihrer Art\, zu denken\, zu fühlen und zu handeln. \nLink zur Veranstaltung:„mehr Infos zu dieser Veranstaltung“
URL:https://enneagramm-lehrer.de/event/wie-tickt-enneagramm-typ-7-wie-ticke-ich/
LOCATION:Restaurant Café Am Bottloch – Wiesloch-Frauenweiler\, Zeisigweg 3\, 68168
CATEGORIES:::: sonstige Veranstaltungen :::
ATTACH;FMTTYPE=image/jpeg:https://enneagramm-lehrer.de/wp-content/uploads/xenia-pompe-enneagrammlehrerin-1.jpg
END:VEVENT
END:VCALENDAR