BEGIN:VCALENDAR
VERSION:2.0
PRODID:-//Enneagramm der mündlichen Tradition  EMT e.V. - ECPv6.15.20//NONSGML v1.0//EN
CALSCALE:GREGORIAN
METHOD:PUBLISH
X-ORIGINAL-URL:https://enneagramm-lehrer.de
X-WR-CALDESC:Veranstaltungen für Enneagramm der mündlichen Tradition  EMT e.V.
REFRESH-INTERVAL;VALUE=DURATION:PT1H
X-Robots-Tag:noindex
X-PUBLISHED-TTL:PT1H
BEGIN:VTIMEZONE
TZID:Europe/Berlin
BEGIN:DAYLIGHT
TZOFFSETFROM:+0100
TZOFFSETTO:+0200
TZNAME:CEST
DTSTART:20230326T010000
END:DAYLIGHT
BEGIN:STANDARD
TZOFFSETFROM:+0200
TZOFFSETTO:+0100
TZNAME:CET
DTSTART:20231029T010000
END:STANDARD
BEGIN:DAYLIGHT
TZOFFSETFROM:+0100
TZOFFSETTO:+0200
TZNAME:CEST
DTSTART:20240331T010000
END:DAYLIGHT
BEGIN:STANDARD
TZOFFSETFROM:+0200
TZOFFSETTO:+0100
TZNAME:CET
DTSTART:20241027T010000
END:STANDARD
BEGIN:DAYLIGHT
TZOFFSETFROM:+0100
TZOFFSETTO:+0200
TZNAME:CEST
DTSTART:20250330T010000
END:DAYLIGHT
BEGIN:STANDARD
TZOFFSETFROM:+0200
TZOFFSETTO:+0100
TZNAME:CET
DTSTART:20251026T010000
END:STANDARD
BEGIN:DAYLIGHT
TZOFFSETFROM:+0100
TZOFFSETTO:+0200
TZNAME:CEST
DTSTART:20260329T010000
END:DAYLIGHT
BEGIN:STANDARD
TZOFFSETFROM:+0200
TZOFFSETTO:+0100
TZNAME:CET
DTSTART:20261025T010000
END:STANDARD
END:VTIMEZONE
BEGIN:VEVENT
DTSTART;TZID=Europe/Berlin:20250627T170000
DTEND;TZID=Europe/Berlin:20250629T160000
DTSTAMP:20260421T131646
CREATED:20250512T140052Z
LAST-MODIFIED:20250626T175541Z
UID:10000223-1751043600-1751212800@enneagramm-lehrer.de
SUMMARY:Familienaufstellung mit Chaitanya
DESCRIPTION:Wir laden dich herzlich ein zu einem besonderen Wochenende der Selbsterfahrung und Heilung durch Familienaufstellung – geleitet von Chaitanya\, einem erfahrenen und empathischen Aufsteller mit tiefer Intuition und langjähriger Praxis. Chaitanya ist Kursleiter bei Yoga Vidya und bringt neben seiner Präsenz auch die Fähigkeit mit\, überraschende Einsichten in familiäre Dynamiken zu ermöglichen. \nOrt: Evangelisches Tagungszentrum Bernhäuser Forst\, im idyllischen Stetten bei Echterdingen – gut erreichbar mit öffentlichen Verkehrsmitteln oder Auto (ausreichend kostenlose Parkplätze vorhanden). \nBeginn: Freitag\, 27.06.2025 um 17:00 UhrEnde: Sonntag\, 29.06.2025 um 16:00 Uhr \nKosten:Die Kursgebühr umfasst die Teilnahme am Seminar sowie Vollverpflegung (Hauptmahlzeiten & Pausen mit Kaffee/Tee). \nDu kannst zwischen drei Optionen wählen:1. Heimschläfer (ohne Übernachtung): 260 €2. Einzelzimmer inkl. Frühstück: 432 €3. Doppelzimmer inkl. Frühstück (Einzelbetten): 368 €– Bitte bei der Anmeldung den gewünschten Zimmernachbar bzw. die gewünschte Zimmernachbarin angeben\, falls zutreffend. \nTeilnehmerzahl: 8 bis 14 Personen. Es sind 9 Zimmer für unsere Gruppe reserviert. \nWichtiger Hinweis:Sollten sich bis zum 08.06.2025 weniger als 8 Teilnehmer*innen verbindlich angemeldet haben\, kann der Kurs leider nicht stattfinden. Die Anmeldung gilt erst mit vollständiger Zahlung als verbindlich. \nOrganisation & Anmeldung:Organisiert wird die Familienaufstellung von Monika und Daniel.Anmeldungen bitte per E-Mail an: daniel@mein-enneagramm-coach.de \nWir freuen uns auf ein intensives\, klärendes Wochenende mit dir!
URL:https://enneagramm-lehrer.de/event/familienaufstellung-mit-chaitanya/
LOCATION:Ev. Tagungsstätte Bernhäuser Forst\, Dr.-Manfred-Müller-Straße 4\, Filderstadt\, 70794\, Germany
CATEGORIES:::: sonstige Veranstaltungen :::
ATTACH;FMTTYPE=image/jpeg:https://enneagramm-lehrer.de/wp-content/uploads/Familienaufstellung-Bild.jpg
END:VEVENT
BEGIN:VEVENT
DTSTART;TZID=Europe/Berlin:20240712T180000
DTEND;TZID=Europe/Berlin:20240714T160000
DTSTAMP:20260421T131646
CREATED:20240506T104002Z
LAST-MODIFIED:20240509T141321Z
UID:10000158-1720807200-1720972800@enneagramm-lehrer.de
SUMMARY:Natu[Re]Treat II
DESCRIPTION:Hast du das Gefühl\, dass es im Leben doch mehr geben muss als den stressigen Alltag? Was ist aus der kindlichen Leichtigkeit und Herzlichkeit geworden? Fühlst du dich überlastet\, während die Schönheit der Welt eine bloße Erinnerung ist? \nDu bist nicht allein – Viele teilen die Sehnsucht nach mehr Leichtigkeit und Verbundenheit. Unsere Vision ist es\, Menschen zu helfen\, die Verbindung mit sich selbst und der Natur wiederzuentdecken. \nWir – Sebastian\, Monika und Daniel – haben ähnliche Erfahrungen gemacht. Jeder auf seine Art\, aber am Ende verbindet uns die Liebe zur Natur und das Interesse an innerem Wachstum. Dabei haben wir wertvolle Erfahrungen gesammelt\, die wir gerne mit euch teilen möchten. \nBeim Retreat erwarten dich unter anderem: \n\nAktivitäten draußen in der Natur.\nÜbungen zur Achtsamkeit und Innenschau.\nInspiration durch neues Wissen und Perspektiven über das Enneagramm\nEntspannung für Körper & Geist: Yoga\, Meditation\, Atemübungen.\n\nDabei schöpfen wir aus unseren 3 Jahren Erfahrung und Qualifikationen. \n         \nOrganisatorisches \n\nWir streben eine Gruppengröße von 13-15 Personen an\nDie Mindestteilnehmerzahl ist 10 \n\nBei weniger Anmeldungen bis zum 17.06.2024 behalten wir uns eine Absage vor.\nIn dem Fall bekommt ihr natürlich euer Geld zurück.\nKurssprache: Deutsch. Im Einzelgespräch auch gern Englisch.\n\nUnterkunftGresgen 40\, 79669 Zell im Wiesental  \nVoraussetzungen:Offenheit für Selbstbeobachtung.„Normale Fitness“ (2-3 Stunden in der Natur auf Waldwegen mittlerer Steigung gehen können). \n\n\n \n \n \n			\n				Hier geht es zur Anmeldung
URL:https://enneagramm-lehrer.de/event/naturetreat-ii/
LOCATION:Hofgut LEO\, Gresgen 40\, Zell im Wiesental\, 79669
CATEGORIES:::: sonstige Veranstaltungen :::
ATTACH;FMTTYPE=image/jpeg:https://enneagramm-lehrer.de/wp-content/uploads/Retreat.jpeg
END:VEVENT
BEGIN:VEVENT
DTSTART;TZID=Europe/Berlin:20240621T180000
DTEND;TZID=Europe/Berlin:20240623T160000
DTSTAMP:20260421T131646
CREATED:20240506T095110Z
LAST-MODIFIED:20240507T172545Z
UID:10000157-1718992800-1719158400@enneagramm-lehrer.de
SUMMARY:Natu[Re]Treat I
DESCRIPTION:Hast du das Gefühl\, dass es im Leben doch mehr geben muss als den stressigen Alltag? Was ist aus der kindlichen Leichtigkeit und Herzlichkeit geworden? Fühlst du dich überlastet\, während die Schönheit der Welt eine bloße Erinnerung ist? \nDu bist nicht allein – Viele teilen die Sehnsucht nach mehr Leichtigkeit und Verbundenheit. Unsere Vision ist es\, Menschen zu helfen\, die Verbindung mit sich selbst und der Natur wiederzuentdecken. \nWir – Sebastian\, Monika und Daniel – haben ähnliche Erfahrungen gemacht. Jeder auf seine Art\, aber am Ende verbindet uns die Liebe zur Natur und das Interesse an innerem Wachstum. Dabei haben wir wertvolle Erfahrungen gesammelt\, die wir gerne mit euch teilen möchten. \nBeim Retreat erwarten dich unter anderem: \n\nAktivitäten draußen in der Natur.\nÜbungen zur Achtsamkeit und Innenschau.\nInspiration durch neues Wissen und Perspektiven über das Enneagramm\nEntspannung für Körper & Geist: Yoga\, Meditation\, Atemübungen.\n\nDabei schöpfen wir aus unseren 3 Jahren Erfahrung und Qualifikationen. \n         \nOrganisatorisches \n\nWir streben eine Gruppengröße von 13-15 Personen an\nDie Mindestteilnehmerzahl ist 10\n\nBei weniger Anmeldungen bis zum 16.05.2024 behalten wir uns eine Absage vor.\nIn dem Fall bekommt ihr natürlich euer Geld zurück.\n\n\nKurssprache: Deutsch. Im Einzelgespräch auch gern Englisch.\n\nUnterkunftBerghotel ’s JägermattAm Seebuck 1\, 79868 Feldberg (Schwarzwald)Die Unterbringung erfolgt in Einzelzimmern. \nVoraussetzungen: \n\nOffenheit für Selbstbeobachtung.\n„Normale Fitness“ (2-3 Stunden in der Natur auf Waldwegen mittlerer Steigung).\n\n			\n				Hier geht es zur Anmeldung
URL:https://enneagramm-lehrer.de/event/naturetreat-i/
LOCATION:Berghotel  ’s Jägermatt\, Am Seebuck 1\, Feldberg (Schwarzwald)\, 79868
CATEGORIES:::: sonstige Veranstaltungen :::
ATTACH;FMTTYPE=image/jpeg:https://enneagramm-lehrer.de/wp-content/uploads/Retreat.jpeg
END:VEVENT
END:VCALENDAR