BEGIN:VCALENDAR
VERSION:2.0
PRODID:-//Enneagramm der mündlichen Tradition  EMT e.V. - ECPv6.15.20//NONSGML v1.0//EN
CALSCALE:GREGORIAN
METHOD:PUBLISH
X-WR-CALNAME:Enneagramm der mündlichen Tradition  EMT e.V.
X-ORIGINAL-URL:https://enneagramm-lehrer.de
X-WR-CALDESC:Veranstaltungen für Enneagramm der mündlichen Tradition  EMT e.V.
REFRESH-INTERVAL;VALUE=DURATION:PT1H
X-Robots-Tag:noindex
X-PUBLISHED-TTL:PT1H
BEGIN:VTIMEZONE
TZID:Europe/Berlin
BEGIN:DAYLIGHT
TZOFFSETFROM:+0100
TZOFFSETTO:+0200
TZNAME:CEST
DTSTART:20250330T010000
END:DAYLIGHT
BEGIN:STANDARD
TZOFFSETFROM:+0200
TZOFFSETTO:+0100
TZNAME:CET
DTSTART:20251026T010000
END:STANDARD
BEGIN:DAYLIGHT
TZOFFSETFROM:+0100
TZOFFSETTO:+0200
TZNAME:CEST
DTSTART:20260329T010000
END:DAYLIGHT
BEGIN:STANDARD
TZOFFSETFROM:+0200
TZOFFSETTO:+0100
TZNAME:CET
DTSTART:20261025T010000
END:STANDARD
BEGIN:DAYLIGHT
TZOFFSETFROM:+0100
TZOFFSETTO:+0200
TZNAME:CEST
DTSTART:20270328T010000
END:DAYLIGHT
BEGIN:STANDARD
TZOFFSETFROM:+0200
TZOFFSETTO:+0100
TZNAME:CET
DTSTART:20271031T010000
END:STANDARD
END:VTIMEZONE
BEGIN:VEVENT
DTSTART;TZID=Europe/Berlin:20261210T183000
DTEND;TZID=Europe/Berlin:20261210T200000
DTSTAMP:20260422T011302
CREATED:20260421T192123Z
LAST-MODIFIED:20260421T192123Z
UID:10000260-1796927400-1796932800@enneagramm-lehrer.de
SUMMARY:Kostenlose Enneagramm-Einführung (online) im Dezember
DESCRIPTION:Dein erster Einblick in die 9 Enneagramm-Persönlichkeitstypen \nEntdecke die Welt des Enneagramms – ein faszinierendes Modell der neun Persönlichkeitstypen. In diesem kostenlosen Onlinekurs bekommst du einen kompakten Überblick über die Typen\, ihre Motivation\, Grundbedürfnisse und die drei Intelligenzzentren. Mit kurzen Selbstreflexionen kannst du direkt erste Eindrücke von dir selbst gewinnen. \n– Dauer: ca. 1–1\,5 Stunden\n– Keine Vorkenntnisse nötig\n– Perfekte Vorbereitung für unsere vertiefenden Präsenzseminare \nJetzt anmelden und den ersten Schritt zu mehr Selbsterkenntnis und persönlicher Entwicklung machen! \n			\n				Mehr Details und Anmeldung
URL:https://enneagramm-lehrer.de/event/kostenlose-enneagramm-einfuehrung-online-im-dezember/
LOCATION:online
CATEGORIES::: Veranstaltungen der Akademie ::
ATTACH;FMTTYPE=image/jpeg:https://enneagramm-lehrer.de/wp-content/uploads/EA-Einfuehrung-e1707602045528.jpg
END:VEVENT
END:VCALENDAR