BEGIN:VCALENDAR
VERSION:2.0
PRODID:-//Enneagramm der mündlichen Tradition  EMT e.V. - ECPv6.15.20//NONSGML v1.0//EN
CALSCALE:GREGORIAN
METHOD:PUBLISH
X-ORIGINAL-URL:https://enneagramm-lehrer.de
X-WR-CALDESC:Veranstaltungen für Enneagramm der mündlichen Tradition  EMT e.V.
REFRESH-INTERVAL;VALUE=DURATION:PT1H
X-Robots-Tag:noindex
X-PUBLISHED-TTL:PT1H
BEGIN:VTIMEZONE
TZID:Europe/Berlin
BEGIN:DAYLIGHT
TZOFFSETFROM:+0100
TZOFFSETTO:+0200
TZNAME:CEST
DTSTART:20240331T010000
END:DAYLIGHT
BEGIN:STANDARD
TZOFFSETFROM:+0200
TZOFFSETTO:+0100
TZNAME:CET
DTSTART:20241027T010000
END:STANDARD
BEGIN:DAYLIGHT
TZOFFSETFROM:+0100
TZOFFSETTO:+0200
TZNAME:CEST
DTSTART:20250330T010000
END:DAYLIGHT
BEGIN:STANDARD
TZOFFSETFROM:+0200
TZOFFSETTO:+0100
TZNAME:CET
DTSTART:20251026T010000
END:STANDARD
BEGIN:DAYLIGHT
TZOFFSETFROM:+0100
TZOFFSETTO:+0200
TZNAME:CEST
DTSTART:20260329T010000
END:DAYLIGHT
BEGIN:STANDARD
TZOFFSETFROM:+0200
TZOFFSETTO:+0100
TZNAME:CET
DTSTART:20261025T010000
END:STANDARD
END:VTIMEZONE
BEGIN:VEVENT
DTSTART;TZID=Europe/Berlin:20251031T173000
DTEND;TZID=Europe/Berlin:20251102T120000
DTSTAMP:20260421T210351
CREATED:20250729T164224Z
LAST-MODIFIED:20250729T164224Z
UID:10000232-1761931800-1762084800@enneagramm-lehrer.de
SUMMARY:„Grau ist alle Theorie - Das Enneagramm fühlbar erfahren im Kontext mit Deinem Alltag"
DESCRIPTION:Das Enneagramm ist ein Persönlichkeitsmodell\, das neun verschiedene verbundene\nCharaktertypen beschreibt. Es dient als Werkzeug sich Selbst und Andere besser zu\nverstehen. \nFür wen ist dieses Seminar geeignet?\nFür Menschen\, mit Vorkenntnissen zum Enneagramm und auch für Menschen\, die noch\nso gar nichts wissen\, aber es schon immer einmal wissen wollten.\nFür Dich\, wenn Du der Theorie eine praktische Erfahrung vorziehst. \nJedem Menschen ist die Fixierung seines Enneagramm-Typus zu eigen\, ob er das nun\nbewusst weiß und sich da zuordnen kann oder auch nicht; er erlebt sich ja in seinen\nEigenheiten. Heißt: Wir alle denken\, fühlen und handeln.\nWir alle erleben Zorn/Wut\, Angst/Panik und Schmerz/Trauer.\nWir alle sind manchmal zu sehr mit unserem Körper beschäftigt\, zu sehr im Kopf oder\nzu sehr im Gefühl oder eben auch so überhaupt gar nicht. \nIn diesem Erfahrungsworkshop geht es ums fühlende Erleben und dadurch eine\nErfahrung zu machen\, die tiefer geht als jedes Wissen Dich jemals führen könnte. \nDa ich die Methode der Aufstellungsarbeit nutze und Anliegen aus der Gruppe einbinde\,\noffenbaren sich bestimmte Überlebensstrategien\, die aus Deiner Fixierung hervorgehen\nund bekommen auf einmal einen tieferen Sinn.\nDa diese Methode lösungsorientiert ist\, ermöglicht sie ebenso – diese Strategien aus\nDeinem Leben zu entlassen und das was wahrhaftig ist\, endlich ins Wirken kommen zu\nlassen. \nVeranstalter: Ev.-Luth. Kirchengemeinde Gotha\nOrt: Augustinerkloster\, Jüdenstr. 27 \nBeginn: 31.10.25 um 17:30 Uhr\nEnde: 02.11.25 um 12:00 Uhr \nReferentin: Susanne Steuer (Enneagramm-Trainerin (Ausbildung bei Eli Jaxon Bear/\nAngewandte Methode der sytem. therap. Aufstellungsarbeit) \nKosten: 95 Euro (nur Bargeld möglich) │ohne Unterkunft mit\nVerpflegung (Freitag Abendessen\, Samstag Mittag- und\nAbendessen sowie Kaffee & Kuchen) \nAnmeldung: bis 20.10.2025 an Susann per eMail s-kiba@web.de\nInfos: nähere Info zur Referentin unter https://www.leichtleben.org/enneagramm-1/enneagramm/ \nZielgruppe: Alle Interessierten zum Enneagramm\, mind. 10 TN
URL:https://enneagramm-lehrer.de/event/grau-ist-alle-theorie-das-enneagramm-fuehlbar-erfahren-im-kontext-mit-deinem-alltag/
LOCATION:Augustinerkloster\, Jüdenstr. 27\, Gotha\, Germany
CATEGORIES:::: sonstige Veranstaltungen :::
ATTACH;FMTTYPE=image/jpeg:https://enneagramm-lehrer.de/wp-content/uploads/Familienaufstellung-Bild.jpg
END:VEVENT
BEGIN:VEVENT
DTSTART;VALUE=DATE:20251121
DTEND;VALUE=DATE:20251124
DTSTAMP:20260421T210351
CREATED:20250309T093651Z
LAST-MODIFIED:20250815T135027Z
UID:10000214-1763683200-1763942399@enneagramm-lehrer.de
SUMMARY:EMT Herbsttagung 2025
DESCRIPTION:Ich kann auch anders – 9 Enneagramm-Ressourcen\nmit Wally Kutscher\n			\n				\n				\n				\n				\n				Früher als Drohung autoritärer Erzieher verstanden\, ist der Spruch Ich kann auch anders heute und aus der Sicht des Enneagramms als Chance zu verstehen\, über unsere typspezifischen Fähigkeiten hinauszuwachsen. In diesem Seminar werden wir mit unterschiedlichen Zugängen die Ressourcen der anderen Enneagramm-Muster für uns selbst entdecken. \nVon der Ressource des eigenen Musters ausgehend beginnt die Entdeckungsreise zu den Flügeln mit der Frage\, wie weit die Flügel mit ihren positiven Qualitäten schon in die eigene Persönlichkeit integriert sind und was noch integriert werden will. \nWeiter geht es zur Beschäftigung mit dem sog. Trost- und Stresspunkt. Dabei betrachten wir den Stresspunkt vor allem mit seinem unentdeckten Entwicklungspotenzial\, das auch integriert werden will\, unsere Persönlichkeitsmerkmale erweitert und uns ebenso wie die Qualitäten des Trostpunktes beim inneren Wachstum unterstützt. \nUnsere Ressourcen-Arbeit mündet schließlich in die vertiefte Auseinandersetzung mit den drei Energie-Zentren. Es geht schwerpunktmäßig um den Zugang jedes Enneagramm-Typs zu allen drei Zentren mit der Frage\, welcher Typ des subdominanten und des dritten\, meist unterentwickelten Zentrums das eigene Muster in seinen Verhaltens- und Verteidigungsstrategien ergänzt. \nUnsere Entdeckungsreise findet nicht nur im Kopf und im Austausch in der Gruppe statt\, sondern es gibt während des Seminars auch und immer wieder die Möglichkeit\, die eigenen Entwicklungslinien und -wege zu erspüren. Das begehbare Enneagramm ist eine Methode dazu\, die ich für meine Kurse entwickelt habe. Das Begehen typspezifischer Entwicklungslinien setzt eine Selbsterfahrung „in Gang“\, die weit über die rein gedankliche Reflexion hinaus ein ganzheitliches Erleben und konkrete „Schritte“ auf dem persönlichen Entwicklungsweg ermöglicht. Mehr dazu auf meiner Homepage www.enneagramm-wallykutscher.de \n  \nWally KutscherStudium der Theologie und Germanistik\, Lehramt GymnasiumWeiterbildung in Themenzentrierter Interaktion und systemischer Beratung (Lisa von Stetten\, München) und Entspannungspädagogik (Wiblishauser Seminare\, München)Weiterbildung zur Enneagramm-Trainerin (WENT/ÖAE)Einführungs- und Aufbaukurse mit thematischen Schwerpunkten seit 2005 in verschiedenen BildungseinrichtungenMitarbeit in der Weiterbildung der Enneagramm-Trainer:innen beim ÖAE(Train-the-trainer-Kurse 2009 bis 2014 und WENT 2016 und 2018) \n  \n			\n				Hier geht's zur Anmeldung
URL:https://enneagramm-lehrer.de/event/emt-herbsttagung-2025/
LOCATION:Schulungszentrum Ritschweier\, Bergwaldstraße 41\, Weinheim-Ritschweier\, 69469
CATEGORIES:: Veranstaltungen EMT e.V. :
ATTACH;FMTTYPE=image/jpeg:https://enneagramm-lehrer.de/wp-content/uploads/wally-5-scaled.jpg
END:VEVENT
BEGIN:VEVENT
DTSTART;TZID=Europe/Berlin:20251128T180000
DTEND;TZID=Europe/Berlin:20251128T193000
DTSTAMP:20260421T210351
CREATED:20250803T120732Z
LAST-MODIFIED:20250803T121215Z
UID:10000233-1764352800-1764358200@enneagramm-lehrer.de
SUMMARY:Kostenlose Enneagramm-Einführung (online) im November 2025
DESCRIPTION:In dieser kostenlosen Einführung erfährst du Grundlegendes über das Enneagramm und kommst deinem eigenen Typ auf die Spur. \nDie Einführung wird online stattfinden. Die Zugangsdaten erhältst du nach der Anmeldung. Die Anmeldung kannst du direkt über den blauen Anmeldebutton vornehmen. \nInfos zur Einführung und Anmeldung: \nAnmeldung und Rückfragen per Mail an: hallo@enneagramm-akademie.com \n  \nDiese Online-Einführung wird durchgeführt von: \nMaren Menkens und Andrea Rossmar \n			\n				Hier geht es zur Anmeldung
URL:https://enneagramm-lehrer.de/event/kostenlose-enneagramm-einfuehrung-online-im-november-2025/
LOCATION:online
CATEGORIES::: Veranstaltungen der Akademie ::
ATTACH;FMTTYPE=image/jpeg:https://enneagramm-lehrer.de/wp-content/uploads/EA-Einfuehrung-e1707602045528.jpg
END:VEVENT
END:VCALENDAR