BEGIN:VCALENDAR
VERSION:2.0
PRODID:-//Enneagramm der mündlichen Tradition  EMT e.V. - ECPv6.15.20//NONSGML v1.0//EN
CALSCALE:GREGORIAN
METHOD:PUBLISH
X-ORIGINAL-URL:https://enneagramm-lehrer.de
X-WR-CALDESC:Veranstaltungen für Enneagramm der mündlichen Tradition  EMT e.V.
REFRESH-INTERVAL;VALUE=DURATION:PT1H
X-Robots-Tag:noindex
X-PUBLISHED-TTL:PT1H
BEGIN:VTIMEZONE
TZID:Europe/Berlin
BEGIN:DAYLIGHT
TZOFFSETFROM:+0100
TZOFFSETTO:+0200
TZNAME:CEST
DTSTART:20240331T010000
END:DAYLIGHT
BEGIN:STANDARD
TZOFFSETFROM:+0200
TZOFFSETTO:+0100
TZNAME:CET
DTSTART:20241027T010000
END:STANDARD
BEGIN:DAYLIGHT
TZOFFSETFROM:+0100
TZOFFSETTO:+0200
TZNAME:CEST
DTSTART:20250330T010000
END:DAYLIGHT
BEGIN:STANDARD
TZOFFSETFROM:+0200
TZOFFSETTO:+0100
TZNAME:CET
DTSTART:20251026T010000
END:STANDARD
BEGIN:DAYLIGHT
TZOFFSETFROM:+0100
TZOFFSETTO:+0200
TZNAME:CEST
DTSTART:20260329T010000
END:DAYLIGHT
BEGIN:STANDARD
TZOFFSETFROM:+0200
TZOFFSETTO:+0100
TZNAME:CET
DTSTART:20261025T010000
END:STANDARD
END:VTIMEZONE
BEGIN:VEVENT
DTSTART;TZID=Europe/Berlin:20250305T193000
DTEND;TZID=Europe/Berlin:20250305T210000
DTSTAMP:20260421T131122
CREATED:20250104T065221Z
LAST-MODIFIED:20250104T164948Z
UID:10000203-1741203000-1741208400@enneagramm-lehrer.de
SUMMARY:Entwicklungslinien - wie äußert sich Typ 3 im Stress- und Trostpunkt?
DESCRIPTION:Entwicklungslinien – Panel mit Vertretern von Typ 3 \nIn dieser Panel-Serie stellen wir den jeweiligen Enneagrammtyp vor und skizzieren das Konzept der „Entwicklungslinien“. Mit Vertretern des Ennegramm-Typs explorieren wir zunächst die Aspekte des Typs und schauen gemeinsam\, wie sie sich Richtung „Stresspunkt“ und „Trostpunkt“ in veränderter Form erleben. \nIn den Online-Panels gewähren Vertreter eines Enneagramm-Typs Einblicke in ihre (Typ-) spezifische Sichtweise auf das Thema. Somit lernen wir den Typ näher kennen und erlangen mehr Verständnis für die inneren Prozesse und äußeren Verhaltensweisen. \nMeldet euch gerne vorab zu dieser kostenfreien Online-Panelserie an\, ihr erhaltet dann den Zoom-Einwahllink. Es entsteht keine Verpflichtung zur Teilnahme an einzelnen Terminen. \nFür Rückfragen kannst du uns unter Hannah.Kuebel@Enneagramm-Akademie.com erreichen. \n			\n				Jetzt kostenfrei anmelden
URL:https://enneagramm-lehrer.de/event/panelserie-entwicklungslinien-typ-3/
LOCATION:online
CATEGORIES::: Veranstaltungen der Akademie ::
ATTACH;FMTTYPE=image/png:https://enneagramm-lehrer.de/wp-content/uploads/Foto-fuer-Kalender-Logo.jpg.png
END:VEVENT
BEGIN:VEVENT
DTSTART;TZID=Europe/Berlin:20250310T190000
DTEND;TZID=Europe/Berlin:20250310T203000
DTSTAMP:20260421T131123
CREATED:20241103T141235Z
LAST-MODIFIED:20250205T070226Z
UID:10000193-1741633200-1741638600@enneagramm-lehrer.de
SUMMARY:Kostenlose Enneagramm-Einführung (online) im März 2025
DESCRIPTION:In dieser kostenlosen Einführung erfährst du Grundlegendes über das Enneagramm und kommst deinem eigenen Typ auf die Spur. \nDie Einführung wird online stattfinden. Die Zugangsdaten erhältst du nach der Anmeldung. Die Anmeldung kannst du direkt über den blauen Anmeldebutton vornehmen. \nInfos zur Einführung und Anmeldung: \nAnmeldung und Rückfragen per Mail an: hallo@enneagramm-akademie.com \n  \nDiese Online-Einführung wird durchgeführt von: \nMaren Menkens und Daniel Roth \n			\n				Hier geht es zur Anmeldung
URL:https://enneagramm-lehrer.de/event/kostenlose-enneagramm-einfuehrung-online-im-maerz-2025/
CATEGORIES::: Veranstaltungen der Akademie ::
ATTACH;FMTTYPE=image/jpeg:https://enneagramm-lehrer.de/wp-content/uploads/EA-Einfuehrung-e1707602045528.jpg
END:VEVENT
END:VCALENDAR