BEGIN:VCALENDAR
VERSION:2.0
PRODID:-//Enneagramm der mündlichen Tradition  EMT e.V. - ECPv6.15.20//NONSGML v1.0//EN
CALSCALE:GREGORIAN
METHOD:PUBLISH
X-WR-CALNAME:Enneagramm der mündlichen Tradition  EMT e.V.
X-ORIGINAL-URL:https://enneagramm-lehrer.de
X-WR-CALDESC:Veranstaltungen für Enneagramm der mündlichen Tradition  EMT e.V.
REFRESH-INTERVAL;VALUE=DURATION:PT1H
X-Robots-Tag:noindex
X-PUBLISHED-TTL:PT1H
BEGIN:VTIMEZONE
TZID:Europe/Berlin
BEGIN:DAYLIGHT
TZOFFSETFROM:+0100
TZOFFSETTO:+0200
TZNAME:CEST
DTSTART:20230326T010000
END:DAYLIGHT
BEGIN:STANDARD
TZOFFSETFROM:+0200
TZOFFSETTO:+0100
TZNAME:CET
DTSTART:20231029T010000
END:STANDARD
BEGIN:DAYLIGHT
TZOFFSETFROM:+0100
TZOFFSETTO:+0200
TZNAME:CEST
DTSTART:20240331T010000
END:DAYLIGHT
BEGIN:STANDARD
TZOFFSETFROM:+0200
TZOFFSETTO:+0100
TZNAME:CET
DTSTART:20241027T010000
END:STANDARD
BEGIN:DAYLIGHT
TZOFFSETFROM:+0100
TZOFFSETTO:+0200
TZNAME:CEST
DTSTART:20250330T010000
END:DAYLIGHT
BEGIN:STANDARD
TZOFFSETFROM:+0200
TZOFFSETTO:+0100
TZNAME:CET
DTSTART:20251026T010000
END:STANDARD
END:VTIMEZONE
BEGIN:VEVENT
DTSTART;TZID=Europe/Berlin:20241201T150000
DTEND;TZID=Europe/Berlin:20241201T163000
DTSTAMP:20260421T175303
CREATED:20241103T134511Z
LAST-MODIFIED:20241130T072602Z
UID:10000192-1733065200-1733070600@enneagramm-lehrer.de
SUMMARY:Kostenlose Enneagramm-Einführung (online) im Dezember 2024
DESCRIPTION:In dieser kostenlosen Einführung erfahren Sie Grundlegendes über das Enneagramm und kommen Ihrem eigenen Typ auf die Spur. \nDie Einführung wird online stattfinden. Die Zugangsdaten erhalten Sie nach der Anmeldung. Die Anmeldung können Sie direkt über den blauen Anmeldebutton vornehmen. \nInfos zur Einführung und Anmeldung: \nAnmeldung und Rückfragen per Mail an: hallo@enneagramm-akademie.com \n  \nDiese Online-Einführung wird durchgeführt von: \nAndrea Rossmar und Daniel Roth \n			\n				Hier geht es zur Anmeldung
URL:https://enneagramm-lehrer.de/event/kostenlose-enneagramm-einfuehrung-online-im-dezember-2024/
CATEGORIES::: Veranstaltungen der Akademie ::
ATTACH;FMTTYPE=image/jpeg:https://enneagramm-lehrer.de/wp-content/uploads/EA-Einfuehrung-e1707602045528.jpg
END:VEVENT
BEGIN:VEVENT
DTSTART;TZID=Europe/Berlin:20241204T193000
DTEND;TZID=Europe/Berlin:20241204T210000
DTSTAMP:20260421T175303
CREATED:20241124T114223Z
LAST-MODIFIED:20241124T130917Z
UID:10000195-1733340600-1733346000@enneagramm-lehrer.de
SUMMARY:Etwas Neues entsteht – kreative Pause für die online Panelserie
DESCRIPTION:Liebe Enneagramm Interessierte und Panel-Fans\, \ndas Moderatoren-Team arbeitet hinter den Kulissen intensiv an einem frischen und spannenden Konzept für unsere kommenden Panels. Wir nutzen die Zeit bis Februar\, um neue Ideen zu entwickeln\, die euch begeistern und inspirieren werden! ✨💡 \nAb 5. Februar sind wir wieder mit einem vielfältigen Programm für euch da – wir freuen uns darauf\, euch bald mehr zu verraten. 🎭📚 \nVielen Dank für eure Geduld und eure Unterstützung. \nHerzliche Grüße\,Euer Moderatoren-Team \nFür Rückfragen oder Anregungen kannst du uns unter Hannah.Kuebel@Enneagramm-Akademie.com erreichen.
URL:https://enneagramm-lehrer.de/event/kreative-pause/
LOCATION:online
CATEGORIES::: Veranstaltungen der Akademie ::
ATTACH;FMTTYPE=image/png:https://enneagramm-lehrer.de/wp-content/uploads/Foto-fuer-Kalender-Logo.jpg.png
END:VEVENT
END:VCALENDAR