BEGIN:VCALENDAR
VERSION:2.0
PRODID:-//Enneagramm der mündlichen Tradition  EMT e.V. - ECPv6.15.20//NONSGML v1.0//EN
CALSCALE:GREGORIAN
METHOD:PUBLISH
X-ORIGINAL-URL:https://enneagramm-lehrer.de
X-WR-CALDESC:Veranstaltungen für Enneagramm der mündlichen Tradition  EMT e.V.
REFRESH-INTERVAL;VALUE=DURATION:PT1H
X-Robots-Tag:noindex
X-PUBLISHED-TTL:PT1H
BEGIN:VTIMEZONE
TZID:Europe/Berlin
BEGIN:DAYLIGHT
TZOFFSETFROM:+0100
TZOFFSETTO:+0200
TZNAME:CEST
DTSTART:20230326T010000
END:DAYLIGHT
BEGIN:STANDARD
TZOFFSETFROM:+0200
TZOFFSETTO:+0100
TZNAME:CET
DTSTART:20231029T010000
END:STANDARD
BEGIN:DAYLIGHT
TZOFFSETFROM:+0100
TZOFFSETTO:+0200
TZNAME:CEST
DTSTART:20240331T010000
END:DAYLIGHT
BEGIN:STANDARD
TZOFFSETFROM:+0200
TZOFFSETTO:+0100
TZNAME:CET
DTSTART:20241027T010000
END:STANDARD
BEGIN:DAYLIGHT
TZOFFSETFROM:+0100
TZOFFSETTO:+0200
TZNAME:CEST
DTSTART:20250330T010000
END:DAYLIGHT
BEGIN:STANDARD
TZOFFSETFROM:+0200
TZOFFSETTO:+0100
TZNAME:CET
DTSTART:20251026T010000
END:STANDARD
END:VTIMEZONE
BEGIN:VEVENT
DTSTART;TZID=Europe/Berlin:20241106T193000
DTEND;TZID=Europe/Berlin:20241106T210000
DTSTAMP:20260421T193112
CREATED:20240614T094153Z
LAST-MODIFIED:20240614T094928Z
UID:10000181-1730921400-1730926800@enneagramm-lehrer.de
SUMMARY:Das Enneagramm im Kontext der Arbeit – Panel mit Vertretern von Typ 1
DESCRIPTION:Das Enneagramm im Kontext der Arbeit – Panel mit Vertretern von Typ 1 \nIn Panels\, einer Art Diskussionsrunde\, stellen sich Vertreter von einem konkreten Typ vor und berichten\, wie sich ihr Typ in verschiedenen Situationen des Alltags bemerkbar macht und wie die inneren Prozesse dabei sind. Für Beobachter des Panels wird es so möglich\, den jeweiligen Typ tiefer zu ergründen und ein größeres Verständnis im eigenen Umgang mit Vertretern des Typs und mit Menschen allgemein zu erlangen.\nIn der aktuellen Panel-Serie wird der Arbeitskontext betrachtet: Wie macht sich der Typ im Kontakt mit Kolleg:innen\, Vorgesetzten und in der Erledigung von Aufgaben bemerkbar? Welche Rahmenbedingungen sind hilfreich und motivierend\, welche laugen eher aus und sind frustrierend? \nUm an diesem und allen weiteren Terminen der Serie teilzunehmen musst du dich einmalig über den Knopf unten anmelden. Wir schicken dir dann den Zoom-Link per Mail zu. \nFür Rückfragen kannst du uns unter Hannah.Kuebel@Enneagramm-Akademie.com erreichen.\n			\n				Jetzt kostenfrei buchen
URL:https://enneagramm-lehrer.de/event/das-enneagramm-im-kontext-der-arbeit-panel-mit-vertretern-von-typ-1/
LOCATION:online
CATEGORIES::: Veranstaltungen der Akademie ::
ATTACH;FMTTYPE=image/png:https://enneagramm-lehrer.de/wp-content/uploads/Foto-fuer-Kalender-Logo.jpg.png
END:VEVENT
BEGIN:VEVENT
DTSTART;TZID=Europe/Berlin:20241113T190000
DTEND;TZID=Europe/Berlin:20241113T203000
DTSTAMP:20260421T193112
CREATED:20240330T104019Z
LAST-MODIFIED:20240330T104228Z
UID:10000152-1731524400-1731529800@enneagramm-lehrer.de
SUMMARY:Kostenlose Enneagramm-Einführung (online) im November 2024
DESCRIPTION:In dieser kostenlosen Einführung erfahren Sie Grundlegendes über das Enneagramm und kommen Ihrem eigenen Typ auf die Spur. \nDie Einführung wird online stattfinden. Die Zugangsdaten erhalten Sie nach der Anmeldung. Die Anmeldung können Sie direkt über den blauen Anmeldebutton vornehmen. \nInfos zur Einführung und Anmeldung: \nAnmeldung und Rückfragen per Mail an: hallo@enneagramm-akademie.com \n  \nDiese Online-Einführung wird durchgeführt von: \nMaren Menkens und Christoph Heitz \n			\n				Hier geht es zur Anmeldung
URL:https://enneagramm-lehrer.de/event/kostenlose-enneagramm-einfuehrung-online-im-november-2024/
CATEGORIES::: Veranstaltungen der Akademie ::
ATTACH;FMTTYPE=image/jpeg:https://enneagramm-lehrer.de/wp-content/uploads/EA-Einfuehrung-e1707602045528.jpg
END:VEVENT
BEGIN:VEVENT
DTSTART;TZID=Europe/Berlin:20241119T190000
DTEND;TZID=Europe/Berlin:20241119T190000
DTSTAMP:20260421T193113
CREATED:20241021T153607Z
LAST-MODIFIED:20241105T105540Z
UID:10000191-1732042800-1732042800@enneagramm-lehrer.de
SUMMARY:EMT-Intervisionsgruppe (online) Ich - Wir - Thema und Bauch - Herz - Kopf\,  TZI und die drei Zentren.  Wie begegnen uns diese im Alltag?
DESCRIPTION:Zoom-Link\n			\n			\n				\n				\n				\n				\n				\n				\n				\n				\n				\n				Meeting-ID: 889 5851 6932\nKenncode: 097956 \n			\n			\n				\n				\n				\n				\n				\n				\n				\n				\n				\n				Ansprechpartner:\n Stefan Bregulla 0171 78823701 \n			\n			\n				\n				\n				\n				\n			\n				\n				\n				\n				\n				\n				\n				\n				\n				\n				\n				Angesprochen sind Enneagrammlehrer und Menschen die sich intensiv mit dem Enneagramm beschäftigen. Es geht um den praktischen Austausch wie wir auf unserem Weg als Enneagrammlehrende weiterkommen. \n \n\n\n\n\nIch – Wir – Thema und Bauch – Herz – Kopf\,\nTZI und die drei Zentren \nWie begegnen uns diese im Alltag?
URL:https://enneagramm-lehrer.de/event/emt-intervisionsgruppe-online-6/
CATEGORIES:: Veranstaltungen EMT e.V. :
ATTACH;FMTTYPE=image/jpeg:https://enneagramm-lehrer.de/wp-content/uploads/Intervision-2.jpg
END:VEVENT
END:VCALENDAR