BEGIN:VCALENDAR
VERSION:2.0
PRODID:-//Enneagramm der mündlichen Tradition  EMT e.V. - ECPv6.15.20//NONSGML v1.0//EN
CALSCALE:GREGORIAN
METHOD:PUBLISH
X-ORIGINAL-URL:https://enneagramm-lehrer.de
X-WR-CALDESC:Veranstaltungen für Enneagramm der mündlichen Tradition  EMT e.V.
REFRESH-INTERVAL;VALUE=DURATION:PT1H
X-Robots-Tag:noindex
X-PUBLISHED-TTL:PT1H
BEGIN:VTIMEZONE
TZID:Europe/Berlin
BEGIN:DAYLIGHT
TZOFFSETFROM:+0100
TZOFFSETTO:+0200
TZNAME:CEST
DTSTART:20230326T010000
END:DAYLIGHT
BEGIN:STANDARD
TZOFFSETFROM:+0200
TZOFFSETTO:+0100
TZNAME:CET
DTSTART:20231029T010000
END:STANDARD
BEGIN:DAYLIGHT
TZOFFSETFROM:+0100
TZOFFSETTO:+0200
TZNAME:CEST
DTSTART:20240331T010000
END:DAYLIGHT
BEGIN:STANDARD
TZOFFSETFROM:+0200
TZOFFSETTO:+0100
TZNAME:CET
DTSTART:20241027T010000
END:STANDARD
BEGIN:DAYLIGHT
TZOFFSETFROM:+0100
TZOFFSETTO:+0200
TZNAME:CEST
DTSTART:20250330T010000
END:DAYLIGHT
BEGIN:STANDARD
TZOFFSETFROM:+0200
TZOFFSETTO:+0100
TZNAME:CET
DTSTART:20251026T010000
END:STANDARD
END:VTIMEZONE
BEGIN:VEVENT
DTSTART;TZID=Europe/Berlin:20240807T193000
DTEND;TZID=Europe/Berlin:20240807T210000
DTSTAMP:20260421T235821
CREATED:20240614T093549Z
LAST-MODIFIED:20240614T093846Z
UID:10000178-1723059000-1723064400@enneagramm-lehrer.de
SUMMARY:Das Enneagramm im Kontext der Arbeit – Panel mit Vertretern von Typ 7
DESCRIPTION:Das Enneagramm im Kontext der Arbeit – Panel mit Vertretern von Typ 7 \nIn Panels\, einer Art Diskussionsrunde\, stellen sich Vertreter von einem konkreten Typ vor und berichten\, wie sich ihr Typ in verschiedenen Situationen des Alltags bemerkbar macht und wie die inneren Prozesse dabei sind. Für Beobachter des Panels wird es so möglich\, den jeweiligen Typ tiefer zu ergründen und ein größeres Verständnis im eigenen Umgang mit Vertretern des Typs und mit Menschen allgemein zu erlangen.\nIn der aktuellen Panel-Serie wird der Arbeitskontext betrachtet: Wie macht sich der Typ im Kontakt mit Kolleg:innen\, Vorgesetzten und in der Erledigung von Aufgaben bemerkbar? Welche Rahmenbedingungen sind hilfreich und motivierend\, welche laugen eher aus und sind frustrierend? \nUm an diesem und allen weiteren Terminen der Serie teilzunehmen musst du dich einmalig über den Knopf unten anmelden. Wir schicken dir dann den Zoom-Link per Mail zu. \nFür Rückfragen kannst du uns unter Hannah.Kuebel@Enneagramm-Akademie.com erreichen. \n			\n				Jetzt kostenfrei buchen
URL:https://enneagramm-lehrer.de/event/das-enneagramm-im-kontext-der-arbeit-panel-mit-vertretern-von-typ-7/
LOCATION:online
CATEGORIES::: Veranstaltungen der Akademie ::
ATTACH;FMTTYPE=image/png:https://enneagramm-lehrer.de/wp-content/uploads/Foto-fuer-Kalender-Logo.jpg.png
END:VEVENT
BEGIN:VEVENT
DTSTART;TZID=Europe/Berlin:20240820T190000
DTEND;TZID=Europe/Berlin:20240820T203000
DTSTAMP:20260421T235821
CREATED:20240213T171105Z
LAST-MODIFIED:20240503T125637Z
UID:10000147-1724180400-1724185800@enneagramm-lehrer.de
SUMMARY:Kostenlose Enneagramm-Einführung (online) im August 2024
DESCRIPTION:In dieser kostenlosen Einführung erfahren Sie Grundlegendes über das Enneagramm und kommen Ihrem eigenen Typ auf die Spur. \nDie Einführung wird online stattfinden. Die Zugangsdaten erhalten Sie nach der Anmeldung. Die Anmeldung können Sie direkt über den blauen Anmeldebutton vornehmen. \nInfos zur Einführung und Anmeldung: \nAnmeldung und Rückfragen per Mail an: hallo@enneagramm-akademie.com \n  \nDiese Online-Einführung wird durchgeführt von: \nBettina Weber und Christoph Heitz \n			\n				Hier geht es zur Anmeldung
URL:https://enneagramm-lehrer.de/event/kostenlose-enneagramm-einfuehrung-online-im-august-2024-2/
CATEGORIES::: Veranstaltungen der Akademie ::
ATTACH;FMTTYPE=image/jpeg:https://enneagramm-lehrer.de/wp-content/uploads/EA-Einfuehrung-e1707602045528.jpg
END:VEVENT
BEGIN:VEVENT
DTSTART;TZID=Europe/Berlin:20240828T193000
DTEND;TZID=Europe/Berlin:20240828T193000
DTSTAMP:20260421T235821
CREATED:20240603T071318Z
LAST-MODIFIED:20240628T082425Z
UID:10000173-1724873400-1724873400@enneagramm-lehrer.de
SUMMARY:Körperzentrierte Herzensarbeit (online)
DESCRIPTION:Zoom-Link\n			\n			\n				\n				\n				\n				\n				\n				\n				\n				\n				\n				Meeting-ID: 87283769032\nKenncode: emt1bis9 \n			\n			\n				\n				\n				\n				\n				\n				\n				\n				\n				\n				Ansprechpartner:\nRolf Kettenring 0151 2239532 \n			\n			\n				\n				\n				\n				\n			\n				\n				\n			\n				\n				\n				\n				\n				\n				\n				\n				\n				\n				\n				\n				\n				\n				\n				\n				\n				\n				Körperzentrierte Herzensarbeit zur Vertiefung der Frühjahrstagung.Methoden: geführte Meditation\, Einzelarbeit\, Fragen und TheorieNeueinsteiger: bitte das Manuskript von Maria Schmid lesenDauer: ca. 1\,5 bis 2 StundenLeitung: Bernhard Linner
URL:https://enneagramm-lehrer.de/event/koerperzentrierte-herzensarbeit-online-3/
CATEGORIES:: Veranstaltungen EMT e.V. :
ATTACH;FMTTYPE=image/jpeg:https://enneagramm-lehrer.de/wp-content/uploads/KH-Zoom.jpg
END:VEVENT
END:VCALENDAR