BEGIN:VCALENDAR
VERSION:2.0
PRODID:-//Enneagramm der mündlichen Tradition  EMT e.V. - ECPv6.15.20//NONSGML v1.0//EN
CALSCALE:GREGORIAN
METHOD:PUBLISH
X-WR-CALNAME:Enneagramm der mündlichen Tradition  EMT e.V.
X-ORIGINAL-URL:https://enneagramm-lehrer.de
X-WR-CALDESC:Veranstaltungen für Enneagramm der mündlichen Tradition  EMT e.V.
REFRESH-INTERVAL;VALUE=DURATION:PT1H
X-Robots-Tag:noindex
X-PUBLISHED-TTL:PT1H
BEGIN:VTIMEZONE
TZID:Europe/Berlin
BEGIN:DAYLIGHT
TZOFFSETFROM:+0100
TZOFFSETTO:+0200
TZNAME:CEST
DTSTART:20230326T010000
END:DAYLIGHT
BEGIN:STANDARD
TZOFFSETFROM:+0200
TZOFFSETTO:+0100
TZNAME:CET
DTSTART:20231029T010000
END:STANDARD
BEGIN:DAYLIGHT
TZOFFSETFROM:+0100
TZOFFSETTO:+0200
TZNAME:CEST
DTSTART:20240331T010000
END:DAYLIGHT
BEGIN:STANDARD
TZOFFSETFROM:+0200
TZOFFSETTO:+0100
TZNAME:CET
DTSTART:20241027T010000
END:STANDARD
BEGIN:DAYLIGHT
TZOFFSETFROM:+0100
TZOFFSETTO:+0200
TZNAME:CEST
DTSTART:20250330T010000
END:DAYLIGHT
BEGIN:STANDARD
TZOFFSETFROM:+0200
TZOFFSETTO:+0100
TZNAME:CET
DTSTART:20251026T010000
END:STANDARD
END:VTIMEZONE
BEGIN:VEVENT
DTSTART;TZID=Europe/Berlin:20240605T193000
DTEND;TZID=Europe/Berlin:20240605T210000
DTSTAMP:20260422T025202
CREATED:20240524T125955Z
LAST-MODIFIED:20240526T164112Z
UID:10000163-1717615800-1717621200@enneagramm-lehrer.de
SUMMARY:Online Panel Typ 5: Wie begleitet mich mein Enneagramm-Typ im Arbeitsalltag?
DESCRIPTION:Typ 5: Wie begleitet mich mein Enneagramm-Typ im Arbeitsalltag? \nIn dieser Panel-Serie geht es darum\, wie unser Typ uns in unserer Arbeit begegnet oder begegnet ist. Wir beleuchten typspezifische Überschneidungen\, indem wir schauen\, was uns zu dieser Tätigkeit gebracht hat\, was uns motiviert und abstößt\, wie wir in unserer Arbeit agieren.Unter „Arbeit“ verstehen wir dabei sowohl den Beruf als auch Tätigkeiten im Ehrenamt oder in der Familie. \nUm an diesem und allen weiteren Terminen der Serie teilzunehmen musst du dich einmalig über den Knopf unten Formular anmelden. Wir schicken dir dann den Zoom-Link per Mail zu. \nFür Rückfragen kannst du uns unter Hannah.Kuebel@Enneagramm-Akademie.com erreichen.  \n			\n				Jetzt kostenfrei buchen
URL:https://enneagramm-lehrer.de/event/typ-5-enneagramm-typ-im-arbeitsalltag/
LOCATION:online
CATEGORIES::: Veranstaltungen der Akademie ::
ATTACH;FMTTYPE=image/png:https://enneagramm-lehrer.de/wp-content/uploads/Foto-fuer-Kalender-Logo.jpg.png
END:VEVENT
BEGIN:VEVENT
DTSTART;TZID=Europe/Berlin:20240607T110000
DTEND;TZID=Europe/Berlin:20240609T170000
DTSTAMP:20260422T025202
CREATED:20231212T153855Z
LAST-MODIFIED:20240524T101227Z
UID:10000133-1717758000-1717952400@enneagramm-lehrer.de
SUMMARY:Besser mit mir zurechtkommen
DESCRIPTION:  \nIn diesem Modul geht es um deine eigene persönliche Entwicklung. Du lernst\, deine typspezifischen Begabungen und Stärken zu erkennen und zu entfalten\, und besser mit deinen Schwächen und Begrenzungen umzugehen. Damit kannst du die Beziehung zu dir selbst und zu anderen entscheidend verbessern. \nDas Enneagramm ist hier eine entscheidende Hilfe: Mit mehr Verständnis für deine eigene innere Struktur (deinen Enneagramm-Typ) kannst du in neuer Weise wachsen und persönlich weiterkommen. Praktische Übungen allein\, in Zweiergruppen oder in der ganzen Seminargruppe unterstützen dich dabei. \nTeilnahmevoraussetzung:Enneagramm Grundkenntnisse\, Kenntnis des eigenen Enneagramm-Typs \n			\n				weitere Details
URL:https://enneagramm-lehrer.de/event/besser-mit-mir-zurechtkommen/
LOCATION:„HAAUS“ Das Seminarhaus im Grünen\, Forststraße 17\, Weinstadt-Baach\, 71384
CATEGORIES::: Veranstaltungen der Akademie ::
ATTACH;FMTTYPE=image/jpeg:https://enneagramm-lehrer.de/wp-content/uploads/M2-1.jpg
END:VEVENT
BEGIN:VEVENT
DTSTART;TZID=Europe/Berlin:20240614T190000
DTEND;TZID=Europe/Berlin:20240614T190000
DTSTAMP:20260422T025202
CREATED:20231212T122611Z
LAST-MODIFIED:20240429T074745Z
UID:10000131-1718391600-1718391600@enneagramm-lehrer.de
SUMMARY:Kostenlose Enneagramm-Einführung (online) im Juni 2024
DESCRIPTION:In dieser kostenlosen Einführung erfahren Sie Grundlegendes über das Enneagramm und kommen Ihrem eigenen Typ auf die Spur. \nDie Einführung wird online stattfinden. Die Zugangsdaten erhalten Sie nach der Anmeldung. Die Anmeldung können Sie direkt über den blauen Anmeldebutton vornehmen. \nInfos zur Einführung und Anmeldung: \nAnmeldung und Rückfragen per Mail an: hallo@enneagramm-akademie.com \n  \nDiese Online-Einführung wird durchgeführt von: \nBettina Weber und Anna Weber \n			\n				Hier geht es zur Anmeldung
URL:https://enneagramm-lehrer.de/event/kostenlose-enneagramm-einfuehrung-online-im-juni-2024/
CATEGORIES::: Veranstaltungen der Akademie ::
ATTACH;FMTTYPE=image/jpeg:https://enneagramm-lehrer.de/wp-content/uploads/EA-Einfuehrung-e1707602045528.jpg
END:VEVENT
BEGIN:VEVENT
DTSTART;TZID=Europe/Berlin:20240618T193000
DTEND;TZID=Europe/Berlin:20240618T193000
DTSTAMP:20260422T025202
CREATED:20240523T120533Z
LAST-MODIFIED:20240523T123019Z
UID:10000164-1718739000-1718739000@enneagramm-lehrer.de
SUMMARY:EMT-Intervisionsgruppe (online)
DESCRIPTION:Zoom-Link\n			\n			\n				\n				\n				\n				\n				\n				\n				\n				\n				\n				Meeting-ID: 889 5851 6932\nKenncode: 097956 \n			\n			\n				\n				\n				\n				\n				\n				\n				\n				\n				\n				Ansprechpartner:\n Stefan Bregulla 0171 78823701 \n			\n			\n				\n				\n				\n				\n			\n				\n				\n				\n				\n				\n				\n				\n				\n				\n				\n				\nIntervisionsgruppe \nLeiten von Gruppen nach TZI (Themenzentrierte Interaktion) und \nwas dieses „Modell“ für uns bedeuten kann\, wenn wir Gruppen und Panels leiten.\n\n \nAngesprochen sind Enneagrammlehrer und Menschen die sich intensiv mit dem Enneagramm beschäftigen. Es geht um den praktischen Austausch wie wir auf unserem Weg als Enneagrammlehrende weiterkommen.\n			\n				\n				\n				\n				\n				\n			\n			\n				\n				\n				\n				\n			\n				\n				\n			\n				\n				\n				\n				\n				\n				\n				\n				\n				\n				\n				\n				\n				\n				Zoom-Link\n			\n			\n				\n				\n				\n				\n				\n				\n				\n				\n				\n				Meeting-ID: 889 5851 6932\nKenncode: 097956 \n			\n			\n				\n				\n				\n				\n				\n				\n				\n				\n				\n				Ansprechpartner:\n Stefan Bregulla 0171 78823701 \n			\n			\n				\n				\n				\n				\n			\n				\n				\n				\n				\n				\n				\n				\n				\n				\n				\n				\nIntervisionsgruppe \nLeiten von Gruppen nach TZI (Themenzentrierte Interaktion) und \nwas dieses „Modell“ für uns bedeuten kann\, wenn wir Gruppen und Panels leiten.\n\n \nAngesprochen sind Enneagrammlehrer und Menschen die sich intensiv mit dem Enneagramm beschäftigen. Es geht um den praktischen Austausch wie wir auf unserem Weg als Enneagrammlehrende weiterkommen.
URL:https://enneagramm-lehrer.de/event/emt-intervisionsgruppe-online-4/
LOCATION:online
CATEGORIES:: Veranstaltungen EMT e.V. :
ATTACH;FMTTYPE=image/jpeg:https://enneagramm-lehrer.de/wp-content/uploads/Intervision-2.jpg
END:VEVENT
BEGIN:VEVENT
DTSTART;TZID=Europe/Berlin:20240621T180000
DTEND;TZID=Europe/Berlin:20240623T160000
DTSTAMP:20260422T025202
CREATED:20240506T095110Z
LAST-MODIFIED:20240507T172545Z
UID:10000157-1718992800-1719158400@enneagramm-lehrer.de
SUMMARY:Natu[Re]Treat I
DESCRIPTION:Hast du das Gefühl\, dass es im Leben doch mehr geben muss als den stressigen Alltag? Was ist aus der kindlichen Leichtigkeit und Herzlichkeit geworden? Fühlst du dich überlastet\, während die Schönheit der Welt eine bloße Erinnerung ist? \nDu bist nicht allein – Viele teilen die Sehnsucht nach mehr Leichtigkeit und Verbundenheit. Unsere Vision ist es\, Menschen zu helfen\, die Verbindung mit sich selbst und der Natur wiederzuentdecken. \nWir – Sebastian\, Monika und Daniel – haben ähnliche Erfahrungen gemacht. Jeder auf seine Art\, aber am Ende verbindet uns die Liebe zur Natur und das Interesse an innerem Wachstum. Dabei haben wir wertvolle Erfahrungen gesammelt\, die wir gerne mit euch teilen möchten. \nBeim Retreat erwarten dich unter anderem: \n\nAktivitäten draußen in der Natur.\nÜbungen zur Achtsamkeit und Innenschau.\nInspiration durch neues Wissen und Perspektiven über das Enneagramm\nEntspannung für Körper & Geist: Yoga\, Meditation\, Atemübungen.\n\nDabei schöpfen wir aus unseren 3 Jahren Erfahrung und Qualifikationen. \n         \nOrganisatorisches \n\nWir streben eine Gruppengröße von 13-15 Personen an\nDie Mindestteilnehmerzahl ist 10\n\nBei weniger Anmeldungen bis zum 16.05.2024 behalten wir uns eine Absage vor.\nIn dem Fall bekommt ihr natürlich euer Geld zurück.\n\n\nKurssprache: Deutsch. Im Einzelgespräch auch gern Englisch.\n\nUnterkunftBerghotel ’s JägermattAm Seebuck 1\, 79868 Feldberg (Schwarzwald)Die Unterbringung erfolgt in Einzelzimmern. \nVoraussetzungen: \n\nOffenheit für Selbstbeobachtung.\n„Normale Fitness“ (2-3 Stunden in der Natur auf Waldwegen mittlerer Steigung).\n\n			\n				Hier geht es zur Anmeldung
URL:https://enneagramm-lehrer.de/event/naturetreat-i/
LOCATION:Berghotel  ’s Jägermatt\, Am Seebuck 1\, Feldberg (Schwarzwald)\, 79868
CATEGORIES:::: sonstige Veranstaltungen :::
ATTACH;FMTTYPE=image/jpeg:https://enneagramm-lehrer.de/wp-content/uploads/Retreat.jpeg
END:VEVENT
BEGIN:VEVENT
DTSTART;TZID=Europe/Berlin:20240621T193000
DTEND;TZID=Europe/Berlin:20240621T220000
DTSTAMP:20260422T025202
CREATED:20240529T084957Z
LAST-MODIFIED:20240529T085422Z
UID:10000168-1718998200-1719007200@enneagramm-lehrer.de
SUMMARY:Dossenheimer Ennegrammgruppe
DESCRIPTION:Wo: 69221 Dossenheim (bei Heidelberg)\nTermine: Immer am dritten Freitag im Monat. \nBitte vorher anmelden\, Vorkenntnisse erforderlich –\nd.h. Klarheit über den eigenen Typ\, sowie das ganze System. \nKontakt & Anmeldung: \n \nRalf Kern\, Ennegrammlehrer EMT\nTel.: 06221 862508\nMail: ralf.email@gmail.com
URL:https://enneagramm-lehrer.de/event/dossenheimer-ennegrammgruppe-7/
LOCATION:Dossenheim\, Friedrichstrasse 10\, 69221
CATEGORIES:::: sonstige Veranstaltungen :::
ATTACH;FMTTYPE=image/jpeg:https://enneagramm-lehrer.de/wp-content/uploads/KuechentischDossenheim.jpeg
END:VEVENT
BEGIN:VEVENT
DTSTART;TZID=Europe/Berlin:20240626T193000
DTEND;TZID=Europe/Berlin:20240626T193000
DTSTAMP:20260422T025202
CREATED:20240603T062930Z
LAST-MODIFIED:20240608T071945Z
UID:10000171-1719430200-1719430200@enneagramm-lehrer.de
SUMMARY:Körperzentrierte Herzensarbeit (online)
DESCRIPTION:Zoom-Link\n			\n			\n				\n				\n				\n				\n				\n				\n				\n				\n				\n				Meeting-ID: 87283769032Kenncode: emt1bis9 \n			\n			\n				\n				\n				\n				\n				\n				\n				\n				\n				\n				Ansprechpartner:Rolf Kettenring 0151 2239532 \n			\n			\n				\n				\n				\n				\n			\n				\n				\n			\n				\n				\n				\n				\n				\n				\n				\n				\n				\n				\n				\n				\n				\n				\n				\n				\n				\n				Körperzentrierte Herzensarbeit zur Vertiefung der Frühjahrstagung.Methoden: geführte Meditation\, Einzelarbeit\, Fragen und TheorieNeueinsteiger: bitte das Manuskript von Maria Schmid lesenDauer: ca. 1\,5 bis 2 StundenLeitung: Bernhard Linner
URL:https://enneagramm-lehrer.de/event/koerperzentrierte-herzensarbeit-online/
CATEGORIES:: Veranstaltungen EMT e.V. :
ATTACH;FMTTYPE=image/jpeg:https://enneagramm-lehrer.de/wp-content/uploads/Herzarbeit-1.jpeg
END:VEVENT
END:VCALENDAR