BEGIN:VCALENDAR
VERSION:2.0
PRODID:-//Enneagramm der mündlichen Tradition  EMT e.V. - ECPv6.15.20//NONSGML v1.0//EN
CALSCALE:GREGORIAN
METHOD:PUBLISH
X-WR-CALNAME:Enneagramm der mündlichen Tradition  EMT e.V.
X-ORIGINAL-URL:https://enneagramm-lehrer.de
X-WR-CALDESC:Veranstaltungen für Enneagramm der mündlichen Tradition  EMT e.V.
REFRESH-INTERVAL;VALUE=DURATION:PT1H
X-Robots-Tag:noindex
X-PUBLISHED-TTL:PT1H
BEGIN:VTIMEZONE
TZID:Europe/Berlin
BEGIN:DAYLIGHT
TZOFFSETFROM:+0100
TZOFFSETTO:+0200
TZNAME:CEST
DTSTART:20230326T010000
END:DAYLIGHT
BEGIN:STANDARD
TZOFFSETFROM:+0200
TZOFFSETTO:+0100
TZNAME:CET
DTSTART:20231029T010000
END:STANDARD
BEGIN:DAYLIGHT
TZOFFSETFROM:+0100
TZOFFSETTO:+0200
TZNAME:CEST
DTSTART:20240331T010000
END:DAYLIGHT
BEGIN:STANDARD
TZOFFSETFROM:+0200
TZOFFSETTO:+0100
TZNAME:CET
DTSTART:20241027T010000
END:STANDARD
BEGIN:DAYLIGHT
TZOFFSETFROM:+0100
TZOFFSETTO:+0200
TZNAME:CEST
DTSTART:20250330T010000
END:DAYLIGHT
BEGIN:STANDARD
TZOFFSETFROM:+0200
TZOFFSETTO:+0100
TZNAME:CET
DTSTART:20251026T010000
END:STANDARD
END:VTIMEZONE
BEGIN:VEVENT
DTSTART;TZID=Europe/Berlin:20240207T000000
DTEND;TZID=Europe/Berlin:20240207T000000
DTSTAMP:20260424T124551
CREATED:20230927T063509Z
LAST-MODIFIED:20240205T154115Z
UID:10000111-1707264000-1707264000@enneagramm-lehrer.de
SUMMARY:EMT Panelgruppe - kreative Pause im Februar - im März geht es weiter
DESCRIPTION:Im Februar findet keine Veranstaltung der EMT-Panel-Gruppe statt. \nUnsere neue Staffel startet  am 6. März mit dem Thema: \nWie begleitet mich mein Enneagramm-Typ im Arbeitsalltag (Typ 2) \nDen Zoom – Link findest du in unserem Veranstaltungskalender unter dem 6.3.2024
URL:https://enneagramm-lehrer.de/event/emt-panelgruppe-kreative-pause-im-februar-im-maerz-geht-es-weiter/
CATEGORIES:: Veranstaltungen EMT e.V. :
END:VEVENT
BEGIN:VEVENT
DTSTART;TZID=Europe/Berlin:20240212T190000
DTEND;TZID=Europe/Berlin:20240212T203000
DTSTAMP:20260424T124551
CREATED:20231212T104935Z
LAST-MODIFIED:20240210T215425Z
UID:10000128-1707764400-1707769800@enneagramm-lehrer.de
SUMMARY:Kostenlose Enneagramm-Einführung (online) im Februar 2024
DESCRIPTION:In dieser kostenlosen Einführung erfahren Sie Grundlegendes über das Enneagramm und kommen Ihrem eigenen Typ auf die Spur. Die Einführung wird online stattfinden. Die Zugangsdaten erhalten Sie nach der Anmeldung. Die Anmeldung können Sie direkt über den blauen Anmeldebutton vornehmen. \nInfos zur Einführung und Anmeldung: \nAnmeldung und Rückfragen per Mail an: hallo@enneagramm-akademie.com \nDiese Online-Einführung wird durchgeführt von: \nHannah Kübel und Maren Menkens \n			\n				Hier geht es zur Anmeldung
URL:https://enneagramm-lehrer.de/event/kostenlose-enneagramm-einfuehrung-online-im-februar-2024/
CATEGORIES::: Veranstaltungen der Akademie ::
ATTACH;FMTTYPE=image/jpeg:https://enneagramm-lehrer.de/wp-content/uploads/EA-Einfuehrung-e1707602045528.jpg
END:VEVENT
BEGIN:VEVENT
DTSTART;TZID=Europe/Berlin:20240216T193000
DTEND;TZID=Europe/Berlin:20240216T220000
DTSTAMP:20260424T124551
CREATED:20231029T080854Z
LAST-MODIFIED:20240212T075532Z
UID:10000114-1708111800-1708120800@enneagramm-lehrer.de
SUMMARY:Dossenheimer Ennegrammgruppe
DESCRIPTION:Liebe Enneagramm-Freunde\,bei unserem kommenden Treffen\, am 16. Februar möchten wir uns mit einem weiteren Sufi-Gedicht beschäftigen\, das uns mit einem Thema in Berührung bringt\, was viele Menschen gerne verdrängen: Tod und Vergänglichkeit. \nDazu haben wir diesmal ein Zitat von Hafiz ausgewählt: \nDer Tod ist ein Geschenk an uns.Doch unsere Waagschalen sind aus dem Gleichgewicht geraten. Die Vergänglichkeit des Körpers sollte uns große Klarheit schenken und das Staunen unserer Sinne\, unserer Augenangesichts dieses geheimnisvollen Daseins\, das wir miteinander teilen und durchwandeln\, nur steigern.Wäre Hafiz heute Nacht in der heiligen Taverne\, dann würde er zu Trinken bestellen.Und wenn der Meister einschüttet\, würde es ihn daran erinnern –Alles\, was ich von mir und vom Leben weiß\, ist: Wir sind nur durch die Luft perlende Tropfen des goldenen Weineszwischen Seinem Krug und Seinem Becher.Wäre ich heute Nacht in der Taverne\, würde ich jedem in der Welt frei einschenken\,denn unsere Hochzeit mit der grausamen Schönheit von Zeit und Raum kann nicht sehr lange dauern.Der Tod ist ein Geschenk an uns\, doch unser Geist hat sein Gleichgewicht verloren.Die wundersame Existenz und Vergänglichkeit der Form bringt die Erleuchteten stets zum Lachen und zum Singen. \nAm Freitag wollen wir uns nach der Begrüßungsrunde über verschiede Methoden mit dem Inhalt dieses Hafiz-Gedichts befassen\, dabei sehen was es mit uns und unserem Enneatyp zu tun hat und wie wir es für unseren Bezug zum Leben nutzen können. \nLiebe GrüßeRalf \n			\n				\n				\n				\n				\n				Wo: 69221 Dossenheim\, Friedrichstraße 10\, im Rückgbäude\, letzter Eingang. \nTermine: Immer am dritten Freitag im Monat. \nBitte vorher anmelden\, Vorkenntnisse erforderlich –d.h. Klarheit über den eigenen Typ\, sowie das ganze System. \nKontakt & Anmeldung: \n \nRalf Kern\, Ennegrammlehrer EMTTel.: 06221 862508Mail: ralf.email@gmail.com
URL:https://enneagramm-lehrer.de/event/dossenheimer-ennegrammgruppe-4/
LOCATION:Dossenheim\, Friedrichstrasse 10\, 69221
CATEGORIES:::: sonstige Veranstaltungen :::
ATTACH;FMTTYPE=image/jpeg:https://enneagramm-lehrer.de/wp-content/uploads/Ralf-Kern-EMT-2.jpg
END:VEVENT
BEGIN:VEVENT
DTSTART;TZID=Europe/Berlin:20240220T193000
DTEND;TZID=Europe/Berlin:20240220T193000
DTSTAMP:20260424T124551
CREATED:20240129T092528Z
LAST-MODIFIED:20240213T162853Z
UID:10000138-1708457400-1708457400@enneagramm-lehrer.de
SUMMARY:EMT-Intervisionsgruppe (online)
DESCRIPTION:Dieser Termin wurde abgsagt\n			\n			\n				\n				\n				\n				\n				\n			\n				\n				\n				\n				\n			\n				\n				\n				\n				\n				\n				\n				Zoom-Link\n			\n			\n				\n				\n				\n				\n				\n				\n				\n				\n				\n				Meeting-ID: 889 5851 6932\nKenncode: 097956 \n			\n			\n				\n				\n				\n				\n				\n				\n				\n				\n				\n				Ansprechpartner:\n Stefan Bregulla 0171 78823701 \n			\n			\n				\n				\n				\n				\n			\n				\n				\n				\n				\n				\n				\n				\n				\n				\n				\n				Angesprochen sind Enneagrammlehrer und Menschen die sich intensiv mit dem Enneagramm beschäftigen. Es geht um den praktischen Austausch wie wir auf unserem Weg als Enneagrammlehrende weiterkommen.
URL:https://enneagramm-lehrer.de/event/emt-intervisionsgruppe-online-2-2/
CATEGORIES:: Veranstaltungen EMT e.V. :
ATTACH;FMTTYPE=image/jpeg:https://enneagramm-lehrer.de/wp-content/uploads/Intervision-2.jpg
END:VEVENT
BEGIN:VEVENT
DTSTART;TZID=Europe/Berlin:20240228T193000
DTEND;TZID=Europe/Berlin:20240228T193000
DTSTAMP:20260424T124551
CREATED:20240129T090423Z
LAST-MODIFIED:20240227T151712Z
UID:10000136-1709148600-1709148600@enneagramm-lehrer.de
SUMMARY:Resilienter mit meinem Typ – wie kann mir das gelingen? (Typ 6)
DESCRIPTION:Zoom-Link\n			\n			\n				\n				\n				\n				\n				\n				\n				\n				\n				\n				Meeting-ID: 87283769032\nKenncode: emt1bis9 \n			\n			\n				\n				\n				\n				\n				\n				\n				\n				\n				\n				Ansprechpartner:\nAndrea Rossmar 0171 3077038 \n			\n			\n				\n				\n				\n				\n			\n				\n				\n			\n				\n				\n				\n				\n				\n				\n				\n				\n				\n				\n				\n				\n				\n				\n				\n				\n				\n				In unserer Reihe: „Resilienter  mit meinem Typ – wie kann mir das gelingen?„ist der Abend dieses Mal Typ 6 gewidmet. \nWir freuen uns deshalb besonders auf Vertreterinnen und Vertreter von Typ 6\, damit wir von euch über euch lernen können. \nWir wollen in dieser Panelreihe je Typ genauer eruieren\, wie bei uns Stress entsteht\, welche frühen Anzeichen wir erkennen können und der Frage nachgehen\, wie wir unsere psychische Widerstandskraft stärken können. Wir möchten erkunden\, wie wir unseren Alltag gelassener gestalten können und mit Belastungssituationen besser zurechtkommen. \nJe Abend bringen wir einen kleinen Impuls mit und möchten dann im Panelformat jeweils mit einem Enneagramm-Typ das Thema Stress und Resilienz erkunden.
URL:https://enneagramm-lehrer.de/event/resilienter-mit-meinem-typ-wie-kann-mir-das-gelingen-typ-6/
CATEGORIES:: Veranstaltungen EMT e.V. :
ATTACH;FMTTYPE=image/jpeg:https://enneagramm-lehrer.de/wp-content/uploads/Resilienz-e1707601809501.jpg
END:VEVENT
END:VCALENDAR