BEGIN:VCALENDAR
VERSION:2.0
PRODID:-//Enneagramm der mündlichen Tradition  EMT e.V. - ECPv6.15.20//NONSGML v1.0//EN
CALSCALE:GREGORIAN
METHOD:PUBLISH
X-WR-CALNAME:Enneagramm der mündlichen Tradition  EMT e.V.
X-ORIGINAL-URL:https://enneagramm-lehrer.de
X-WR-CALDESC:Veranstaltungen für Enneagramm der mündlichen Tradition  EMT e.V.
REFRESH-INTERVAL;VALUE=DURATION:PT1H
X-Robots-Tag:noindex
X-PUBLISHED-TTL:PT1H
BEGIN:VTIMEZONE
TZID:Europe/Berlin
BEGIN:DAYLIGHT
TZOFFSETFROM:+0100
TZOFFSETTO:+0200
TZNAME:CEST
DTSTART:20230326T010000
END:DAYLIGHT
BEGIN:STANDARD
TZOFFSETFROM:+0200
TZOFFSETTO:+0100
TZNAME:CET
DTSTART:20231029T010000
END:STANDARD
BEGIN:DAYLIGHT
TZOFFSETFROM:+0100
TZOFFSETTO:+0200
TZNAME:CEST
DTSTART:20240331T010000
END:DAYLIGHT
BEGIN:STANDARD
TZOFFSETFROM:+0200
TZOFFSETTO:+0100
TZNAME:CET
DTSTART:20241027T010000
END:STANDARD
BEGIN:DAYLIGHT
TZOFFSETFROM:+0100
TZOFFSETTO:+0200
TZNAME:CEST
DTSTART:20250330T010000
END:DAYLIGHT
BEGIN:STANDARD
TZOFFSETFROM:+0200
TZOFFSETTO:+0100
TZNAME:CET
DTSTART:20251026T010000
END:STANDARD
END:VTIMEZONE
BEGIN:VEVENT
DTSTART;TZID=Europe/Berlin:20240103T193000
DTEND;TZID=Europe/Berlin:20240103T193000
DTSTAMP:20260424T142227
CREATED:20231202T112234Z
LAST-MODIFIED:20231202T112238Z
UID:10000117-1704310200-1704310200@enneagramm-lehrer.de
SUMMARY:Die Enneatypen in Liebesbeziehungen (Typ 9)
DESCRIPTION:Zoom-Link\n			\n			\n				\n				\n				\n				\n				\n				\n				\n				\n				\n				Meeting-ID: 878 1446 5108​Kenncode: 187519 \n			\n			\n				\n				\n				\n				\n				\n				\n				\n				\n				\n				Ansprechpartner:\n Ralf  Kern  06221 862508\nralf.email@gmail.com \n			\n			\n				\n				\n				\n				\n			\n				\n				\n				\n				\n				\n				\n				\n				\n				\n				\n				\n\n\n\n\n\n  \nHerzliche Einladung zur Zoom-Panel-Serie: \nDie Enneatypen in Liebesbeziehungen \nJeden 1. Mittwoch im Monat ab 19:30 \nAn diesen Abenden geht es um die Beziehungsstile der einzelnen Enneagramm-Typen in Paar- oder 1:1-Beziehungen.Wir beschäftigen uns an jedem der Abende mit einem Enneatyp\, diesmal mit Typ 9. \nNach einer kurzen Einleitung zu den Basisthemen des jeweiligen Enneatyps gibt es ein Panel (Podiumsinterview) bei dem die Themen erörtert werden\, die im Paarbeziehungsfeld meist auftauchen:Verliebtheitsphasen; Alltagsphasen; Liebe\, Wünsche und Erwartungen; Partnerklagen\, Missverständnisse und Kommunikation; Veränderungspotenziale und Wachstum innerhalb der Beziehung. \nDann wird es kurze Breakout Sessions zur Vertiefung des Themas geben\, sowie danach die Möglichkeit den Panelteilnehmern Fragen zu stellen. \nLiebe GrüßeDie EMT-Zoom-Panel-Gruppe
URL:https://enneagramm-lehrer.de/event/die-enneatypen-in-liebesbeziehungen-typ-9/
CATEGORIES:: Veranstaltungen EMT e.V. :
ATTACH;FMTTYPE=image/jpeg:https://enneagramm-lehrer.de/wp-content/uploads/Lagerfeuer.jpeg
END:VEVENT
BEGIN:VEVENT
DTSTART;TZID=Europe/Berlin:20240109T190000
DTEND;TZID=Europe/Berlin:20240109T203000
DTSTAMP:20260424T142227
CREATED:20231211T155320Z
LAST-MODIFIED:20231214T092100Z
UID:10000125-1704826800-1704832200@enneagramm-lehrer.de
SUMMARY:Kostenlose Enneagramm-Einführung (online) im Januar 2024
DESCRIPTION:In dieser kostenlosen Einführung erfahren Sie Grundlegendes über das Enneagramm und kommen Ihrem eigenen Typ auf die Spur. Die Einführung wird online stattfinden. Die Zugangsdaten erhalten Sie nach der Anmeldung. Die Anmeldung können Sie direkt über den blauen Anmeldebutton vornehmen. \nInfos zur Einführung und Anmeldung: \nAnmeldung und Rückfragen per Mail an: hallo@enneagramm-akademie.com \nDiese Online-Einführung wird durchgeführt von: \nBettina Weber und Ralf Kern \n			\n				Hier geht es zur Anmeldung
URL:https://enneagramm-lehrer.de/event/kostenlose-enneagramm-einfuehrung-online-im-januar-2024-2/
CATEGORIES::: Veranstaltungen der Akademie ::
ATTACH;FMTTYPE=image/png:https://enneagramm-lehrer.de/wp-content/uploads/EA_Enneasymbol_mit_Lupe-1-1.png
END:VEVENT
BEGIN:VEVENT
DTSTART;TZID=Europe/Berlin:20240116T193000
DTEND;TZID=Europe/Berlin:20240116T193000
DTSTAMP:20260424T142227
CREATED:20231202T123039Z
LAST-MODIFIED:20240108T185109Z
UID:10000118-1705433400-1705433400@enneagramm-lehrer.de
SUMMARY:EMT-Intervisionsgruppe (online)
DESCRIPTION:Zoom-Link\n			\n			\n				\n				\n				\n				\n				\n				\n				\n				\n				\n				Meeting-ID: 889 5851 6932\nKenncode: 097956 \n			\n			\n				\n				\n				\n				\n				\n				\n				\n				\n				\n				Ansprechpartner:\n Stefan Bregulla 0171 78823701 \n			\n			\n				\n				\n				\n				\n			\n				\n				\n				\n				\n				\n				\n				\n				\n				\n				\n				Angesprochen sind Enneagrammlehrer und Menschen die sich intensiv mit dem Enneagramm beschäftigen. Es geht um den praktischen Austausch wie wir auf unserem Weg als Enneagrammlehrende weiterkommen \n \nLiebe Enneagrammlehrer*innen\,\n \nin der nächsten Woche\, am Dienstag 16.01. um 19:30 Uhr gibt es Intervisionstreffen.\nThema ist die Rückschau auf die Herbsttagung\, verbunden mit der Frage:\nWie die Erfahrungen daraus unsere Arbeit beeinflussen.\n \nLiebe Grüße\nStefan
URL:https://enneagramm-lehrer.de/event/emt-intervisionsgruppe-online-2/
CATEGORIES:: Veranstaltungen EMT e.V. :
ATTACH;FMTTYPE=image/jpeg:https://enneagramm-lehrer.de/wp-content/uploads/man-g96bc42c15_640.jpeg
END:VEVENT
BEGIN:VEVENT
DTSTART;TZID=Europe/Berlin:20240119T193000
DTEND;TZID=Europe/Berlin:20240119T220000
DTSTAMP:20260424T142227
CREATED:20231202T124413Z
LAST-MODIFIED:20240117T105544Z
UID:10000120-1705692600-1705701600@enneagramm-lehrer.de
SUMMARY:Dossenheimer Ennegrammgruppe
DESCRIPTION:Wo: 69221 Dossenheim\, Friedrichstrasse 10 \nTermine: Immer am dritten Freitag im Monat. \nBitte vorher anmelden\, Vorkenntnisse erforderlich –d.h. Klarheit über den eigenen Typ\, sowie das ganze System. \nKontakt & Anmeldung: \n \nRalf Kern\, Ennegrammlehrer EMTTel.: 06221 862508Mail: ralf.email@gmail.com
URL:https://enneagramm-lehrer.de/event/dossenheimer-ennegrammgruppe-5/
LOCATION:Dossenheim\, Friedrichstrasse 10\, 69221
CATEGORIES:::: sonstige Veranstaltungen :::
ATTACH;FMTTYPE=image/jpeg:https://enneagramm-lehrer.de/wp-content/uploads/Ralf-Kern.jpeg
END:VEVENT
BEGIN:VEVENT
DTSTART;TZID=Europe/Berlin:20240127T140000
DTEND;TZID=Europe/Berlin:20240127T180000
DTSTAMP:20260424T142227
CREATED:20231208T191456Z
LAST-MODIFIED:20240125T082206Z
UID:10000123-1706364000-1706378400@enneagramm-lehrer.de
SUMMARY:Das Enneagramm - Jahrestraining 2024
DESCRIPTION:  \nHeilung / Befreiung  \nPotentialentwicklung und Selbsterkerkenntnis mit Hilfe des Enneagramms\n			\n				\n				\n				\n				\n				Das Jahrestraining 2024 beginnt am 27. Januar 2024 bei\nMike Weiss im SAT Yoga Center\, Erlenweg 3b in 64668 Rimbach\num 14 Uhr (bis gegen 18 Uhr). \nKosten: für das erste Treffen 35\,- Euro für das gesamte Training (9 Termine) 350\,- Euro \nTeilnahme-Voraussetzungen: Kenntnisse des Enneagramm-Modells und des eigenen Charaktermusters sind wünschenswert. Introspektionsfähigkeit und der Wunsch nach Entwicklung der Persönlichkeit werden vorausgesetzt. \nFlyer \nAnmeldung / weitere Infos:\nbei Volker Ertel unter 01520 2138923 oder\nper Email: praxis@begegnungderstille.de
URL:https://enneagramm-lehrer.de/event/das-enneagramm-jahrestraining-2024/
LOCATION:Rimbach\, Erlenweg 3b\, Rimbach\, 64668
CATEGORIES:::: sonstige Veranstaltungen :::
ATTACH;FMTTYPE=image/jpeg:https://enneagramm-lehrer.de/wp-content/uploads/Volker-Ertel-E.jpeg
END:VEVENT
BEGIN:VEVENT
DTSTART;TZID=Europe/Berlin:20240131T193000
DTEND;TZID=Europe/Berlin:20240131T193000
DTSTAMP:20260424T142227
CREATED:20231202T123622Z
LAST-MODIFIED:20240525T202637Z
UID:10000119-1706729400-1706729400@enneagramm-lehrer.de
SUMMARY:Resilienter mit meinem Typ – wie kann mir das gelingen? (Typ 5)
DESCRIPTION:Zoom-Link\n			\n			\n				\n				\n				\n				\n				\n				\n				\n				\n				\n				Meeting-ID: 87283769032\nKenncode: emt1bis9 \n			\n			\n				\n				\n				\n				\n				\n				\n				\n				\n				\n				Ansprechpartner:\nAndrea Rossmar 0171 3077038 \n			\n			\n				\n				\n				\n				\n			\n				\n				\n			\n				\n				\n				\n				\n				\n				\n				\n				\n				\n				\n				\n				\n				\n				\n				\n				\n				\n				In unserer Reihe: „Resilienter  mit meinem Typ – wie kann mir das gelingen?„ist der Abend dieses Mal Typ 5 gewidmet. \nWir freuen uns deshalb besonders auf Vertreterinnen und Vertreter von Typ 5\, damit wir von euch über euch lernen können. \nWir wollen in dieser Panelreihe je Typ genauer eruieren\, wie bei uns Stress entsteht\, welche frühen Anzeichen wir erkennen können und der Frage nachgehen\, wie wir unsere psychische Widerstandskraft stärken können. Wir möchten erkunden\, wie wir unseren Alltag gelassener gestalten können und mit Belastungssituationen besser zurechtkommen. \nJe Abend bringen wir einen kleinen Impuls mit und möchten dann im Panelformat jeweils mit einem Enneagramm-Typ das Thema Stress und Resilienz erkunden.
URL:https://enneagramm-lehrer.de/event/resilienter-mit-meinem-typ-wie-kann-mir-das-gelingen-typ-5-2/
CATEGORIES:: Veranstaltungen EMT e.V. :
ATTACH;FMTTYPE=image/jpeg:https://enneagramm-lehrer.de/wp-content/uploads/Resilienz-e1707601809501.jpg
END:VEVENT
END:VCALENDAR