BEGIN:VCALENDAR
VERSION:2.0
PRODID:-//Enneagramm der mündlichen Tradition  EMT e.V. - ECPv6.15.20//NONSGML v1.0//EN
CALSCALE:GREGORIAN
METHOD:PUBLISH
X-WR-CALNAME:Enneagramm der mündlichen Tradition  EMT e.V.
X-ORIGINAL-URL:https://enneagramm-lehrer.de
X-WR-CALDESC:Veranstaltungen für Enneagramm der mündlichen Tradition  EMT e.V.
REFRESH-INTERVAL;VALUE=DURATION:PT1H
X-Robots-Tag:noindex
X-PUBLISHED-TTL:PT1H
BEGIN:VTIMEZONE
TZID:Europe/Berlin
BEGIN:DAYLIGHT
TZOFFSETFROM:+0100
TZOFFSETTO:+0200
TZNAME:CEST
DTSTART:20220327T010000
END:DAYLIGHT
BEGIN:STANDARD
TZOFFSETFROM:+0200
TZOFFSETTO:+0100
TZNAME:CET
DTSTART:20221030T010000
END:STANDARD
BEGIN:DAYLIGHT
TZOFFSETFROM:+0100
TZOFFSETTO:+0200
TZNAME:CEST
DTSTART:20230326T010000
END:DAYLIGHT
BEGIN:STANDARD
TZOFFSETFROM:+0200
TZOFFSETTO:+0100
TZNAME:CET
DTSTART:20231029T010000
END:STANDARD
BEGIN:DAYLIGHT
TZOFFSETFROM:+0100
TZOFFSETTO:+0200
TZNAME:CEST
DTSTART:20240331T010000
END:DAYLIGHT
BEGIN:STANDARD
TZOFFSETFROM:+0200
TZOFFSETTO:+0100
TZNAME:CET
DTSTART:20241027T010000
END:STANDARD
END:VTIMEZONE
BEGIN:VEVENT
DTSTART;TZID=Europe/Berlin:20231004T193000
DTEND;TZID=Europe/Berlin:20231004T193000
DTSTAMP:20260424T194056
CREATED:20230830T131317Z
LAST-MODIFIED:20230913T083221Z
UID:10000108-1696447800-1696447800@enneagramm-lehrer.de
SUMMARY:Die Enneatypen in Liebesbeziehungen (Typ 6)
DESCRIPTION:Zoom-Link\n			\n			\n				\n				\n				\n				\n				\n				\n				\n				\n				\n				Meeting-ID: 878 1446 5108​\nKenncode: 187519 \n			\n			\n				\n				\n				\n				\n				\n				\n				\n				\n				\n				Ansprechpartner:\n Ralf  Kern  06221 862508\nralf.email@gmail.com \n			\n			\n				\n				\n				\n				\n			\n				\n				\n				\n				\n				\n				\n				\n				\n				\n				\n				\n\n\n\n\n\n  \nHerzliche Einladung zur Zoom-Panel-Serie: \nDie Enneatypen in Liebesbeziehungen \nJeden 1. Mittwoch im Monat ab 19:30 \nAn diesen Abenden geht es um die Beziehungsstile der einzelnen Enneagramm-Typen in Paar- oder 1:1-Beziehungen.\nWir beschäftigen uns an jedem der Abende mit einem Enneatyp\, diesmal mit Typ Sechs. \nNach einer kurzen Einleitung zu den Basisthemen des jeweiligen Enneatyps gibt es ein Panel (Podiumsinterview) bei dem die Themen erörtert werden\, die im Paarbeziehungsfeld meist auftauchen:\nVerliebtheitsphasen; Alltagsphasen; Liebe\, Wünsche und Erwartungen; Partnerklagen\, Missverständnisse und Kommunikation; Veränderungspotenziale und Wachstum innerhalb der Beziehung. \nDann wird es kurze Breakout Sessions zur Vertiefung des Themas geben\, sowie danach die Möglichkeit den Panelteilnehmern Fragen zu stellen. \nLiebe Grüße\nDie EMT-Zoom-Panel-Gruppe
URL:https://enneagramm-lehrer.de/event/emt-zoom-panel-gruppe-online-2/
CATEGORIES:: Veranstaltungen EMT e.V. :
ATTACH;FMTTYPE=image/jpeg:https://enneagramm-lehrer.de/wp-content/uploads/Lagerfeuer.jpeg
END:VEVENT
BEGIN:VEVENT
DTSTART;TZID=Europe/Berlin:20231007T090000
DTEND;TZID=Europe/Berlin:20231007T173000
DTSTAMP:20260424T194056
CREATED:20230828T155942Z
LAST-MODIFIED:20230831T201546Z
UID:10000105-1696669200-1696699800@enneagramm-lehrer.de
SUMMARY:Einführung in das Enneagramm
DESCRIPTION:Rottannenweg 41\, 68305 Mannheim \nDas Enneagramm ist eines der ältesten Modelle\, mit dem man Persönlichkeit erklären und verstehen kann. Es unterscheidet und beschreibt 9 Persönlichkeitsstile – die Enneagrammtypen. Für jeden Typus zeigt das Enneagramm Stärken\, Schwächen und eine bestimmte Aufmerksamkeitsausrichtung sowie zugehörige Denk-\, Gefühls- und Handlungsmuster. \nFlyer Oktober 2023 \nDie Teilnahmegebühr beträgt 65 € \nAnmeldungen nimmt entgegen:Malwine Frey unter 0163/5564851(malwine.frey@web.de)Volker Ertel unter 01520/218923 (praxis@begegnungderstille.de)
URL:https://enneagramm-lehrer.de/event/einfuehrung-in-das-enneagramm/
LOCATION:Mannheim\, Rottannenweg 41\, Mannheim\, 68305
CATEGORIES:::: sonstige Veranstaltungen :::
ATTACH;FMTTYPE=image/jpeg:https://enneagramm-lehrer.de/wp-content/uploads/4-Menschen-1-e1693510650146.jpeg
END:VEVENT
BEGIN:VEVENT
DTSTART;TZID=Europe/Berlin:20231011T193000
DTEND;TZID=Europe/Berlin:20231011T210000
DTSTAMP:20260424T194056
CREATED:20230407T203049Z
LAST-MODIFIED:20231005T152230Z
UID:10000073-1697052600-1697058000@enneagramm-lehrer.de
SUMMARY:Kostenlose Enneagramm-Einführung (online)
DESCRIPTION:Kostenlose Enneagramm-Einführung\nIn dieser kostenlosen Einführung erfahren Sie Grundlegendes über das Enneagramm und gehen Ihrem eigenen Typ auf die Spur. \nDie Einführung wird online stattfinden. Die Zugangsdaten erhalten Sie nach der Anmeldung. Die Anmeldung können Sie direkt über den blauen Anmeldebutton vornehmen. \nInfos zur Einführung und Anmeldung: \nAnmeldung und Rückfragen per Mail an: info@enneagramm-akademie.com \n\n\nDiese Online-Einführung wird durchgeführt von: \nHannah und Ralf \n\n\n			\n				Hier geht es zur Anmeldung
URL:https://enneagramm-lehrer.de/event/kostenlose-enneagramm-einfuehrung-2-2-2/
CATEGORIES::: Veranstaltungen der Akademie ::
ATTACH;FMTTYPE=image/png:https://enneagramm-lehrer.de/wp-content/uploads/Ennea2b.png
END:VEVENT
BEGIN:VEVENT
DTSTART;TZID=Europe/Berlin:20231011T193000
DTEND;TZID=Europe/Berlin:20231011T210000
DTSTAMP:20260424T194056
CREATED:20230810T054525Z
LAST-MODIFIED:20230927T070729Z
UID:10000103-1697052600-1697058000@enneagramm-lehrer.de
SUMMARY:Beziehungswerkstatt (online)
DESCRIPTION:Zoom-Link\n			\n			\n				\n				\n				\n				\n				\n				\n				\n				\n				\n				Meeting-ID: 839 9070 3692Kenncode: 026608 \n			\n			\n				\n				\n				\n				\n				\n				\n				\n				\n				\n				Ansprechpartner: Andrea Rossmar 0171 3077038 \n			\n			\n				\n				\n				\n				\n			\n				\n				\n				\n				\n				\n				\n				\n				\n				\n				\n				Die Anlässe\, etwas für eine Beziehung zu tun\, sind -so wie das Leben- vielfältig und vielschichtig: \n\nPartnerklage / eigene Unzufriedenheit in der Partnerschaft\nBeziehungsklage am Arbeitsplatz / eigene Unzufriedenheit\nFührungsbeziehungen / Eigenerkenntnis\nEigeninitiative zur persönlichen Weiterentwicklung\nUnzufriedenheit mit der eigenen Person\n\nIm Mittelpunkt stehen also Paare\, Eltern / Kinder\, Freundschaften\, Arbeitskolleg:innen\, Vorgesetzte oder „Ich“ selbst. \nAls Rahmen für die Beratung möchten wir das Model der „kollegialen Beratung“ nutzen.\nDie Voraussetzung ist: ein oder mehrere Anliegen von Euch stehen für die Werkstatt zur Verfügung. \nUnsere Erfahrung\, das Enneagramm und weitere Modelle können zur Klärung und Weiterentwicklung genutzt werden. \nWir freuen uns auf Euch! \nAndrea und Stefan
URL:https://enneagramm-lehrer.de/event/beziehungswerkstatt-online/
CATEGORIES:: Veranstaltungen EMT e.V. :
ATTACH;FMTTYPE=image/jpeg:https://enneagramm-lehrer.de/wp-content/uploads/Beziehungen.jpeg
END:VEVENT
BEGIN:VEVENT
DTSTART;TZID=Europe/Berlin:20231019T160000
DTEND;TZID=Europe/Berlin:20231022T170000
DTSTAMP:20260424T194056
CREATED:20230306T094838Z
LAST-MODIFIED:20230901T152638Z
UID:10000061-1697731200-1697994000@enneagramm-lehrer.de
SUMMARY:Enneagramm Intensiv Modul 3 (Nähe Stuttgart)
DESCRIPTION:Modul 3: Differenzierung\nWir stellen zunächst die neun Typen und deren Schlüsselthemen anhand so genannter Panel-Interviews vor. Wichtige theoretische Grundlagen zum Führen typdiagnostischer Interviews\, wie z.B. Aufbau eines Interviews\, Haltung\, Fragetechnik\, Einbeziehung verschiedener Ebenen von Informationen (verbal\, nonverbal\, intuitiv) werden vermittelt. \nIn einem Live-Interview werden die theoretischen Inhalte anschaulich demonstriert und schließlich von den Teilnehmenden selbst an echten Proband*innen angewandt und geübt. \nDazu hat jede/r Teilnehmende für seine/ihre Interviews einen erfahrenen Coach zur Unterstützung und Supervision an seiner/ihrer Seite. \nInfos zur Tagung und Anmeldung: \nAnmeldung und Rückfragen per Mail an: info@enneagramm-akademie.com \nSeminarpreise: \nFirmenkunden: Module 1 und 3 jeweils 590 €\, Module 2 und 4 jeweils 400 €(zzgl. MwSt.) \nSelbstzahler und Non-Profit-Organisationen: Module 1 und 3 jeweils 450 €\,Module 2 und 4 jeweils 300 € (inkl. MwSt.)Ermäßigung nach vorheriger Absprache. \nVeranstaltungsort:„HAAUS“\, WN-Weinstadt Nähe Stuttgart (www.haaus.de)\, bitte buchen Sie über uns odergeben Sie „Ennneagramm-Seminar“ als Stichwort an. \nPreise 2023 (voraussichtlich):Tagungspauschale ca. 95€ inkl. MwSt (für die gesamte Seminarzeit) inkl. Abendessen\, exkl.Mittagessen\, 75€ pro Nacht Übernachtung/Frühstück im eigenen Seminarhaus (inkl. 30%Rabatt) \nBei Anreise mit öffentlichen Verkehrsmitteln empfehlen wir die Ankunft am S-Bahnhof(Weinstadt-) Endersbach. Ein kostenloser Shuttle kann organisiert werden – bitte sprechen Sieuns an! \nDieses Seminar wir von unserem Fortbildungsinstitut “Enneagramm Akademie” angeboten und durchgeführt. \n			\n				Hier geht es zur Anmeldung
URL:https://enneagramm-lehrer.de/event/enneagramm-intensiv-modul-3/
LOCATION:„HAAUS“ Das Seminarhaus im Grünen\, Forststraße 17\, Weinstadt-Baach\, 71384
CATEGORIES::: Veranstaltungen der Akademie ::
ATTACH;FMTTYPE=image/jpeg:https://enneagramm-lehrer.de/wp-content/uploads/Enneagramm-AkademieM11.jpeg
END:VEVENT
BEGIN:VEVENT
DTSTART;TZID=Europe/Berlin:20231020T193000
DTEND;TZID=Europe/Berlin:20231020T220000
DTSTAMP:20260424T194056
CREATED:20230905T061746Z
LAST-MODIFIED:20231015T081257Z
UID:10000109-1697830200-1697839200@enneagramm-lehrer.de
SUMMARY:Dossenheimer Ennegrammgruppe
DESCRIPTION:Liebe Enneagramm-Freunde\,bei unserem nächsten Treffen\, am 20. Okober möchten wir uns mit einer alten Sufi-Weisheit beschäftigen\, die uns einige Fallen auf dem spirituellen Weg vor Augen führt: \nFallen:Undankbarkeit im GlückUngeduld im UnglückUnzufriedenheit mit dem eigenen LosZögern beim Dienst an den Mitmenschen \nAnsari \nNach der Begrüßungsrunde wollen wir uns mit verschieden Methoden dem Inhalt dieses Ansari-Zitats nähern\, dabei sehen was es mit uns und unserem Enneatyp zu tun hat und wie wir es für unsere Entwicklung nutzen können. \n			\n				\n				\n				\n				\n				Wo: 69221 Dossenheim (bei Heidelberg)\nTermine: Immer am dritten Freitag im Monat. \nBitte vorher anmelden\, Vorkenntnisse erforderlich –\nd.h. Klarheit über den eigenen Typ\, sowie das ganze System. \nKontakt & Anmeldung: \n \nRalf Kern\, Ennegrammlehrer EMT\nTel.: 06221 862508\nMail: ralf.email@gmail.com
URL:https://enneagramm-lehrer.de/event/dossenheimer-ennegrammgruppe-3/
LOCATION:Dossenheim\, Friedrichstrasse 10\, 69221
CATEGORIES:::: sonstige Veranstaltungen :::
ATTACH;FMTTYPE=image/jpeg:https://enneagramm-lehrer.de/wp-content/uploads/KuechentischDossenheim.jpeg
END:VEVENT
BEGIN:VEVENT
DTSTART;TZID=Europe/Berlin:20231025T193000
DTEND;TZID=Europe/Berlin:20231025T193000
DTSTAMP:20260424T194057
CREATED:20230810T132118Z
LAST-MODIFIED:20231001T184642Z
UID:10000104-1698262200-1698262200@enneagramm-lehrer.de
SUMMARY:Resilienter mit meinem Typ – wie kann mir das gelingen? (Typ 3)
DESCRIPTION:Zoom-Link\n			\n			\n				\n				\n				\n				\n				\n				\n				\n				\n				\n				Meeting-ID: 87283769032Kenncode: emt1bis9 \n			\n			\n				\n				\n				\n				\n				\n				\n				\n				\n				\n				Ansprechpartner:Andrea Rossmar 0171 3077038 \n			\n			\n				\n				\n				\n				\n			\n				\n				\n			\n				\n				\n				\n				\n				\n				\n				\n				\n				\n				\n				\n				\n				\n				\n				\n				\n				\n				In unserer Reihe: „Resilienter  mit meinem Typ – wie kann mir das gelingen?“ ist der Abend dieses Mal Typ 3 gewidmet. \nWir freuen uns deshalb besonders auf Vertreterinnen und Vertreter von Typ 3\, damit wir von euch über euch lernen können. \nWir wollen in dieser Panelreihe je Typ genauer eruieren\, wie bei uns Stress entsteht\, welche frühen Anzeichen wir erkennen können und der Frage nachgehen\, wie wir unsere psychische Widerstandskraft stärken können. Wir möchten erkunden\, wie wir unseren Alltag gelassener gestalten können und mit Belastungssituationen besser zurechtkommen. \nJe Abend bringen wir einen kleinen Impuls mit und möchten dann im Panelformat jeweils mit einem Enneagramm-Typ das Thema Stress und Resilienz erkunden.
URL:https://enneagramm-lehrer.de/event/emt-mitgliedertreffen-online-3/
CATEGORIES:: Veranstaltungen EMT e.V. :
ATTACH;FMTTYPE=image/jpeg:https://enneagramm-lehrer.de/wp-content/uploads/resilience-7499752_1280-e1691673169640.jpeg
END:VEVENT
END:VCALENDAR