BEGIN:VCALENDAR
VERSION:2.0
PRODID:-//Enneagramm der mündlichen Tradition  EMT e.V. - ECPv6.15.20//NONSGML v1.0//EN
CALSCALE:GREGORIAN
METHOD:PUBLISH
X-ORIGINAL-URL:https://enneagramm-lehrer.de
X-WR-CALDESC:Veranstaltungen für Enneagramm der mündlichen Tradition  EMT e.V.
REFRESH-INTERVAL;VALUE=DURATION:PT1H
X-Robots-Tag:noindex
X-PUBLISHED-TTL:PT1H
BEGIN:VTIMEZONE
TZID:Europe/Berlin
BEGIN:DAYLIGHT
TZOFFSETFROM:+0100
TZOFFSETTO:+0200
TZNAME:CEST
DTSTART:20220327T010000
END:DAYLIGHT
BEGIN:STANDARD
TZOFFSETFROM:+0200
TZOFFSETTO:+0100
TZNAME:CET
DTSTART:20221030T010000
END:STANDARD
BEGIN:DAYLIGHT
TZOFFSETFROM:+0100
TZOFFSETTO:+0200
TZNAME:CEST
DTSTART:20230326T010000
END:DAYLIGHT
BEGIN:STANDARD
TZOFFSETFROM:+0200
TZOFFSETTO:+0100
TZNAME:CET
DTSTART:20231029T010000
END:STANDARD
BEGIN:DAYLIGHT
TZOFFSETFROM:+0100
TZOFFSETTO:+0200
TZNAME:CEST
DTSTART:20240331T010000
END:DAYLIGHT
BEGIN:STANDARD
TZOFFSETFROM:+0200
TZOFFSETTO:+0100
TZNAME:CET
DTSTART:20241027T010000
END:STANDARD
END:VTIMEZONE
BEGIN:VEVENT
DTSTART;TZID=Europe/Berlin:20230906T193000
DTEND;TZID=Europe/Berlin:20230906T193000
DTSTAMP:20260424T211354
CREATED:20230729T083753Z
LAST-MODIFIED:20230829T191226Z
UID:10000102-1694028600-1694028600@enneagramm-lehrer.de
SUMMARY:EMT-Zoom-Panel-Gruppe (online)
DESCRIPTION:Zoom-Link\n			\n			\n				\n				\n				\n				\n				\n				\n				\n				\n				\n				Meeting-ID: 878 1446 5108​Kenncode: 187519 \n			\n			\n				\n				\n				\n				\n				\n				\n				\n				\n				\n				Ansprechpartner: Ralf  Kern  06221 862508ralf.email@gmail.com \n			\n			\n				\n				\n				\n				\n			\n				\n				\n				\n				\n				\n				\n				\n				\n				\n				\n				\n\n\n\n\n\n  \nHerzliche Einladung zur Zoom-Panel-Serie: \nDie Enneatypen in Liebesbeziehungen \nJeden 1. Mittwoch im Monat ab 19:30 \nAn diesen Abenden geht es um die Beziehungsstile der einzelnen Enneagramm-Typen in Paar- oder 1:1-Beziehungen.Wir beschäftigen uns an jedem der Abende mit einem Enneatyp\, diesmal mit Typ Fünf. \nNach einer kurzen Einleitung zu den Basisthemen des jeweiligen Enneatyps gibt es ein Panel (Podiumsinterview) bei dem die Themen erörtert werden\, die im Paarbeziehungsfeld meist auftauchen:Verliebtheitsphasen; Alltagsphasen; Liebe\, Wünsche und Erwartungen; Partnerklagen\, Missverständnisse und Kommunikation; Veränderungspotenziale und Wachstum innerhalb der Beziehung. \nDann wird es kurze Breakout Sessions zur Vertiefung des Themas geben\, sowie danach die Möglichkeit den Panelteilnehmern Fragen zu stellen. \nLiebe GrüßeDie EMT-Zoom-Panel-Gruppe
URL:https://enneagramm-lehrer.de/event/emt-zoom-panel-gruppe-online/
CATEGORIES:: Veranstaltungen EMT e.V. :
ATTACH;FMTTYPE=image/jpeg:https://enneagramm-lehrer.de/wp-content/uploads/Lagerfeuer.jpeg
END:VEVENT
BEGIN:VEVENT
DTSTART;TZID=Europe/Berlin:20230916T150000
DTEND;TZID=Europe/Berlin:20230916T163000
DTSTAMP:20260424T211354
CREATED:20230407T202123Z
LAST-MODIFIED:20230916T193454Z
UID:10000072-1694876400-1694881800@enneagramm-lehrer.de
SUMMARY:Kostenlose Enneagramm-Einführung (online)
DESCRIPTION:Kostenlose Enneagramm-Einführung\nIn dieser kostenlosen Einführung erfahren Sie Grundlegendes über das Enneagramm und gehen Ihrem eigenen Typ auf die Spur. \nDie Einführung wird online stattfinden. Die Zugangsdaten erhalten Sie nach der Anmeldung. Die Anmeldung können Sie direkt über den blauen Anmeldebutton vornehmen. \nInfos zur Einführung und Anmeldung: \nAnmeldung und Rückfragen per Mail an: info@enneagramm-akademie.com \nDiese Online-Einführung wird durchgeführt von: \nBirgit und Daniel \n			\n				Hier geht es zur Anmeldung
URL:https://enneagramm-lehrer.de/event/kostenlose-enneagramm-einfuehrung-2-2/
CATEGORIES::: Veranstaltungen der Akademie ::
ATTACH;FMTTYPE=image/png:https://enneagramm-lehrer.de/wp-content/uploads/Ennea2b.png
END:VEVENT
BEGIN:VEVENT
DTSTART;TZID=Europe/Berlin:20230927T193000
DTEND;TZID=Europe/Berlin:20230927T193000
DTSTAMP:20260424T211354
CREATED:20230729T080650Z
LAST-MODIFIED:20230913T082704Z
UID:10000100-1695843000-1695843000@enneagramm-lehrer.de
SUMMARY:Resilienter mit meinem Typ – wie kann mir das gelingen?  (Typ 2)
DESCRIPTION:Zoom-Link\n			\n			\n				\n				\n				\n				\n				\n				\n				\n				\n				\n				Meeting-ID: 87283769032Kenncode: 97806353 \n			\n			\n				\n				\n				\n				\n				\n				\n				\n				\n				\n				Ansprechpartner:Andrea Rossmar 0171 3077038 \n			\n			\n				\n				\n				\n				\n			\n				\n				\n			\n				\n				\n				\n				\n				\n				\n				\n				\n				\n				\n				\n				\n				\n				\n				\n				\n				\n				In unserer Reihe: „Resilienter  mit meinem Typ – wie kann mir das gelingen?“ ist der Abend dieses Mal Typ 2 gewidmet. \nWir freuen uns deshalb besonders auf Vertreterinnen und Vertreter von Typ 2\, damit wir von euch über euch lernen können. \nWir wollen in dieser Panelreihe je Typ genauer eruieren\, wie bei uns Stress entsteht\, welche frühen Anzeichen wir erkennen können und der Frage nachgehen\, wie wir unsere psychische Widerstandskraft stärken können. Wir möchten erkunden\, wie wir unseren Alltag gelassener gestalten können und mit Belastungssituationen besser zurechtkommen. \nJe Abend bringen wir einen kleinen Impuls mit und möchten dann im Panelformat jeweils mit einem Enneagramm-Typ das Thema Stress und Resilienz erkunden.
URL:https://enneagramm-lehrer.de/event/emt-mitgliedertreffen-online-2/
CATEGORIES:: Veranstaltungen EMT e.V. :
ATTACH;FMTTYPE=image/jpeg:https://enneagramm-lehrer.de/wp-content/uploads/resilience-7499752_1280-e1691673169640.jpeg
END:VEVENT
END:VCALENDAR