BEGIN:VCALENDAR
VERSION:2.0
PRODID:-//Enneagramm der mündlichen Tradition  EMT e.V. - ECPv6.15.20//NONSGML v1.0//EN
CALSCALE:GREGORIAN
METHOD:PUBLISH
X-WR-CALNAME:Enneagramm der mündlichen Tradition  EMT e.V.
X-ORIGINAL-URL:https://enneagramm-lehrer.de
X-WR-CALDESC:Veranstaltungen für Enneagramm der mündlichen Tradition  EMT e.V.
REFRESH-INTERVAL;VALUE=DURATION:PT1H
X-Robots-Tag:noindex
X-PUBLISHED-TTL:PT1H
BEGIN:VTIMEZONE
TZID:Europe/Berlin
BEGIN:DAYLIGHT
TZOFFSETFROM:+0100
TZOFFSETTO:+0200
TZNAME:CEST
DTSTART:20220327T010000
END:DAYLIGHT
BEGIN:STANDARD
TZOFFSETFROM:+0200
TZOFFSETTO:+0100
TZNAME:CET
DTSTART:20221030T010000
END:STANDARD
BEGIN:DAYLIGHT
TZOFFSETFROM:+0100
TZOFFSETTO:+0200
TZNAME:CEST
DTSTART:20230326T010000
END:DAYLIGHT
BEGIN:STANDARD
TZOFFSETFROM:+0200
TZOFFSETTO:+0100
TZNAME:CET
DTSTART:20231029T010000
END:STANDARD
BEGIN:DAYLIGHT
TZOFFSETFROM:+0100
TZOFFSETTO:+0200
TZNAME:CEST
DTSTART:20240331T010000
END:DAYLIGHT
BEGIN:STANDARD
TZOFFSETFROM:+0200
TZOFFSETTO:+0100
TZNAME:CET
DTSTART:20241027T010000
END:STANDARD
END:VTIMEZONE
BEGIN:VEVENT
DTSTART;TZID=Europe/Berlin:20230630T140000
DTEND;TZID=Europe/Berlin:20230702T170000
DTSTAMP:20260425T004225
CREATED:20230306T094012Z
LAST-MODIFIED:20230629T082354Z
UID:10000060-1688133600-1688317200@enneagramm-lehrer.de
SUMMARY:Enneagramm Intensiv Modul 2
DESCRIPTION:Modul 2: Verständnis\nIn diesem Teil des Trainings lernen Sie mittels Theorie\, Übungen und Live-Interviews Richtungen\, Strategien und Methoden der psychologischen Entwicklung für die neun Typen kennen. \nDurch praktische Erfahrungen und Reflexionen erhalten Sie tiefere Einblicke in die Automatismen des eigenen Typs\, wie diese bewusst gemacht und weiterentwickelt werden können. \nInfos zur Tagung und Anmeldung: \nAnmeldung und Rückfragen per Mail an: info@enneagramm-akademie.com \nSeminarpreise: \nFirmenkunden: Module 1 und 3 jeweils 590 €\, Module 2 und 4 jeweils 400 €(zzgl. MwSt.) \nSelbstzahler und Non-Profit-Organisationen: Module 1 und 3 jeweils 450 €\,Module 2 und 4 jeweils 300 € (inkl. MwSt.)Ermäßigung nach vorheriger Absprache. \nVeranstaltungsort:„HAAUS“\, WN-Weinstadt Nähe Stuttgart (www.haaus.de)\, bitte buchen Sie über uns odergeben Sie „Ennneagramm-Seminar“ als Stichwort an. \nPreise 2023 (voraussichtlich):Tagungspauschale ca. 95€ inkl. MwSt (für die gesamte Seminarzeit) inkl. Abendessen\, exkl.Mittagessen\, 75€ pro Nacht Übernachtung/Frühstück im eigenen Seminarhaus (inkl. 30%Rabatt) \nBei Anreise mit öffentlichen Verkehrsmitteln empfehlen wir die Ankunft am S-Bahnhof(Weinstadt-) Endersbach. Ein kostenloser Shuttle kann organisiert werden – bitte sprechen Sieuns an! \nDieses Seminar wir von unserem Fortbildungsinstitut “Enneagramm Akademie” angeboten und durchgeführt. \n			\n				Hier geht es zur Anmeldung
URL:https://enneagramm-lehrer.de/event/enneagramm-intensiv-modul-2/
LOCATION:„HAAUS“ Das Seminarhaus im Grünen\, Forststraße 17\, Weinstadt-Baach\, 71384
CATEGORIES::: Veranstaltungen der Akademie ::
ATTACH;FMTTYPE=image/jpeg:https://enneagramm-lehrer.de/wp-content/uploads/Enneagramm-AkademieM11.jpeg
END:VEVENT
BEGIN:VEVENT
DTSTART;TZID=Europe/Berlin:20230705T193000
DTEND;TZID=Europe/Berlin:20230705T193000
DTSTAMP:20260425T004225
CREATED:20230427T174011Z
LAST-MODIFIED:20230627T151801Z
UID:10000080-1688585400-1688585400@enneagramm-lehrer.de
SUMMARY:EMT-Zoom-Panel-Gruppe (online)
DESCRIPTION:Zoom-Link\n			\n			\n				\n				\n				\n				\n				\n				\n				\n				\n				\n				Meeting-ID: 878 1446 5108​Kenncode: 187519 \n			\n			\n				\n				\n				\n				\n				\n				\n				\n				\n				\n				Ansprechpartner: Ralf  Kern  06221 862508 ralf.email@gmail.com \n  \n			\n			\n				\n				\n				\n				\n			\n				\n				\n				\n				\n				\n				\n				\n				\n				\n				\n				\n\n\n\n\n\nHerzliche Einladung zur Zoom-Panel-Serie: \nDie Enneatypen in Liebesbeziehungen \nJeden 1. Mittwoch im Monat ab 19:30 \nAn diesen Abenden geht es um die Beziehungsstile der einzelnen Enneagramm-Typen in Paar- oder 1:1-Beziehungen.Wir beschäftigen uns an jedem der Abende mit einem Enneatyp\, diesmal mit Typ Drei. \nNach einer kurzen Einleitung zu den Basisthemen des jeweiligen Enneatyps gibt es ein Panel (Podiumsinterview) bei dem die Themen erörtert werden\, die im Paarbeziehungsfeld meist auftauchen:Verliebtheitsphasen; Alltagsphasen; Liebe\, Wünsche und Erwartungen; Partnerklagen\, Missverständnisse und Kommunikation; Veränderungspotenziale und Wachstum innerhalb der Beziehung. \nDann wird es kurze Breakout Sessions zur Vertiefung des Themas geben\, sowie danach die Möglichkeit den Panelteilnehmern Fragen zu stellen. \nLiebe GrüßeDie EMT-Zoom-Panel-Gruppe
URL:https://enneagramm-lehrer.de/event/emt-zoom-panelgruppe-4-2-2/
CATEGORIES:: Veranstaltungen EMT e.V. :
ATTACH;FMTTYPE=image/jpeg:https://enneagramm-lehrer.de/wp-content/uploads/Lagerfeuer.jpeg
END:VEVENT
BEGIN:VEVENT
DTSTART;TZID=Europe/Berlin:20230715T100000
DTEND;TZID=Europe/Berlin:20230715T183000
DTSTAMP:20260425T004225
CREATED:20230628T132106Z
LAST-MODIFIED:20230705T072822Z
UID:10000095-1689415200-1689445800@enneagramm-lehrer.de
SUMMARY:Wie tickt Enneagramm Typ 7? Wie ticke ich?
DESCRIPTION:Das Enneagrammseminar „Wie tickt Typ 7? – Wie ticke ich?“ gewährt einen tiefen Einblick in die Welt der Menschen von Enneagrammtyp 7 mit deren Motiven\, Bedürfnissen sowie ihrer Art\, zu denken\, zu fühlen und zu handeln. \nLink zur Veranstaltung:„mehr Infos zu dieser Veranstaltung“
URL:https://enneagramm-lehrer.de/event/wie-tickt-enneagramm-typ-7-wie-ticke-ich/
LOCATION:Restaurant Café Am Bottloch – Wiesloch-Frauenweiler\, Zeisigweg 3\, 68168
CATEGORIES:::: sonstige Veranstaltungen :::
ATTACH;FMTTYPE=image/jpeg:https://enneagramm-lehrer.de/wp-content/uploads/xenia-pompe-enneagrammlehrerin-1.jpg
END:VEVENT
BEGIN:VEVENT
DTSTART;TZID=Europe/Berlin:20230721T193000
DTEND;TZID=Europe/Berlin:20230721T193000
DTSTAMP:20260425T004225
CREATED:20230701T212909Z
LAST-MODIFIED:20230716T073444Z
UID:10000097-1689967800-1689967800@enneagramm-lehrer.de
SUMMARY:Dossenheimer Ennegrammgruppe
DESCRIPTION:Liebe Enneagrammfreunde\,am kommenden Freitagabend\, d.h. am 21. Juli um 19:30 geht es weiter mit der Staffel zum Thema: „Sich von der Fixierung lösen“. \nNach der Befindlichkeitsrunde am Anfang wird es ein klassisches Panel geben wo wir uns im zweiten Teil dem Thema der Loslösung von der Fixierung widmen. Diesmal steht Typ Fünf im Focus. Es wird auch eine repetetive Frage undeine gemeinsame meditative Übung\, passend zu dem Typ\, der auf dem Panel ist geben. \nWenn ihr noch Fünfen kennt\, die gerne dabei sein möchten\, gebt ihnen gerne Bescheid!Und gebt bitte auch mir Bescheid\, wenn ihr selber eine Fünf seid und kommen wollt. \nUnd auch schon mal für alle die noch nicht hier waren die Adresse:Dossenheim\, Friedrichstr. 10\, Rückgebäude\, letzter Eingang\, bei Ralf Kern \nLieber GrußRalf \n			\n				\n				\n				\n				\n				Wo: 69221 Dossenheim (bei Heidelberg)\nTermine: Immer am dritten Freitag im Monat. \nBitte vorher anmelden\, Vorkenntnisse erforderlich –\nd.h. Klarheit über den eigenen Typ\, sowie das ganze System. \nKontakt & Anmeldung: \n \nRalf Kern\, Ennegrammlehrer EMT\nTel.: 06221 862508\nMail: ralf.email@gmail.com
URL:https://enneagramm-lehrer.de/event/dossenheimer-ennegrammgruppe21-7-23/
LOCATION:Dossenheim\, Friedrichstrasse 10\, 69221
CATEGORIES:::: sonstige Veranstaltungen :::
ATTACH;FMTTYPE=image/jpeg:https://enneagramm-lehrer.de/wp-content/uploads/KuechentischDossenheim.jpeg
END:VEVENT
BEGIN:VEVENT
DTSTART;TZID=Europe/Berlin:20230725T190000
DTEND;TZID=Europe/Berlin:20230725T203000
DTSTAMP:20260425T004225
CREATED:20230510T211509Z
LAST-MODIFIED:20230627T143351Z
UID:10000085-1690311600-1690317000@enneagramm-lehrer.de
SUMMARY:Kostenlose Enneagramm-Einführung (online)
DESCRIPTION:Kostenlose Enneagramm-Einführung\nIn dieser kostenlosen Einführung erfahren Sie Grundlegendes über das Enneagramm und gehen Ihrem eigenen Typ auf die Spur. \nDie Einführung wird online stattfinden. Die Zugangsdaten erhalten Sie nach der Anmeldung. Die Anmeldung können Sie direkt über den blauen Anmeldebutton vornehmen. \nInfos zur Einführung und Anmeldung: \nAnmeldung und Rückfragen per Mail an: info@enneagramm-akademie.com \n\n\nDiese Online-Einführung wird durchgeführt von: \nAndrea und Birgit \n\n\n			\n				Hier geht es zur Anmeldung
URL:https://enneagramm-lehrer.de/event/kostenlose-enneagramm-einfuehrung-2-2-3-2/
CATEGORIES::: Veranstaltungen der Akademie ::
ATTACH;FMTTYPE=image/png:https://enneagramm-lehrer.de/wp-content/uploads/EnnegrammEinfuehrung2.png
END:VEVENT
END:VCALENDAR