BEGIN:VCALENDAR
VERSION:2.0
PRODID:-//Enneagramm der mündlichen Tradition  EMT e.V. - ECPv6.15.20//NONSGML v1.0//EN
CALSCALE:GREGORIAN
METHOD:PUBLISH
X-WR-CALNAME:Enneagramm der mündlichen Tradition  EMT e.V.
X-ORIGINAL-URL:https://enneagramm-lehrer.de
X-WR-CALDESC:Veranstaltungen für Enneagramm der mündlichen Tradition  EMT e.V.
REFRESH-INTERVAL;VALUE=DURATION:PT1H
X-Robots-Tag:noindex
X-PUBLISHED-TTL:PT1H
BEGIN:VTIMEZONE
TZID:Europe/Berlin
BEGIN:DAYLIGHT
TZOFFSETFROM:+0100
TZOFFSETTO:+0200
TZNAME:CEST
DTSTART:20220327T010000
END:DAYLIGHT
BEGIN:STANDARD
TZOFFSETFROM:+0200
TZOFFSETTO:+0100
TZNAME:CET
DTSTART:20221030T010000
END:STANDARD
BEGIN:DAYLIGHT
TZOFFSETFROM:+0100
TZOFFSETTO:+0200
TZNAME:CEST
DTSTART:20230326T010000
END:DAYLIGHT
BEGIN:STANDARD
TZOFFSETFROM:+0200
TZOFFSETTO:+0100
TZNAME:CET
DTSTART:20231029T010000
END:STANDARD
BEGIN:DAYLIGHT
TZOFFSETFROM:+0100
TZOFFSETTO:+0200
TZNAME:CEST
DTSTART:20240331T010000
END:DAYLIGHT
BEGIN:STANDARD
TZOFFSETFROM:+0200
TZOFFSETTO:+0100
TZNAME:CET
DTSTART:20241027T010000
END:STANDARD
END:VTIMEZONE
BEGIN:VEVENT
DTSTART;TZID=Europe/Berlin:20230503T193000
DTEND;TZID=Europe/Berlin:20230503T193000
DTSTAMP:20260425T041206
CREATED:20230406T094937Z
LAST-MODIFIED:20230603T134312Z
UID:10000070-1683142200-1683142200@enneagramm-lehrer.de
SUMMARY:EMT-Zoom-Panel-Gruppe (online)
DESCRIPTION:Zoom-Link\n			\n			\n				\n				\n				\n				\n				\n				\n				\n				\n				\n				Meeting-ID: 878 1446 5108​Kenncode: 187519 \n			\n			\n				\n				\n				\n				\n				\n				\n				\n				\n				\n				Ansprechpartner: Ralf  ralf.email@gmail.com \n  \n			\n			\n				\n				\n				\n				\n			\n				\n				\n				\n				\n				\n				\n				\n				\n				\n				\n				\n\n\n\n\n\nHerzliche Einladung zur Zoom-Panel-Serie: Die Enneatypen in Liebesbeziehungen \nab Mi\, 3. Mai 2023 jeden 1. Mittwoch im Monat 19:30 \nAn diesen Abenden geht es um die Beziehungsstile der einzelnen Enneagramm-Typen in Paar- oder 1:1-Beziehungen.Wir beschäftigen uns an jedem der Abende mit einem Enneatyp und beginnen mit Typ EINS. \nNach einer kurzen Einleitung zu den Basisthemen des jeweiligen Enneatyps gibt es ein Panel (Podiumsinterview) bei dem die Themen erörtert werden\, die im Paarbeziehungsfeld meist auftauchen: Verliebtheitsphasen; Alltagsphasen; Liebe\, Wünsche und Erwartungen; Partnerklagen\, Missverständnisse und Kommunikation; Veränderungspotenziale und Wachstum innerhalb der Beziehung.  \nDann wird es kurze Breakout Sessions zur Vertiefung des Themas geben\, sowie danach die Möglichkeit den Panelteilnehmern Fragen zu stellen. \nLiebe GrüßeDie EMT-Zoom-Panel-Gruppe
URL:https://enneagramm-lehrer.de/event/emt-zoom-panelgruppe-4-3/
CATEGORIES:: Veranstaltungen EMT e.V. :
ATTACH;FMTTYPE=image/jpeg:https://enneagramm-lehrer.de/wp-content/uploads/Lagerfeuer.jpeg
END:VEVENT
BEGIN:VEVENT
DTSTART;TZID=Europe/Berlin:20230510T190000
DTEND;TZID=Europe/Berlin:20230510T210000
DTSTAMP:20260425T041206
CREATED:20230407T200120Z
LAST-MODIFIED:20230428T090000Z
UID:10000071-1683745200-1683752400@enneagramm-lehrer.de
SUMMARY:Kostenlose Enneagramm-Einführung (online)
DESCRIPTION:Kostenlose Enneagramm-Einführung\nIn dieser kostenlosen Einführung erfahren Sie Grundlegendes über das Enneagramm und gehen Ihrem eigenen Typ auf die Spur. \nDie Einführung wird online stattfinden. Die Zugangsdaten erhalten Sie nach der Anmeldung. Die Anmeldung können Sie direkt über den blauen Anmeldebutton vornehmen. \nInfos zur Einführung und Anmeldung: \nAnmeldung und Rückfragen per Mail an: info@enneagramm-akademie.com\n			\n				Hier geht es zur Anmeldung
URL:https://enneagramm-lehrer.de/event/kostenlose-enneagramm-einfuehrung-2/
CATEGORIES::: Veranstaltungen der Akademie ::
ATTACH;FMTTYPE=image/png:https://enneagramm-lehrer.de/wp-content/uploads/EnnegrammEinfuehrung2.png
END:VEVENT
BEGIN:VEVENT
DTSTART;TZID=Europe/Berlin:20230519T193000
DTEND;TZID=Europe/Berlin:20230519T193000
DTSTAMP:20260425T041206
CREATED:20230406T091355Z
LAST-MODIFIED:20230508T164026Z
UID:10000069-1684524600-1684524600@enneagramm-lehrer.de
SUMMARY:Dossenheimer Ennegrammgruppe
DESCRIPTION:Liebe Enneagrammfreunde\, \nda wir erst beim übernächsten mal genug Siebenen für unser Wachstums-Panel haben\, wollen wir uns am 19. Mai tiefer mit dem Thema beschäftigen\, das wir auf der letzten Enneagrammlehrer-Tagung erörtert haben:Der Verlust unserer Essenz\, wie wir diese innere Leere\, diese „Löcher“ durch unser Muster befüllen und wie wir uns wieder an unsere wahre Natur erinnern können. \n— \n \n			\n				\n				\n				\n				\n				Wo: 69221 Dossenheim (bei Heidelberg)Termine: Immer am dritten Freitag im Monat. \nBitte vorher anmelden\, Vorkenntnisse erforderlich –d.h. Klarheit über den eigenen Typ\, sowie das ganze System. \nKontakt & Anmeldung: \n \nRalf Kern\, Ennegrammlehrer EMTTel.: 06221 862508Mail: ralf.email@gmail.com
URL:https://enneagramm-lehrer.de/event/dossenheimer-ennegrammgruppe-2/
LOCATION:Dossenheim\, Friedrichstrasse 10\, 69221
CATEGORIES:::: sonstige Veranstaltungen :::
ATTACH;FMTTYPE=image/jpeg:https://enneagramm-lehrer.de/wp-content/uploads/KuechentischDossenheim.jpeg
END:VEVENT
BEGIN:VEVENT
DTSTART;TZID=Europe/Berlin:20230523T190000
DTEND;TZID=Europe/Berlin:20230523T190000
DTSTAMP:20260425T041206
CREATED:20230421T073339Z
LAST-MODIFIED:20230427T185126Z
UID:10000076-1684868400-1684868400@enneagramm-lehrer.de
SUMMARY:EMT-Intervisionsgruppe (online)
DESCRIPTION:Zoom-Link\n			\n			\n				\n				\n				\n				\n				\n				\n				\n				\n				\n				Meeting-ID: 889 5851 6932Kenncode: 097956 \n			\n			\n				\n				\n				\n				\n				\n				\n				\n				\n				\n				Ansprechpartner: Stefan stefan.bregulla@t-online.de \n			\n			\n				\n				\n				\n				\n			\n				\n				\n				\n				\n				\n				\n				\n				\n				\n				\n				Liebe Enneagrammlehrer*innen \nAuch in 2023 finden unsere Intervisionstreffen weiter statt. Angesprochen sind Enneagrammlehrer und Menschen die sich intensiv mit dem Enneagramm beschäftigen. \nEs geht um den praktischen Austausch wie wir auf unserem Weg als Enneagrammlehrende weiterkommen. \nAm Dienstag\, 23. Mai um 19 Uhr\, treffen sich alle\, die inhaltlich an unserem Paar-Beziehungs-Workshop weiterarbeiten wollen. \nAnsprechpartner: Ralf Kern ralf.email@gmail.com 
URL:https://enneagramm-lehrer.de/event/emt-intervisionsgruppe-4-2-2-2-2-2-2-2-2/
CATEGORIES:: Veranstaltungen EMT e.V. :
ATTACH;FMTTYPE=image/jpeg:https://enneagramm-lehrer.de/wp-content/uploads/Intervisionsgruppe.jpeg
END:VEVENT
BEGIN:VEVENT
DTSTART;TZID=Europe/Berlin:20230524T193000
DTEND;TZID=Europe/Berlin:20230524T193000
DTSTAMP:20260425T041206
CREATED:20230409T172341Z
LAST-MODIFIED:20230429T065943Z
UID:10000074-1684956600-1684956600@enneagramm-lehrer.de
SUMMARY:EMT-Zoom-Abend: Aufstellung typischer Gesten der Enneagrammtypen (online)
DESCRIPTION:Zoom-Link\n			\n			\n				\n				\n				\n				\n				\n				\n				\n				\n				\n				Meeting-ID: 872 8376 9032\nKenncode: emt1bis9 \n			\n			\n				\n				\n				\n				\n				\n				\n				\n				\n				\n				Ansprechpartner: Rolf rkettenring@gmail.com \n			\n			\n				\n				\n				\n				\n			\n				\n				\n				\n				\n				\n				\n				\n				\n				\n				\n				Im Zoom Ende März hat Jürgen Reichert den Aufstellungsabend zum Thema Gesten für die Enneatypen geleitet.\nAn diesem Abend wurde die Fortsetzung für den 24.5 beschlossen.\n			\n				\n				\n				\n				\n				Bitte überlegt Euch für den Abend\, ob Ihr ein Anliegen für eine Aufstellung habt\, immer in Bezug auf den Enneatyp und dazu passende Gesten. \n			\n				\n				\n				\n				\n				Im März hat die Zeit für eine Aufstellung gereicht\, maximal werden wir an dem Abend 2 Aufstellungen machen können.
URL:https://enneagramm-lehrer.de/event/emt-zoom-abend-aufstellung-typischer-gesten-der-enneagrammtypen-2/
CATEGORIES:: Veranstaltungen EMT e.V. :
ATTACH;FMTTYPE=image/jpeg:https://enneagramm-lehrer.de/wp-content/uploads/Aufstellungs-Zoom.jpeg
END:VEVENT
END:VCALENDAR