BEGIN:VCALENDAR
VERSION:2.0
PRODID:-//Enneagramm der mündlichen Tradition  EMT e.V. - ECPv6.15.20//NONSGML v1.0//EN
CALSCALE:GREGORIAN
METHOD:PUBLISH
X-ORIGINAL-URL:https://enneagramm-lehrer.de
X-WR-CALDESC:Veranstaltungen für Enneagramm der mündlichen Tradition  EMT e.V.
REFRESH-INTERVAL;VALUE=DURATION:PT1H
X-Robots-Tag:noindex
X-PUBLISHED-TTL:PT1H
BEGIN:VTIMEZONE
TZID:Europe/Berlin
BEGIN:DAYLIGHT
TZOFFSETFROM:+0100
TZOFFSETTO:+0200
TZNAME:CEST
DTSTART:20220327T010000
END:DAYLIGHT
BEGIN:STANDARD
TZOFFSETFROM:+0200
TZOFFSETTO:+0100
TZNAME:CET
DTSTART:20221030T010000
END:STANDARD
BEGIN:DAYLIGHT
TZOFFSETFROM:+0100
TZOFFSETTO:+0200
TZNAME:CEST
DTSTART:20230326T010000
END:DAYLIGHT
BEGIN:STANDARD
TZOFFSETFROM:+0200
TZOFFSETTO:+0100
TZNAME:CET
DTSTART:20231029T010000
END:STANDARD
BEGIN:DAYLIGHT
TZOFFSETFROM:+0100
TZOFFSETTO:+0200
TZNAME:CEST
DTSTART:20240331T010000
END:DAYLIGHT
BEGIN:STANDARD
TZOFFSETFROM:+0200
TZOFFSETTO:+0100
TZNAME:CET
DTSTART:20241027T010000
END:STANDARD
END:VTIMEZONE
BEGIN:VEVENT
DTSTART;TZID=Europe/Berlin:20230402T190000
DTEND;TZID=Europe/Berlin:20230402T210000
DTSTAMP:20260425T054642
CREATED:20230329T121155Z
LAST-MODIFIED:20230329T123554Z
UID:10000068-1680462000-1680469200@enneagramm-lehrer.de
SUMMARY:Kostenlose Enneagramm-Einführung
DESCRIPTION:Kostenlose Enneagramm-Einführung\nIn dieser kostenlosen Einführung erfahren Sie Grundlegendes über das Enneagramm und gehen Ihrem eigenen Typ auf die Spur. \nDie Einführung wird online stattfinden. Die Zugangsdaten erhalten Sie nach der Anmeldung. Die Anmeldung können Sie direkt über den blauen Anmeldebutton vornehmen. \nInfos zur Einführung und Anmeldung: \nAnmeldung und Rückfragen per Mail an: info@enneagramm-akademie.com \n  \n			\n				Hier geht es zur Anmeldung
URL:https://enneagramm-lehrer.de/event/kostenlose-enneagramm-einfuehrung/
LOCATION:online
END:VEVENT
BEGIN:VEVENT
DTSTART;TZID=Europe/Berlin:20230418T190000
DTEND;TZID=Europe/Berlin:20230418T190000
DTSTAMP:20260425T054642
CREATED:20230213T094753Z
LAST-MODIFIED:20230416T092437Z
UID:10000057-1681844400-1681844400@enneagramm-lehrer.de
SUMMARY:EMT-Intervisionsgruppe (online)
DESCRIPTION:Zoom-Link\n			\n			\n				\n				\n				\n				\n				\n				\n				\n				\n				\n				Meeting-ID: 889 5851 6932\nKenncode: 097956 \n			\n			\n				\n				\n				\n				\n			\n				\n				\n				\n				\n				\n				\n				\n				\n				\n				\n				Liebe Enneagrammlehrer*innen \nAuch in 2023 finden unsere Intervisionstreffen weiter statt. Angesprochen sind Enneagrammlehrer und Menschen die sich intensiv mit dem Enneagramm beschäftigen. Es geht um den praktischen Austausch wie wir auf unserem Weg als Enneagrammlehrende weiterkommen. \nAm nächsten Dienstag\, 18. April um 19 Uhr\, treffen sich alle\, die inhaltlich an unserem Paar-Beziehungs-Workshop weiterarbeiten wollen.  \nWeitere Infos über e-mail-Verteiler (Intervisionsgruppe)
URL:https://enneagramm-lehrer.de/event/emt-intervisionsgruppe-4-2-2-2-2-2-2-2/
CATEGORIES:: Veranstaltungen EMT e.V. :
ATTACH;FMTTYPE=image/jpeg:https://enneagramm-lehrer.de/wp-content/uploads/Intervisionsgruppe.jpeg
END:VEVENT
BEGIN:VEVENT
DTSTART;TZID=Europe/Berlin:20230421T163000
DTEND;TZID=Europe/Berlin:20230423T133000
DTSTAMP:20260425T054642
CREATED:20221002T135559Z
LAST-MODIFIED:20230724T151120Z
UID:10000039-1682094600-1682256600@enneagramm-lehrer.de
SUMMARY:EMT Frühjahrstagung 2023
DESCRIPTION:Zum Ablauf- und Zeitplan\n			\n				\n				\n				\n				\n				Mit Jürgen Gündel \nH.A. Almaas: Die „Löcher“ \nTypübergreifende und typspezifische Wege zum Höheren Selbst.\nIn unserer Tagung im Frühjahr 2022 hatten wir erstmals Themen aus dem Diamond Approach ausgewählt. Dies setzen wir im Frühjahr 2023 auch auf vielfachen Wunsch von Mitgliedern fort. \nJürgen beschreibt den Inhalt folgendermaßen. \nAuch wenn wir es im Alltag oft nicht spüren: wir sind jederzeit mit dem Ursprung unseres Seins verbunden und können darüber bewusst und damit erfüllt sein. Im Verlauf unserer „normalen“ Entwicklung der automatisierten Persönlichkeit jedoch verlieren wir dieses Bewusstsein und es bleiben Gefühle der Leere\, des Mangels: Löcher eben. \nDiese zu spüren und auszuhalten ist relativ schwer. Unserer automatischen Persönlichkeit scheint es besser\, sie mit Suchtverhalten oder mit Verhalten\, das unser Typ vorgibt\, zu füllen. Dann spüren wir sie nicht mehr\, so glauben wir. Aber glücklicherweise hören sie unser ganzes Leben lang nicht auf\, an uns zu nagen und uns daran zu erinnern\, dass etwas verloren gegangen ist. \nWas geschieht\, wenn wir diesem „Nagen“ unsere Aufmerksamkeit schenken? Wenn wir bewusster wahrnehmen\, womit wir die Löcher füllen? Wenn wir das dann stoppen und das wahrgenommene Loch bewusst „halten“? Welche Erfahrungen jenseits des Typs können wir dann machen? \nIn diesem workshop nähern wir uns diesem Thema in übendem Selbstversuch\, Theorie und Panels. Er setzt das Thema der spirituellen Entwicklung über den Typ hinaus fort. \nDen theoretischen Hintergrund bilden H.A. Almaas Bücher „Facets of unity“ und „Keys to the Enneagram“. Der Schwerpunkt liegt aber auf der eigenen Erfahrung\, es muss zur Vorbereitung also nicht unbedingt etwas gelesen werden. \nNormale seelische und körperliche Belastbarkeit wird vorausgesetzt. \nWir freuen uns sehr auf die Tagung\, auf den Tagungsraum\, auf eine große Teilnehmerzahl und natürlich auf das Treffen mit Euch. \nWie wir mehrfach angekündigt haben\, ist es uns ein Anliegen\, unsere Tagungen für unsere Mitglieder zu einer günstigen Tagungsgebühr (diesmal 100 € für Mitglieder in der Frühbucherphase) anzubieten. Unsere Mitgliederzahlen sind gewachsen\, deswegen erzielen wir im Bereich der Mitgliedsbeiträge mehr Einnahmen\, die wir jetzt erstmals dafür nutzen\, die Tagungsgebühr deutlich unter vergleichbaren Veranstaltungen zu halten. \nEuer Vorstand:Stefan\, Andrea und Rolf \n \n  \n \n			\n				Hier geht es zur Anmeldung\n			\n			\n				\n				\n				\n				\n			\n				\n				\n				\n				\n				\n				\n				\n				\n				\n				\n				 Infos zur Tagung und Anmeldung: \nDie Nähe der Jugendherberge zum Hauptbahnhof in Mannheim ermöglicht eine bequeme Anreise mit der Bahn\, zumal die Anzahl der Parkplätze an der Jugendherberge begrenzt ist. \nBitte meldet Euch baldmöglichst an\, denn wir erwarten einen hohen Zuspruch. \nDie Anmeldung wird dann verbindlich\, wenn ihr Tagungsgebühr und Verpflegungs-/Raumpauschale überwiesen habt. Aus internen Gründen bitten wir Euch die Überweisung erst Anfang Januar durchzuführen. \nÜberweisung der Tagungsgebühr bitte auf das Konto des EMT e.V. bei der VR Bank Rheinneckar\, IBAN: DE 55 6709 0000 0090 8493 01\, BIC: GENODE61MA2 \nDie Verpflegungs-/Raumpauschale beinhaltet am Freitag Abendessen\, am Samstag Mittag- und Abendessen\, am Sonntag Mittagessen (jeweils vom Buffet und mit je einem Kaltgetränk). Dazu kommen Kaffee/Tee und Gebäck oder Kuchen in den Pausen. Die Pauschale beinhaltet auch die Gebühren für den Tagungsraum incl. Technik und ist deswegen obligatorisch. \nDie Buchung der Übernachtungen obliegt den Teilnehmern. \nDas Holiday Inn City in Mannheim (nahe zum Hauptbahnhof hat uns ein Zimmerkontingent (20 Zimmer) bis zum 24.3. reserviert. Die Übernachtung incl. Frühstück kostet pro Zimmer 113 €.Bitte gebt bei der Buchung den Buchungscode: EMT-April an.Die reservierten Zimmer können bis 7 Tage vor Anreise kostenfrei storniert werden.reservation@hi-mannheim.de \nAuch die Jugendherberge Mannheim bietet Zimmer an\, allerdings sind keine Einzelzimmer verfügbar. Wenn Ihr dort zu den günstigeren Zimmerpreisen buchen möchtet\, müsst Ihr Euch zusammentun. Es sind nur noch wenige Zimmer verfügbar. Gegen Aufschlag im Preis ist nach Absprache eine Minderbelegung möglich.Wenn ihr in der JH bucht\, gebt an\, dass ihr in der EMT-Veranstaltung seid\, da wir einen JH-Ausweis besitzen.info@jugendherberge-mannheim.de \nDie Haftung für Beeinträchtigungen jeder Art infolge mangelnder Eignung eines Teilnehmers oder infolge Nichtbeachtung von Hinweisen der Veranstalter ist\, soweit gesetzlich zulässig\, ausdrücklich ausgeschlossen.
URL:https://enneagramm-lehrer.de/event/emt-fruehjahrstagung-2023/
LOCATION:Mannheim\, Rheinpromenade 21\, Jugendherberge International\, Rheinpromenade 21\, Mannheim\, 68163\, Deutschland
CATEGORIES:: Veranstaltungen EMT e.V. :
ATTACH;FMTTYPE=image/jpeg:https://enneagramm-lehrer.de/wp-content/uploads/Kieschbluetenbaeume.jpeg
END:VEVENT
END:VCALENDAR