BEGIN:VCALENDAR
VERSION:2.0
PRODID:-//Enneagramm der mündlichen Tradition  EMT e.V. - ECPv6.15.20//NONSGML v1.0//EN
CALSCALE:GREGORIAN
METHOD:PUBLISH
X-WR-CALNAME:Enneagramm der mündlichen Tradition  EMT e.V.
X-ORIGINAL-URL:https://enneagramm-lehrer.de
X-WR-CALDESC:Veranstaltungen für Enneagramm der mündlichen Tradition  EMT e.V.
REFRESH-INTERVAL;VALUE=DURATION:PT1H
X-Robots-Tag:noindex
X-PUBLISHED-TTL:PT1H
BEGIN:VTIMEZONE
TZID:Europe/Berlin
BEGIN:DAYLIGHT
TZOFFSETFROM:+0100
TZOFFSETTO:+0200
TZNAME:CEST
DTSTART:20210328T010000
END:DAYLIGHT
BEGIN:STANDARD
TZOFFSETFROM:+0200
TZOFFSETTO:+0100
TZNAME:CET
DTSTART:20211031T010000
END:STANDARD
BEGIN:DAYLIGHT
TZOFFSETFROM:+0100
TZOFFSETTO:+0200
TZNAME:CEST
DTSTART:20220327T010000
END:DAYLIGHT
BEGIN:STANDARD
TZOFFSETFROM:+0200
TZOFFSETTO:+0100
TZNAME:CET
DTSTART:20221030T010000
END:STANDARD
BEGIN:DAYLIGHT
TZOFFSETFROM:+0100
TZOFFSETTO:+0200
TZNAME:CEST
DTSTART:20230326T010000
END:DAYLIGHT
BEGIN:STANDARD
TZOFFSETFROM:+0200
TZOFFSETTO:+0100
TZNAME:CET
DTSTART:20231029T010000
END:STANDARD
END:VTIMEZONE
BEGIN:VEVENT
DTSTART;TZID=Europe/Berlin:20221207T193000
DTEND;TZID=Europe/Berlin:20221207T193000
DTSTAMP:20260425T130647
CREATED:20221205T072959Z
LAST-MODIFIED:20221205T160759Z
UID:10000044-1670441400-1670441400@enneagramm-lehrer.de
SUMMARY:EMT-Zoom-Panelgruppe
DESCRIPTION:Liebe Enneagrammfreunde\, \ndiesmal geht es bei unserem Enneagrammabend um Muster 6 zum Thema: \nInnere Stimmen\,  „Einflüsterungen“ oder Antreiber der Enneatypen \nBei dieser Panel-Runde geht es um Einsichten und Erfahrungen der einzelnen Muster in Bezug auf die inneren Stimmen oder Dialoge\, inneren Antreiber oder sogenannten „Einflüsterungen“ ihrer emotionalen Fixierung oder vorherrschenden Leidenschaft.Was wird durch diese immer wiederkehrenden Gedanken in unserem Verhalten oder geistig und emotional ausgelöst oder unterdrückt?Oft kommt die emotionale Fixierung erst nach längerer Selbstbeobachtung ans Tageslicht\, aber den charakteristischen inneren Stimmen können wir meist sehr schnell im Alltag begegnen.Welche Wege gibt es\, sich nicht mehr von diesen Antreibern beherrschen zu lassen bzw. mit ihnen in einen konstruktiven Dialog zu kommen? \njeweils am 1. Mittwoch im Monat um 19:30 \nAblauf (Dauer ca. 120 min):– Begrüßungsrunde– Kurze Einführung zu den mustertypischen Antreibern eines bestimmten Ennegrammtyps– Panel (Podiumsinterview) mit Vertreter*innen des jeweiligen Enneatyps– Fragen aus dem Publikum an die Typvertreter*innen– Kurze Schlussrunde \nWir könnten auch noch „Models“ vom Muster 6 brauchen\, die sich ihres Typs sicher sind und an dem Abend gerne Fragen zu ihrer Fixierung beantworten wollen. Falls ihr Verwandte\, Bekannte\, Freunde\, Kollegen kennt\, die gerne mitmachen\, ladet sie bitte ein\, und gebt uns eine kurze Rückmeldung\, damit wir wissen\, ob wir noch weitere Leute ansprechen müssen. Natürlich auch\, wenn ihr selbst das Muster habt und kommt.😉 \nDer link zum Meeting ist:https://us02web.zoom.us/j/87814465108?pwd=UjZTSHh2cUlEdVQ2UjFYa1p4WDh0dz09 \nMeeting-ID: 878 1446 5108Kenncode: 187519 \nLiebe Grüße \nHannah\, Stefan\, Heide\, Daniel\, Bettina\, Ralf
URL:https://enneagramm-lehrer.de/event/emt-zoom-panelgruppe-2/
ATTACH;FMTTYPE=image/jpeg:https://enneagramm-lehrer.de/wp-content/uploads/bonfire-1867275_1920-e1662651986137.jpeg
END:VEVENT
END:VCALENDAR