BEGIN:VCALENDAR
VERSION:2.0
PRODID:-//Enneagramm der mündlichen Tradition  EMT e.V. - ECPv6.15.20//NONSGML v1.0//EN
CALSCALE:GREGORIAN
METHOD:PUBLISH
X-WR-CALNAME:Enneagramm der mündlichen Tradition  EMT e.V.
X-ORIGINAL-URL:https://enneagramm-lehrer.de
X-WR-CALDESC:Veranstaltungen für Enneagramm der mündlichen Tradition  EMT e.V.
REFRESH-INTERVAL;VALUE=DURATION:PT1H
X-Robots-Tag:noindex
X-PUBLISHED-TTL:PT1H
BEGIN:VTIMEZONE
TZID:Europe/Berlin
BEGIN:DAYLIGHT
TZOFFSETFROM:+0100
TZOFFSETTO:+0200
TZNAME:CEST
DTSTART:20210328T010000
END:DAYLIGHT
BEGIN:STANDARD
TZOFFSETFROM:+0200
TZOFFSETTO:+0100
TZNAME:CET
DTSTART:20211031T010000
END:STANDARD
BEGIN:DAYLIGHT
TZOFFSETFROM:+0100
TZOFFSETTO:+0200
TZNAME:CEST
DTSTART:20220327T010000
END:DAYLIGHT
BEGIN:STANDARD
TZOFFSETFROM:+0200
TZOFFSETTO:+0100
TZNAME:CET
DTSTART:20221030T010000
END:STANDARD
BEGIN:DAYLIGHT
TZOFFSETFROM:+0100
TZOFFSETTO:+0200
TZNAME:CEST
DTSTART:20230326T010000
END:DAYLIGHT
BEGIN:STANDARD
TZOFFSETFROM:+0200
TZOFFSETTO:+0100
TZNAME:CET
DTSTART:20231029T010000
END:STANDARD
END:VTIMEZONE
BEGIN:VEVENT
DTSTART;TZID=Europe/Berlin:20221102T193000
DTEND;TZID=Europe/Berlin:20221102T213000
DTSTAMP:20260425T144305
CREATED:20220908T135245Z
LAST-MODIFIED:20220928T123214Z
UID:10000035-1667417400-1667424600@enneagramm-lehrer.de
SUMMARY:EMT-Zoom-Panelgruppe
DESCRIPTION:Liebe Enneagrammfreunde\, \ndiesmal geht es bei unserem Enneagrammabend um Muster Fünf zum Thema: \nInnere Stimmen\,  „Einflüsterungen“ oder Antreiber der Enneatypen \nBei dieser Panel-Runde geht es um Einsichten und Erfahrungen der einzelnen Muster in Bezug auf die inneren Stimmen oder Dialoge\, inneren Antreiber oder sogenannten „Einflüsterungen“ ihrer emotionalen Fixierung oder vorherrschenden Leidenschaft.Was wird durch diese immer wiederkehrenden Gedanken in unserem Verhalten oder geistig und emotional ausgelöst oder unterdrückt?Oft kommt die emotionale Fixierung erst nach längerer Selbstbeobachtung ans Tageslicht\, aber den charakteristischen inneren Stimmen können wir meist sehr schnell im Alltag begegnen.Welche Wege gibt es\, sich nicht mehr von diesen Antreibern beherrschen zu lassen bzw. mit ihnen in einen konstruktiven Dialog zu kommen? \njeweils am 1. Mittwoch im Monat um 19:30 \nAblauf (Dauer ca. 120 min):– Begrüßungsrunde– Kurze Einführung zu den mustertypischen Antreibern eines bestimmten Ennegrammtyps– Panel (Podiumsinterview) mit Vertreter*innen des jeweiligen Enneatyps– Fragen aus dem Publikum an die Typvertreter*innen– Kurze Schlussrunde \nWir könnten auch noch „Models“ vom Muster Fünf brauchen\, die sich ihres Typs sicher sind und an dem Abend gerne Fragen zu ihrer Fixierung beantworten wollen. Falls ihr Verwandte\, Bekannte\, Freunde\, Kollegen kennt\, die gerne mitmachen\, ladet sie bitte ein\, und gebt uns eine kurze Rückmeldung\, damit wir wissen\, ob wir noch weitere Leute ansprechen müssen. Natürlich auch\, wenn ihr selbst das Muster habt und kommt.😉 \nDer link zum Meeting ist:https://us02web.zoom.us/j/87814465108?pwd=UjZTSHh2cUlEdVQ2UjFYa1p4WDh0dz09 \nMeeting-ID: 878 1446 5108Kenncode: 187519 \nLiebe Grüße \nHannah\, Stefan\, Heide\, Daniel\, Bettina\, Ralf
URL:https://enneagramm-lehrer.de/event/emt-intervisionsgruppe-3-2-3-2/
LOCATION:online
ATTACH;FMTTYPE=image/jpeg:https://enneagramm-lehrer.de/wp-content/uploads/bonfire-1867275_1920-e1662651986137.jpeg
END:VEVENT
BEGIN:VEVENT
DTSTART;VALUE=DATE:20221111
DTEND;VALUE=DATE:20221114
DTSTAMP:20260425T144305
CREATED:20220701T195018Z
LAST-MODIFIED:20220905T074136Z
UID:10000050-1668124800-1668383999@enneagramm-lehrer.de
SUMMARY:Enneagramm Professional Training (EPTP)
DESCRIPTION:Gruppe Stuttgart –  \n			\n				\n				\n				\n				\n				Grundlagen spiritueller Entwicklung \n			\n				\n				\n				\n				\n				Mehr …
URL:https://enneagramm-lehrer.de/event/grundlagen-spiritueller-entwicklung/
LOCATION:„HAAUS“ Das Seminarhaus im Grünen\, Forststraße 17\, Weinstadt-Baach\, 71384
ATTACH;FMTTYPE=image/png:https://enneagramm-lehrer.de/wp-content/uploads/efl_logo.png
END:VEVENT
BEGIN:VEVENT
DTSTART;TZID=Europe/Berlin:20221115T193000
DTEND;TZID=Europe/Berlin:20221115T210000
DTSTAMP:20260425T144305
CREATED:20220920T065434Z
LAST-MODIFIED:20221110T193906Z
UID:10000037-1668540600-1668546000@enneagramm-lehrer.de
SUMMARY:EMT-Intervisionsgruppe
DESCRIPTION:Liebe Enneagrammlehrer*innen\, \nhier der Zoomlink für unser Intervisionstreffen kommenden Dienstag um 19:30:https://us02web.zoom.us/j/88958516932?pwd=cnZOd2F2L3FLZGNneTE2QWo1bS9Idz09 \nMeeting-ID: 889 5851 6932Kenncode: 097956 \nBitte bringt eure Themen mit. \nIch freu mich euch wiederzusehen!Liebe GrüßeRalf
URL:https://enneagramm-lehrer.de/event/emt-intervisionsgruppe-4-2-2-2/
LOCATION:online
ATTACH;FMTTYPE=image/jpeg:https://enneagramm-lehrer.de/wp-content/uploads/man-g96bc42c15_640.jpeg
END:VEVENT
BEGIN:VEVENT
DTSTART;TZID=Europe/Berlin:20221118T193000
DTEND;TZID=Europe/Berlin:20221118T193000
DTSTAMP:20260425T144305
CREATED:20221103T191911Z
LAST-MODIFIED:20221114T211303Z
UID:10000041-1668799800-1668799800@enneagramm-lehrer.de
SUMMARY:Dossenheimer Enneagrammgruppe
DESCRIPTION:Liebe Enneagrammfreunde\, \n\n \n\n\nAm kommenden Freitagabend\, d.h. am 18.11. um 19:30 geht es weiter mit der Staffel zum Thema: „Sich von der Fixierung lösen“. \nEs wird eine Eingangsrunde geben\, wo wir uns fragen\, wo wir uns auf unserem Entwicklungsweg gerade befinden\,danach ein Panel zu einer der Enneagrammfixierungen – diesmal steht Typ DREI im Focus\,repetetive Fragen individuell zu jedem Typ\,eine gemeinsame meditative Übung\, passend zu dem Typ\, der auf dem Panel ist undeine Abschlussrunde mit einer kleinen Hausaufgabe. \nWenn ihr noch Dreien kennt\, die gerne dabei sein möchten\, gebt ihnen gerne Bescheid!Und gebt bitte auch mir Bescheid\, wenn ihr selber eine Drei seid und kommen wollt. \nUnd auch schon mal für alle die noch nicht hier waren die Adresse:Dossenheim\, Friedrichstr. 10\, Rückgebäude\, letzter Eingang\, bei Ralf Kern \nLieber GrußRalf \n 
URL:https://enneagramm-lehrer.de/event/dossenheimer-enneagrammgruppe-3-2-2/
LOCATION:Dossenheim\, Friedrichstrasse 10\, 69221
ATTACH;FMTTYPE=image/jpeg:https://enneagramm-lehrer.de/wp-content/uploads/KüchentischRalf-e1662651309518.jpeg
END:VEVENT
BEGIN:VEVENT
DTSTART;TZID=Europe/Berlin:20221130T200000
DTEND;TZID=Europe/Berlin:20221130T200000
DTSTAMP:20260425T144305
CREATED:20220928T072902Z
LAST-MODIFIED:20221129T181618Z
UID:10000038-1669838400-1669838400@enneagramm-lehrer.de
SUMMARY:EMT-Zoom-Abend “Wie gehe ich in einer bestimmten Situation mit Typ X um? Fragen an Typ 2\, 5 und 8
DESCRIPTION:Liebe Enneas\, \nAn diesem Abend kommen wir wieder zusammen\, um voneinander zu lernen und einander zu unterstützen\, mit bestimmten Situationen leichter umgehen zu können.  \nDaher laden wir wieder zu dem Format „Wie gehe ich in einer bestimmten Situation mit Typ X um?“ ein.   \nPro Abend stellen wir Fragen an je einen Typ aus den 3 Zentren.Beginnen werden wir diesmal mit Fragen an die Typen 2\, 5 und 8. \nDer Abend lebt davon\, dass ihr eure Fragen einbringt und dass wir miteinander teilen. \n \nZomm-Link: \nhttps://us02web.zoom.us/j/87283769032?pwd=RzlINmpLdVV6eHZjd0hyVGg3RnV5Zz09 \nMeeting-ID: 872 8376 9032Kenncode: emt1bis9
URL:https://enneagramm-lehrer.de/event/emt-zoom-zum-thema-situationsbezogene-fragen-an-typ-x-2-2/
LOCATION:online
END:VEVENT
END:VCALENDAR