BEGIN:VCALENDAR
VERSION:2.0
PRODID:-//Enneagramm der mündlichen Tradition  EMT e.V. - ECPv6.15.20//NONSGML v1.0//EN
CALSCALE:GREGORIAN
METHOD:PUBLISH
X-ORIGINAL-URL:https://enneagramm-lehrer.de
X-WR-CALDESC:Veranstaltungen für Enneagramm der mündlichen Tradition  EMT e.V.
REFRESH-INTERVAL;VALUE=DURATION:PT1H
X-Robots-Tag:noindex
X-PUBLISHED-TTL:PT1H
BEGIN:VTIMEZONE
TZID:Europe/Berlin
BEGIN:DAYLIGHT
TZOFFSETFROM:+0100
TZOFFSETTO:+0200
TZNAME:CEST
DTSTART:20210328T010000
END:DAYLIGHT
BEGIN:STANDARD
TZOFFSETFROM:+0200
TZOFFSETTO:+0100
TZNAME:CET
DTSTART:20211031T010000
END:STANDARD
BEGIN:DAYLIGHT
TZOFFSETFROM:+0100
TZOFFSETTO:+0200
TZNAME:CEST
DTSTART:20220327T010000
END:DAYLIGHT
BEGIN:STANDARD
TZOFFSETFROM:+0200
TZOFFSETTO:+0100
TZNAME:CET
DTSTART:20221030T010000
END:STANDARD
BEGIN:DAYLIGHT
TZOFFSETFROM:+0100
TZOFFSETTO:+0200
TZNAME:CEST
DTSTART:20230326T010000
END:DAYLIGHT
BEGIN:STANDARD
TZOFFSETFROM:+0200
TZOFFSETTO:+0100
TZNAME:CET
DTSTART:20231029T010000
END:STANDARD
END:VTIMEZONE
BEGIN:VEVENT
DTSTART;TZID=Europe/Berlin:20221005T193000
DTEND;TZID=Europe/Berlin:20221005T193000
DTSTAMP:20260425T162241
CREATED:20220822T073725Z
LAST-MODIFIED:20220928T122957Z
UID:10000031-1664998200-1664998200@enneagramm-lehrer.de
SUMMARY:EMT-Zoom-Panelgruppe
DESCRIPTION:Liebe Enneagrammfreunde\, \ndiesmal geht es bei unserem Enneagrammabend um Muster Vier zum Thema: \nInnere Stimmen\,  „Einflüsterungen“ oder Antreiber der Enneatypen \nBei dieser Panel-Runde geht es um Einsichten und Erfahrungen der einzelnen Muster in Bezug auf die inneren Stimmen oder Dialoge\, inneren Antreiber oder sogenannten „Einflüsterungen“ ihrer emotionalen Fixierung oder vorherrschenden Leidenschaft.Was wird durch diese immer wiederkehrenden Gedanken in unserem Verhalten oder geistig und emotional ausgelöst oder unterdrückt?Oft kommt die emotionale Fixierung erst nach längerer Selbstbeobachtung ans Tageslicht\, aber den charakteristischen inneren Stimmen können wir meist sehr schnell im Alltag begegnen.Welche Wege gibt es\, sich nicht mehr von diesen Antreibern beherrschen zu lassen bzw. mit ihnen in einen konstruktiven Dialog zu kommen? \njeweils am 1. Mittwoch im Monat um 19:30 \nAblauf (Dauer ca. 120 min):– Begrüßungsrunde– Kurze Einführung zu den mustertypischen Antreibern eines bestimmten Ennegrammtyps– Panel (Podiumsinterview) mit Vertreter*innen des jeweiligen Enneatyps– Fragen aus dem Publikum an die Typvertreter*innen– Kurze Schlussrunde \nWir könnten auch noch „Models“ vom Muster Vier brauchen\, die sich ihres Typs sicher sind und an dem Abend gerne Fragen zu ihrer Fixierung beantworten wollen. Falls ihr Verwandte\, Bekannte\, Freunde\, Kollegen kennt\, die gerne mitmachen\, ladet sie bitte ein\, und gebt uns eine kurze Rückmeldung\, damit wir wissen\, ob wir noch weitere Leute ansprechen müssen. Natürlich auch\, wenn ihr selbst das Muster habt und kommt.😉 \nDer link zum Meeting ist:https://us02web.zoom.us/j/87814465108?pwd=UjZTSHh2cUlEdVQ2UjFYa1p4WDh0dz09 \nMeeting-ID: 878 1446 5108Kenncode: 187519 \nLiebe Grüße \nHannah\, Stefan\, Heide\, Daniel\, Bettina\, Ralf
URL:https://enneagramm-lehrer.de/event/emt-intervisionsgruppe-3-2-3/
LOCATION:online
ATTACH;FMTTYPE=image/jpeg:https://enneagramm-lehrer.de/wp-content/uploads/bonfire-1867275_1920-e1662651986137.jpeg
END:VEVENT
BEGIN:VEVENT
DTSTART;VALUE=DATE:20221006
DTEND;VALUE=DATE:20221010
DTSTAMP:20260425T162241
CREATED:20220701T193830Z
LAST-MODIFIED:20220922T073328Z
UID:10000028-1665014400-1665359999@enneagramm-lehrer.de
SUMMARY:Enneagramm Professional Training (EPTP)
DESCRIPTION:Gruppe Stuttgart – \n			\n				\n				\n				\n				\n				Typdiagnose (Modul 3) \n			\n				\n				\n				\n				\n				Im Rahmen des Professional Trainings suchen wir Freiwillige für: \n			\n				\n				\n				\n				\n				Kostenloses Typisierungs-Interviews \nPanel-Interviews
URL:https://enneagramm-lehrer.de/event/enneagramm-professional-trainings-eptp-2/
LOCATION:„HAAUS“ Das Seminarhaus im Grünen\, Forststraße 17\, Weinstadt-Baach\, 71384
ATTACH;FMTTYPE=image/png:https://enneagramm-lehrer.de/wp-content/uploads/efl_logo.png
END:VEVENT
BEGIN:VEVENT
DTSTART;VALUE=DATE:20221014
DTEND;VALUE=DATE:20221019
DTSTAMP:20260425T162241
CREATED:20220701T194618Z
LAST-MODIFIED:20221013T083627Z
UID:10000049-1665705600-1666137599@enneagramm-lehrer.de
SUMMARY:Enneagramm Professional Training (EPTP)
DESCRIPTION:Gruppe Heidelberg – \n			\n				\n				\n				\n				\n				Typdiagnose und Grundlagen spiritueller Entwicklung   PDF \n			\n				\n				\n				\n				\n				\nIm Rahmen des Professional Trainings suchen wir Freiwillige für:\n\n\nKostenloses Typisierungs-Interviews \nPanel-Interviews
URL:https://enneagramm-lehrer.de/event/typdiagnose-und-grundlagen-spiritueller-entwicklung/
LOCATION:Schulungszentrum Ritschweier\, Bergwaldstraße 41\, Weinheim-Ritschweier\, 69469
ATTACH;FMTTYPE=image/png:https://enneagramm-lehrer.de/wp-content/uploads/efl_logo.png
END:VEVENT
BEGIN:VEVENT
DTSTART;TZID=Europe/Berlin:20221018T193000
DTEND;TZID=Europe/Berlin:20221018T193000
DTSTAMP:20260425T162242
CREATED:20220828T143435Z
LAST-MODIFIED:20221011T200845Z
UID:10000034-1666121400-1666121400@enneagramm-lehrer.de
SUMMARY:EMT-Intervisionsgruppe
DESCRIPTION:Hier der Zoom-Link für unser Treffen: \n\n\n\n\n\n\n\n\n\n\n\n\n\nhttps://us02web.zoom.us/j/88958516932?pwd=cnZOd2F2L3FLZGNneTE2QWo1bS9Idz09 \nMeeting-ID: 889 5851 6932Kenncode: 097956 \nBeim letzten mal haben wir beschlossen\, dass diesmal Hans-Heinrich die Moderation übernimmt\, mit dem Ziel die vielen Ideen bezüglich der zielgruppenspezifischen Enneagrammthemen in eine Form zu bringen\, deren Chancen und Möglichkeiten zu beleuchten und dann auf die eine oder andere Art ins Handeln zu kommen. \nWie immer wird es natürlich auch Raum für andere aktuelle Themen geben. \nIch freu mich euch wiederzusehen!Liebe GrüßeRalf
URL:https://enneagramm-lehrer.de/event/emt-intervisionsgruppe-4-2-2/
LOCATION:online
ATTACH;FMTTYPE=image/jpeg:https://enneagramm-lehrer.de/wp-content/uploads/man-g96bc42c15_640.jpeg
END:VEVENT
BEGIN:VEVENT
DTSTART;TZID=Europe/Berlin:20221021T193000
DTEND;TZID=Europe/Berlin:20221021T193000
DTSTAMP:20260425T162242
CREATED:20220920T064145Z
LAST-MODIFIED:20220920T064619Z
UID:10000036-1666380600-1666380600@enneagramm-lehrer.de
SUMMARY:Dossenheimer Enneagrammgruppe
DESCRIPTION:Liebe Enneagrammfreunde. \n\n\nes geht weiter mit der neuen Staffel zum Thema: „Sich von der Fixierung lösen“. \nEs wird eine Eingangsrunde geben\, wo wir uns fragen\, wo wir uns auf unserem Entwicklungsweg gerade befinden\,danach ein Panel zu einer der Enneagrammfixierungen – diesmal steht Typ Drei im Focus\,repetetive Fragen individuell zu jedem Typ\,eine gemeinsame meditative Übung\, passend zu dem Typ\, der auf dem Panel ist undeine Abschlussrunde mit einer kleinen Hausaufgabe. \nWenn ihr noch Zweien kennt\, die gerne dabei sein möchten\, gebt ihnen gerne Bescheid!Und gebt bitte auch mir Bescheid\, wenn ihr selber eine Drei seid und kommen wollt.Lieber GrußRalf \n\n\n			\n				\n				\n				\n				\n				Wo: 69221 Dossenheim (bei Heidelberg)\nTermine: Immer am dritten Freitag im Monat. \nBitte vorher anmelden\, Vorkenntnisse erforderlich –\nd.h. Klarheit über den eigenen Typ\, sowie das ganze System. \nKontakt & Anmeldung: \n \nRalf Kern\, Ennegrammlehrer EMT\nTel.: 06221 862508\nMail: ralf.email@gmail.com
URL:https://enneagramm-lehrer.de/event/dossenheimer-enneagrammgruppe-3-2/
LOCATION:Dossenheim\, Friedrichstrasse 10\, 69221
ATTACH;FMTTYPE=image/jpeg:https://enneagramm-lehrer.de/wp-content/uploads/KüchentischRalf-e1662651309518.jpeg
END:VEVENT
END:VCALENDAR