BEGIN:VCALENDAR
VERSION:2.0
PRODID:-//Enneagramm der mündlichen Tradition  EMT e.V. - ECPv6.15.20//NONSGML v1.0//EN
CALSCALE:GREGORIAN
METHOD:PUBLISH
X-ORIGINAL-URL:https://enneagramm-lehrer.de
X-WR-CALDESC:Veranstaltungen für Enneagramm der mündlichen Tradition  EMT e.V.
REFRESH-INTERVAL;VALUE=DURATION:PT1H
X-Robots-Tag:noindex
X-PUBLISHED-TTL:PT1H
BEGIN:VTIMEZONE
TZID:Europe/Berlin
BEGIN:DAYLIGHT
TZOFFSETFROM:+0100
TZOFFSETTO:+0200
TZNAME:CEST
DTSTART:20210328T010000
END:DAYLIGHT
BEGIN:STANDARD
TZOFFSETFROM:+0200
TZOFFSETTO:+0100
TZNAME:CET
DTSTART:20211031T010000
END:STANDARD
BEGIN:DAYLIGHT
TZOFFSETFROM:+0100
TZOFFSETTO:+0200
TZNAME:CEST
DTSTART:20220327T010000
END:DAYLIGHT
BEGIN:STANDARD
TZOFFSETFROM:+0200
TZOFFSETTO:+0100
TZNAME:CET
DTSTART:20221030T010000
END:STANDARD
BEGIN:DAYLIGHT
TZOFFSETFROM:+0100
TZOFFSETTO:+0200
TZNAME:CEST
DTSTART:20230326T010000
END:DAYLIGHT
BEGIN:STANDARD
TZOFFSETFROM:+0200
TZOFFSETTO:+0100
TZNAME:CET
DTSTART:20231029T010000
END:STANDARD
END:VTIMEZONE
BEGIN:VEVENT
DTSTART;TZID=Europe/Berlin:20220706T193000
DTEND;TZID=Europe/Berlin:20220706T193000
DTSTAMP:20260425T213627
CREATED:20220527T152050Z
LAST-MODIFIED:20220704T205356Z
UID:10000022-1657135800-1657135800@enneagramm-lehrer.de
SUMMARY:EMT-Zoom-Panelgruppe
DESCRIPTION:Liebe Enneagrammfans\, \nfreundlicherweise bietet uns der EMT (Verein der mündlichen Enneagrammtradition) die Möglichkeit die Zoom-Panel-Gruppe weiter fortzusetzen. \nDie nächste Runde hat das Thema:  \nInnere Stimmen\,  „Einflüsterungen“ oder Antreiber der Enneatypen \nNeun Abende\, jeweils am 1. Mittwoch im Monat Start: 6. Juli ’22 um 19:30 Uhr mit Muster EINS \nBei der nächsten Panel-Runde geht es um Einsichten und Erfahrungen der einzelnen Muster in Bezug auf die inneren Stimmen oder Dialoge\, inneren Antreiber oder sogenannten „Einflüsterungen“ ihrer emotionalen Fixierung oder vorherrschenden Leidenschaft. Was wird durch diese immer wiederkehrenden Gedanken in unserem Verhalten oder geistig und emotional ausgelöst oder unterdrückt?Oft kommt die emotionale Fixierung erst nach längerer Selbstbeobachtung ans Tageslicht\, aber den charakteristischen inneren Stimmen können wir meist sehr schnell im Alltag begegnen.Welche Wege gibt es\, sich nicht mehr von diesen Antreibern beherrschen zu lassen bzw. mit ihnen in einen konstruktiven Dialog zu kommen? \nAblauf (Dauer ca. 120 min):– Begrüßungsrunde– Kurze Einführung zu den mustertypischen Antreibern eines bestimmten Ennegrammtyps– Panel (Podiumsinterview) mit Vertreter*innen des jeweiligen Enneatyps– Fragen aus dem Publikum an die Typvertreter*innen– Kurze Schlussrunde \nWir könnten auch noch „Models“ vom Muster EINS brauchen\, die sich ihres Typs sicher sind und an dem Abend gerne Fragen zu ihrer Fixierung beantworten wollen. Falls ihr Verwandte\, Bekannte\, Freunde\, Kollegen kennt\, die gerne mitmachen\, ladet sie bitte ein! \nDer link zum Meeting ist:https://us02web.zoom.us/j/83459982979?pwd=W3UMkhzixLR_pc9CyECTeVaEmbbDTH.1 \nFalls der nicht funktioniert: \nMeeting-ID: 834 5998 2979Kenncode: 224238 \nLiebe GrüßeHannah\, Stefan\, Heide\, Bettina\, Ralf \nAm 15. 7. ist auch wieder Enneagramm in Präsenz in Dossenheim – Info folgt!
URL:https://enneagramm-lehrer.de/event/emt-intervisionsgruppe-3/
LOCATION:online
ATTACH;FMTTYPE=image/jpeg:https://enneagramm-lehrer.de/wp-content/uploads/Panelgruppe-e1662651387330.jpeg
END:VEVENT
BEGIN:VEVENT
DTSTART;VALUE=DATE:20220708
DTEND;VALUE=DATE:20220711
DTSTAMP:20260425T213627
CREATED:20220701T192520Z
LAST-MODIFIED:20220701T201637Z
UID:10000027-1657238400-1657497599@enneagramm-lehrer.de
SUMMARY:Enneagramm Professional Training (EPTP)
DESCRIPTION:Strategien persönlicher Entwicklung
URL:https://enneagramm-lehrer.de/event/enneagramm-professional-trainings-eptp-3/
LOCATION:„HAAUS“ Das Seminarhaus im Grünen\, Forststraße 17\, Weinstadt-Baach\, 71384
END:VEVENT
BEGIN:VEVENT
DTSTART;TZID=Europe/Berlin:20220715T193000
DTEND;TZID=Europe/Berlin:20220715T193000
DTSTAMP:20260425T213627
CREATED:20220527T151012Z
LAST-MODIFIED:20220715T082819Z
UID:10000021-1657913400-1657913400@enneagramm-lehrer.de
SUMMARY:Dossenheimer Enneagrammgruppe
DESCRIPTION:69221 Dossenheim (bei Heidelberg)  Termine: Immer am dritten Freitag im Monat. \nBitte vorher anmelden\, Vorkenntnisse erforderlich –d.h. Klarheit über den eigenen Typ\, sowie das ganze System. \nKontakt & Anmeldung: \n \nRalf Kern\, Ennegrammlehrer EMTTel.: 06221 862508Mail: ralf.email@gmail.com
URL:https://enneagramm-lehrer.de/event/dossenheimer-enneagrammgruppe-2/
LOCATION:Dossenheim\, Friedrichstrasse 10\, 69221
ATTACH;FMTTYPE=image/jpeg:https://enneagramm-lehrer.de/wp-content/uploads/Kuechentisch-e1662647580523.jpg
END:VEVENT
BEGIN:VEVENT
DTSTART;TZID=Europe/Berlin:20220719T193000
DTEND;TZID=Europe/Berlin:20220719T210000
DTSTAMP:20260425T213627
CREATED:20220715T082048Z
LAST-MODIFIED:20220715T082349Z
UID:10000029-1658259000-1658264400@enneagramm-lehrer.de
SUMMARY:EMT-Intervisionsgruppe
DESCRIPTION:Liebe Enneagrammlehrer*innen\, \nhier der Zoom-Link für unser Treffen am Di\, 19. Juli 19:30 -21:00 \nhttps://us02web.zoom.us/j/88958516932?pwd=cnZOd2F2L3FLZGNneTE2QWo1bS9Idz09 \nMeeting-ID: 889 5851 6932Kenncode: 097956 \nBitte bringt eure Programmvorschläge für diesen Abend mit! \nAußerdem gibt es einige\, beim letzten mal nicht zu Ende diskutierte Themen: Wikipedia-EintragEnneagramm-„Empfehlungsmarketing“ Web-Profile (Vorstellung der Enneagrammlehrer)Neues Format: Einstündige Kurzeinführungen per Zoom \nLiebe GrüßeRalf
URL:https://enneagramm-lehrer.de/event/emt-intervisionsgruppe-4/
LOCATION:online
ATTACH;FMTTYPE=image/jpeg:https://enneagramm-lehrer.de/wp-content/uploads/man-g96bc42c15_640.jpeg
END:VEVENT
END:VCALENDAR