BEGIN:VCALENDAR
VERSION:2.0
PRODID:-//Enneagramm der mündlichen Tradition  EMT e.V. - ECPv6.15.20//NONSGML v1.0//EN
CALSCALE:GREGORIAN
METHOD:PUBLISH
X-WR-CALNAME:Enneagramm der mündlichen Tradition  EMT e.V.
X-ORIGINAL-URL:https://enneagramm-lehrer.de
X-WR-CALDESC:Veranstaltungen für Enneagramm der mündlichen Tradition  EMT e.V.
REFRESH-INTERVAL;VALUE=DURATION:PT1H
X-Robots-Tag:noindex
X-PUBLISHED-TTL:PT1H
BEGIN:VTIMEZONE
TZID:Europe/Berlin
BEGIN:DAYLIGHT
TZOFFSETFROM:+0100
TZOFFSETTO:+0200
TZNAME:CEST
DTSTART:20210328T010000
END:DAYLIGHT
BEGIN:STANDARD
TZOFFSETFROM:+0200
TZOFFSETTO:+0100
TZNAME:CET
DTSTART:20211031T010000
END:STANDARD
BEGIN:DAYLIGHT
TZOFFSETFROM:+0100
TZOFFSETTO:+0200
TZNAME:CEST
DTSTART:20220327T010000
END:DAYLIGHT
BEGIN:STANDARD
TZOFFSETFROM:+0200
TZOFFSETTO:+0100
TZNAME:CET
DTSTART:20221030T010000
END:STANDARD
BEGIN:DAYLIGHT
TZOFFSETFROM:+0100
TZOFFSETTO:+0200
TZNAME:CEST
DTSTART:20230326T010000
END:DAYLIGHT
BEGIN:STANDARD
TZOFFSETFROM:+0200
TZOFFSETTO:+0100
TZNAME:CET
DTSTART:20231029T010000
END:STANDARD
END:VTIMEZONE
BEGIN:VEVENT
DTSTART;TZID=Europe/Berlin:20220517T193000
DTEND;TZID=Europe/Berlin:20220517T193000
DTSTAMP:20260426T005154
CREATED:20220512T140423Z
LAST-MODIFIED:20220512T141210Z
UID:10000019-1652815800-1652815800@enneagramm-lehrer.de
SUMMARY:EMT-Intervisionsgruppe
DESCRIPTION:Liebe Enneagrammlehrer*innen\, \nHier einige Themen und den Zugangscode für unser Zoom-Meeting am 17. Mai um 19:30.Falls es noch weitere Themen gibt\, teilt sie bitte bei der Einführungsrunde mit.  \nEs gibt vor allem zwei Sachen: \n1. Das Thema „Wie finden wir Teilnehmer für unsere Veranstaltungen“ bzw. „Wie finden die Teilnehmer uns…“ konnten wir nur andiskutieren und werden es beim nächsten mal vertiefen. Einige Stichworte dazu sind: Kurse bei bestehenden Organisationen (VHS\, kirchliche Träger\, etc.) platzieren\, zielgruppenorientiert werben\, EMT-Youtube-Channel? SEO oder Keyword-Optimierung\, Network-Marketing… \n2. Außerdem wollen wir der Frage nachgehen\, welche Problem- und Themenfelder sich gut mit dem Enneagramm verknüpfen lassen und welche wir besonders spannend finden.– Beruf\, Berufung und meine Grundmotive– Stress > Gelassenheit > Gesundheit– Kommunikation: Konflikte und Missverständnisse auflösen– Partnerbeziehungsthemen– Fallen auf dem spirituellen Weg – Muster und Fixierungen lösen \nHier unten der link und liebe Grüße!Ralf \nZoom-Meeting beitreten \nhttps://us02web.zoom.us/j/82651958807?pwd=OEdaaXBKUkJ2cVlSZnhrNW1BSTZCZz09 \n Meeting-ID: 826 5195 8807Kenncode: 248341
URL:https://enneagramm-lehrer.de/event/emt-intervisionsgruppe-2/
LOCATION:online
ATTACH;FMTTYPE=image/jpeg:https://enneagramm-lehrer.de/wp-content/uploads/man-g96bc42c15_640.jpeg
END:VEVENT
BEGIN:VEVENT
DTSTART;TZID=Europe/Berlin:20220525T200000
DTEND;TZID=Europe/Berlin:20220525T200000
DTSTAMP:20260426T005154
CREATED:20220410T142017Z
LAST-MODIFIED:20220426T074356Z
UID:10000015-1653508800-1653508800@enneagramm-lehrer.de
SUMMARY:EMT-Zoom zur Weiterentwicklung des EMT
DESCRIPTION:Wir stellen Euch am 25.5 um 20:00 Uhr die Ergebnisse der Mitgliederumfrage zu den Themen Vereinsname\, Mitgliedschaft und Veranstaltungen vor und legen die nächsten Schritte fest. \nIm 2. Tagesordnungspunkt priorisieren wir gemeinsam die Projekte\, die aus der Tafelrunde 2021 hervorgingen und legen fest\, wie und mit wem wir die Projekte angehen.
URL:https://enneagramm-lehrer.de/event/zoom-abend-zum-thema-vereinsentwicklung/
LOCATION:online
ATTACH;FMTTYPE=image/jpeg:https://enneagramm-lehrer.de/wp-content/uploads/Entwicklung2.jpeg
END:VEVENT
END:VCALENDAR