BEGIN:VCALENDAR
VERSION:2.0
PRODID:-//Enneagramm der mündlichen Tradition  EMT e.V. - ECPv6.15.20//NONSGML v1.0//EN
CALSCALE:GREGORIAN
METHOD:PUBLISH
X-ORIGINAL-URL:https://enneagramm-lehrer.de
X-WR-CALDESC:Veranstaltungen für Enneagramm der mündlichen Tradition  EMT e.V.
REFRESH-INTERVAL;VALUE=DURATION:PT1H
X-Robots-Tag:noindex
X-PUBLISHED-TTL:PT1H
BEGIN:VTIMEZONE
TZID:Europe/Berlin
BEGIN:DAYLIGHT
TZOFFSETFROM:+0100
TZOFFSETTO:+0200
TZNAME:CEST
DTSTART:20210328T010000
END:DAYLIGHT
BEGIN:STANDARD
TZOFFSETFROM:+0200
TZOFFSETTO:+0100
TZNAME:CET
DTSTART:20211031T010000
END:STANDARD
BEGIN:DAYLIGHT
TZOFFSETFROM:+0100
TZOFFSETTO:+0200
TZNAME:CEST
DTSTART:20220327T010000
END:DAYLIGHT
BEGIN:STANDARD
TZOFFSETFROM:+0200
TZOFFSETTO:+0100
TZNAME:CET
DTSTART:20221030T010000
END:STANDARD
BEGIN:DAYLIGHT
TZOFFSETFROM:+0100
TZOFFSETTO:+0200
TZNAME:CEST
DTSTART:20230326T010000
END:DAYLIGHT
BEGIN:STANDARD
TZOFFSETFROM:+0200
TZOFFSETTO:+0100
TZNAME:CET
DTSTART:20231029T010000
END:STANDARD
END:VTIMEZONE
BEGIN:VEVENT
DTSTART;VALUE=DATE:20220408
DTEND;VALUE=DATE:20220413
DTSTAMP:20260426T021250
CREATED:20220118T073544Z
LAST-MODIFIED:20220315T144835Z
UID:10000010-1649376000-1649807999@enneagramm-lehrer.de
SUMMARY:Enneagramm Intensiv - Gruppe Heidelberg
DESCRIPTION:Modul 1 „Enneagramm Intensiv – die 9 Typen und ihre Subtypen“ \n			\n				Information und Termine der Folge-Module
URL:https://enneagramm-lehrer.de/event/enneagramm-professional-training-ept/
LOCATION:Schulungzentrum\, Bergwaldstraße 41\, Weinheim - Ritschweier\, 69469\, Deutschland
ATTACH;FMTTYPE=image/png:https://enneagramm-lehrer.de/wp-content/uploads/efl_logo.png
END:VEVENT
BEGIN:VEVENT
DTSTART;TZID=Europe/Berlin:20220419T193000
DTEND;TZID=Europe/Berlin:20220419T193000
DTSTAMP:20260426T021250
CREATED:20220415T071506Z
LAST-MODIFIED:20220415T072908Z
UID:10000016-1650396600-1650396600@enneagramm-lehrer.de
SUMMARY:Ennea Intervisionstreffen
DESCRIPTION:Liebe Enneagrammlehrer*innen\, \nbeim Intervisionstreffen am Dienstag 19. 4. um 19:30 Uhr wird Heide ihre Vorgehensweise bei Enneagramm-Schnupperabenden vorstellen. \nAußerdem wollen wir uns an diesem Abend intensiver darüber austauschen\, wie man Teilnehmer für unsere Veranstaltungen bekommt\, sowie in diesem Kontext der Frage nachgehen:  \nFür welche Probleme bietet das Enneagramm uns und anderen Menschen eine Lösung? \nHier unten der link und liebe GrüßeRalf \n https://us02web.zoom.us/j/89006993244?pwd=Wlk1L2UwL2JQMWhpYWdOQWlHUzQvZz09 \nMeeting-ID: 890 0699 3244 \nKenncode: 581236 \n 
URL:https://enneagramm-lehrer.de/event/ennea-intervisionstreffen-2/
LOCATION:online
ATTACH;FMTTYPE=image/jpeg:https://enneagramm-lehrer.de/wp-content/uploads/man-g96bc42c15_640.jpeg
END:VEVENT
END:VCALENDAR