BEGIN:VCALENDAR
VERSION:2.0
PRODID:-//Enneagramm der mündlichen Tradition  EMT e.V. - ECPv6.15.20//NONSGML v1.0//EN
CALSCALE:GREGORIAN
METHOD:PUBLISH
X-WR-CALNAME:Enneagramm der mündlichen Tradition  EMT e.V.
X-ORIGINAL-URL:https://enneagramm-lehrer.de
X-WR-CALDESC:Veranstaltungen für Enneagramm der mündlichen Tradition  EMT e.V.
REFRESH-INTERVAL;VALUE=DURATION:PT1H
X-Robots-Tag:noindex
X-PUBLISHED-TTL:PT1H
BEGIN:VTIMEZONE
TZID:Europe/Berlin
BEGIN:DAYLIGHT
TZOFFSETFROM:+0100
TZOFFSETTO:+0200
TZNAME:CEST
DTSTART:20210328T010000
END:DAYLIGHT
BEGIN:STANDARD
TZOFFSETFROM:+0200
TZOFFSETTO:+0100
TZNAME:CET
DTSTART:20211031T010000
END:STANDARD
BEGIN:DAYLIGHT
TZOFFSETFROM:+0100
TZOFFSETTO:+0200
TZNAME:CEST
DTSTART:20220327T010000
END:DAYLIGHT
BEGIN:STANDARD
TZOFFSETFROM:+0200
TZOFFSETTO:+0100
TZNAME:CET
DTSTART:20221030T010000
END:STANDARD
BEGIN:DAYLIGHT
TZOFFSETFROM:+0100
TZOFFSETTO:+0200
TZNAME:CEST
DTSTART:20230326T010000
END:DAYLIGHT
BEGIN:STANDARD
TZOFFSETFROM:+0200
TZOFFSETTO:+0100
TZNAME:CET
DTSTART:20231029T010000
END:STANDARD
END:VTIMEZONE
BEGIN:VEVENT
DTSTART;TZID=Europe/Berlin:20220215T190000
DTEND;TZID=Europe/Berlin:20220215T210000
DTSTAMP:20260426T052416
CREATED:20220107T145825Z
LAST-MODIFIED:20220308T082909Z
UID:10000003-1644951600-1644958800@enneagramm-lehrer.de
SUMMARY:Intervisionsgruppe: Konzepte und Austausch zu einem Enneagramm-Schnupperabend
DESCRIPTION:Zugangs-Link über E-mail an die Mitgieder \nHeide und Hans Heinrich haben sich bereit erklärt\, jeweils eine kurze Vorstellung zu machen\, wie sie bei so einem Abend vorgehen und zeigen\, was dabei gut funktioniert hat. Nach der Präsentation soll viel Raum für Fragen und Austausch sein. Ziel unseres Supervisionstreffens ist\, neben der Vorstellung bestimmter Konzepte vor allem die gegenseitige Beratung der Enneagrammlehrer untereinander anzustoßen.Auch soll es Raum für aktuelle Themen geben.Wir freuen uns wenn Du dabei bist!
URL:https://enneagramm-lehrer.de/event/supervisionsgruppe-enneagrammlehrer/
LOCATION:online
ATTACH;FMTTYPE=image/jpeg:https://enneagramm-lehrer.de/wp-content/uploads/man-g96bc42c15_640.jpeg
END:VEVENT
BEGIN:VEVENT
DTSTART;TZID=Europe/Berlin:20220216T190000
DTEND;TZID=Europe/Berlin:20220216T210000
DTSTAMP:20260426T052416
CREATED:20220114T074751Z
LAST-MODIFIED:20220325T084628Z
UID:10000008-1645038000-1645045200@enneagramm-lehrer.de
SUMMARY:Zoom-Abend: Situationsspezifische Fragen zum Umgang mit den Typen ...
DESCRIPTION:In unseren Treffen zu den Lookalikes der Subtypen sind immer wieder Fragen zum Umgang mit den Typen gestellt worden\, wie bspw.: \n„Meine Mutter/Tochter/mein Chef/Sohn/Mitarbeiter/… ist Typ X und wir haben immer wieder diese eine Situation. Wie kann ich damit umgehen?“ \nWir möchten im Rahmen des Zoom-Meetings am 16.02.2022\, um 19.00 Uhr den Rahmen bieten\, solche situationsspezifische Fragen zu stellen und von den Teilnehmer*innen der entsprechenden Fixierung mögliche Antworten zu erhalten. \nWir freuen uns über zahlreiche Teilnahme\, sodass von allen Fixierungen Vertreter*innen dabei sind. \nWenn Ihr Euch mit einer Frage einbringen möchtet\, schreibt bitte eine Mail mit „Ich habe eine Frage an Typ X“. \nNora und Rolf werden den Abend moderieren. \nDen Zugangs-Link erhalten unsere Mitglieder via e-mail.
URL:https://enneagramm-lehrer.de/event/ennegramm-und-beziehung/
LOCATION:online
END:VEVENT
END:VCALENDAR